View In:
ArcGIS JavaScript
ArcGIS Online Map Viewer
ArcGIS Earth
ArcMap
View Footprint In:
ArcGIS Online Map Viewer
Service Description: Hurricance_Florence_2018/S1A_RGB_20180831_232254_232204
Name: Hurricance_Florence_2018/S1A_RGB_20180831_232254_232204
Description:
Single Fused Map Cache: false
Extent:
XMin: -82.77844351397616
YMin: 31.755182045658103
XMax: -78.60555624056538
YMax: 38.22216249654984
Spatial Reference: 4326
(4326)
Initial Extent:
XMin: -82.77844351397616
YMin: 31.755182045658103
XMax: -78.60555624056538
YMax: 38.22216249654984
Spatial Reference: 4326
(4326)
Full Extent:
XMin: -82.77844351397616
YMin: 31.755182045658103
XMax: -78.60555624056538
YMax: 38.22216249654984
Spatial Reference: 4326
(4326)
Pixel Size X: 3.158167920540967E-4
Pixel Size Y: 3.1581679205409675E-4
Band Count: 3
Pixel Type: U8
RasterFunction Infos: {"rasterFunctionInfos": [{
"name": "None",
"description": "",
"help": ""
}]}
Mensuration Capabilities: Basic
Has Histograms: false
Has Colormap: false
Has Multi Dimensions : false
Rendering Rule:
Min Scale: 0
Max Scale: 0
Copyright Text:
Service Data Type: esriImageServiceDataTypeRGB
Min Values: N/A
Max Values: N/A
Mean Values: N/A
Standard Deviation Values: N/A
Object ID Field:
Fields:
None
Default Mosaic Method: Center
Allowed Mosaic Methods:
SortField:
SortValue: null
Mosaic Operator: First
Default Compression Quality: 75
Default Resampling Method: Bilinear
Max Record Count: null
Max Image Height: 4100
Max Image Width: 15000
Max Download Image Count: null
Max Mosaic Image Count: null
Allow Raster Function: true
Allow Copy: true
Allow Analysis: true
Allow Compute TiePoints: false
Supports Statistics: false
Supports Advanced Queries: false
Use StandardizedQueries: true
Raster Type Infos:
Name: Raster Dataset
Description: Supports all ArcGIS Raster Datasets
Help:
Has Raster Attribute Table: false
Edit Fields Info: null
Ownership Based AccessControl For Rasters: null
Child Resources:
Info
Statistics
Key Properties
Legend
Raster Function Infos
Supported Operations:
Export Image
Identify
Measure
Compute Histograms
Compute Statistics Histograms
Get Samples
Compute Class Statistics
Query Boundary
Compute Pixel Location
Compute Angles
Validate
Project