View In:
ArcGIS JavaScript
ArcGIS Online Map Viewer
ArcGIS Earth
ArcMap
View Footprint In:
ArcGIS Online Map Viewer
Service Description: Hurricance_Florence_2018/S1A_RGB_20180909_225800_225800
Name: Hurricance_Florence_2018/S1A_RGB_20180909_225800_225800
Description:
Single Fused Map Cache: false
Extent:
XMin: -76.41050652462796
YMin: 33.95342283091867
XMax: -72.83624541682526
YMax: 37.41395175234931
Spatial Reference: 4326
(4326)
Initial Extent:
XMin: -76.41050652462796
YMin: 33.95342283091867
XMax: -72.83624541682526
YMax: 37.41395175234931
Spatial Reference: 4326
(4326)
Full Extent:
XMin: -76.41050652462796
YMin: 33.95342283091867
XMax: -72.83624541682526
YMax: 37.41395175234931
Spatial Reference: 4326
(4326)
Pixel Size X: 3.133118081874735E-4
Pixel Size Y: 3.133118081874734E-4
Band Count: 3
Pixel Type: U8
RasterFunction Infos: {"rasterFunctionInfos": [{
"name": "None",
"description": "",
"help": ""
}]}
Mensuration Capabilities: Basic
Has Histograms: false
Has Colormap: false
Has Multi Dimensions : false
Rendering Rule:
Min Scale: 0
Max Scale: 0
Copyright Text:
Service Data Type: esriImageServiceDataTypeRGB
Min Values: N/A
Max Values: N/A
Mean Values: N/A
Standard Deviation Values: N/A
Object ID Field:
Fields:
None
Default Mosaic Method: Center
Allowed Mosaic Methods:
SortField:
SortValue: null
Mosaic Operator: First
Default Compression Quality: 75
Default Resampling Method: Bilinear
Max Record Count: null
Max Image Height: 4100
Max Image Width: 15000
Max Download Image Count: null
Max Mosaic Image Count: null
Allow Raster Function: true
Allow Copy: true
Allow Analysis: true
Allow Compute TiePoints: false
Supports Statistics: false
Supports Advanced Queries: false
Use StandardizedQueries: true
Raster Type Infos:
Name: Raster Dataset
Description: Supports all ArcGIS Raster Datasets
Help:
Has Raster Attribute Table: false
Edit Fields Info: null
Ownership Based AccessControl For Rasters: null
Child Resources:
Info
Statistics
Key Properties
Legend
Raster Function Infos
Supported Operations:
Export Image
Identify
Measure
Compute Histograms
Compute Statistics Histograms
Get Samples
Compute Class Statistics
Query Boundary
Compute Pixel Location
Compute Angles
Validate
Project