View In:
ArcGIS JavaScript
ArcGIS Online Map Viewer
ArcGIS Earth
ArcMap
View Footprint In:
ArcGIS Online Map Viewer
Service Description: Black Marble HD imagery of Fort Bragg after Hurricane Florence
Name: Hurricance_Florence_2018/blackmarble_hd_pre_fayetteville
Description: Black Marble HD imagery of Fort Bragg after Hurricane Florence
Single Fused Map Cache: false
Extent:
XMin: -8832057.41706286
YMin: 4127549.6985026486
XMax: -8734467.329049118
YMax: 4220633.6583567625
Spatial Reference: 102100
(3857)
Initial Extent:
XMin: -8832057.41706286
YMin: 4127549.6985026486
XMax: -8734467.329049118
YMax: 4220633.6583567625
Spatial Reference: 102100
(3857)
Full Extent:
XMin: -8832057.41706286
YMin: 4127549.6985026486
XMax: -8734467.329049118
YMax: 4220633.6583567625
Spatial Reference: 102100
(3857)
Pixel Size X: 12.368832447876242
Pixel Size Y: 12.368832447876242
Band Count: 1
Pixel Type: F32
RasterFunction Infos: {"rasterFunctionInfos": [
{
"name": "None",
"description": "Make a Raster or Raster Dataset into a Function Raster Dataset.",
"help": ""
},
{
"name": "blackmarbleHD",
"description": "A raster function template.",
"help": ""
}
]}
Mensuration Capabilities: Basic
Has Histograms: false
Has Colormap: false
Has Multi Dimensions : false
Rendering Rule:
Min Scale: 0
Max Scale: 0
Copyright Text: NASA Black Marble Team
Service Data Type: esriImageServiceDataTypeGeneric
Min Values: N/A
Max Values: N/A
Mean Values: N/A
Standard Deviation Values: N/A
Object ID Field:
Fields:
None
Default Mosaic Method: Center
Allowed Mosaic Methods:
SortField:
SortValue: null
Mosaic Operator: First
Default Compression Quality: 75
Default Resampling Method: Bilinear
Max Record Count: null
Max Image Height: 4100
Max Image Width: 15000
Max Download Image Count: null
Max Mosaic Image Count: null
Allow Raster Function: true
Allow Copy: true
Allow Analysis: true
Allow Compute TiePoints: false
Supports Statistics: false
Supports Advanced Queries: false
Use StandardizedQueries: true
Raster Type Infos:
Name: Raster Dataset
Description: Supports all ArcGIS Raster Datasets
Help:
Has Raster Attribute Table: false
Edit Fields Info: null
Ownership Based AccessControl For Rasters: null
Child Resources:
Info
Statistics
Key Properties
Legend
Raster Function Infos
Supported Operations:
Export Image
Identify
Measure
Compute Histograms
Compute Statistics Histograms
Get Samples
Compute Class Statistics
Query Boundary
Compute Pixel Location
Compute Angles
Validate
Project