View In:
ArcGIS JavaScript
ArcGIS Online Map Viewer
ArcGIS Earth
ArcMap
View Footprint In:
ArcGIS Online Map Viewer
Service Description: Hurricane_Lane_2018/S1B_water_extents_20180824_042950UTC
Name: Hurricane_Lane_2018/S1B_water_extents_20180824_042950UTC
Description:
Single Fused Map Cache: false
Extent:
XMin: -157.51503830928382
YMin: 18.026096853513373
XMax: -154.18635796829543
YMax: 23.040394043374025
Spatial Reference: 4326
(4326)
Initial Extent:
XMin: -157.51503830928382
YMin: 18.026096853513373
XMax: -154.18635796829543
YMax: 23.040394043374025
Spatial Reference: 4326
(4326)
Full Extent:
XMin: -157.51503830928382
YMin: 18.026096853513373
XMax: -154.18635796829543
YMax: 23.040394043374025
Spatial Reference: 4326
(4326)
Pixel Size X: 2.799562944481412E-4
Pixel Size Y: 2.7995629444814093E-4
Band Count: 1
Pixel Type: U8
RasterFunction Infos: {"rasterFunctionInfos": [
{
"name": "None",
"description": "Make a Raster or Raster Dataset into a Function Raster Dataset.",
"help": ""
},
{
"name": "SARWaterExtentUniqueValuesLegend_las",
"description": "A raster function template.",
"help": ""
}
]}
Mensuration Capabilities: Basic
Has Histograms: true
Has Colormap: false
Has Multi Dimensions : false
Rendering Rule:
Min Scale: 0
Max Scale: 0
Copyright Text:
Service Data Type: esriImageServiceDataTypeGeneric
Min Values: 0
Max Values: 3
Mean Values: 0.0023288309137513
Standard Deviation Values: 0.058514949178866
Object ID Field:
Fields:
None
Default Mosaic Method: Center
Allowed Mosaic Methods:
SortField:
SortValue: null
Mosaic Operator: First
Default Compression Quality: 75
Default Resampling Method: Bilinear
Max Record Count: null
Max Image Height: 4100
Max Image Width: 15000
Max Download Image Count: null
Max Mosaic Image Count: null
Allow Raster Function: true
Allow Copy: true
Allow Analysis: true
Allow Compute TiePoints: false
Supports Statistics: false
Supports Advanced Queries: false
Use StandardizedQueries: true
Raster Type Infos:
Name: Raster Dataset
Description: Supports all ArcGIS Raster Datasets
Help:
Has Raster Attribute Table: true
Edit Fields Info: null
Ownership Based AccessControl For Rasters: null
Child Resources:
Info
Raster Attribute Table
Histograms
Statistics
Key Properties
Legend
Raster Function Infos
Supported Operations:
Export Image
Identify
Measure
Compute Histograms
Compute Statistics Histograms
Get Samples
Compute Class Statistics
Query Boundary
Compute Pixel Location
Compute Angles
Validate
Project