View In:
  ArcGIS JavaScript
  ArcGIS Online Map Viewer
  ArcGIS Earth
  ArcMap
View Footprint In:
  ArcGIS Online Map Viewer
Service Description:  Purpose/Summary: From NASA Black Marble product suite, the images of nighttime lights in Hurricane Florence ROI areas are based on data captured by the Suomi NPP satellite, with an equator crossing time of approximately 1:30 am local time. The data was acquired by the Day/Night Band (DNB) of the Visible Infrared Imaging Radiometer Suite (VIIRS), which detects light in a range of wavelengths from green to near-infrared, including city lights and lights from other activity. The NASA Black Marble standard product is available on a daily basis within 3-5 hours after acquisition at 500m spatial resolution from January 2012 to present. The Black Marble high definition (HD) product is being developed at 30m spatial resolution with data from other earth observing satellites (e.g., Landsat-8, Sentinel-2) and ancillary data sources (street, building, and other GIS layers). The Black Marble standard and HD products are continuously being produced and delivered for the latest day available.
Suggested Usage:In the aftermath of Hurricane Michael, widespread power outages were reported across Florida's panhandle. In preparations for this event NASA’s Disasters program employed one of its core capabilities, NASA’s Black Marble product suite, to enable immediate access to data documenting disruptions in energy infrastructure and utility services. In these images, areas in red are in high-light condition, while areas in black are in low-light condition before the arrival of Hurricane Micheal. It is recommended to use this product for mapping of power outages.
Satellite/Sensor: Suomi NPP/VIIRS; 30 m resolution
Credit/Acknowledgements: NASA Black Marble team
Learn more about NASA Black Marble Product Suite: https://viirsland.gsfc.nasa.gov/Products/NASA/BlackMarble.html
Explore the data:
NASA's Worldview:
https://worldview.earthdata.nasa.gov/?p=geographic&l=VIIRS_SNPP_CorrectedReflectance_TrueColor(hidden),MODIS_Aqua_CorrectedReflectance_TrueColor(hidden),MODIS_Terra_CorrectedReflectance_TrueColor(hidden),VIIRS_Black_Marble,Reference_Labels(hidden),Reference_Features(hidden),Coastlines(hidden),VIIRS_SNPP_DayNightBand_ENCC(hidden),VIIRS_Night_Lights(hidden)&t=2016-12-25&z=3&v=-33.8537999020307,18.157836234850183,62.19307509796927,63.20682048577659
Voyager in Google Earth:
https://earth.google.com/web/@27.44405477,-84.76930462,9.85288937a,8916363.81451868d,35y,0h,0t,0r/data=CisSKRIgMGY3ZTJkYzdlOGExMTFlNjk5MGQ2ZjgxOGQ2OWE2ZTciBWVhcnRo
References:
Román, M.O., Wang, Z., Sun, Q., Kalb, V., Miller, S.D., Molthan, A., Schultz, L., Bell, J., Stokes, E.C., Pandey, B. and Seto, K.C., et al. (2018). NASA's Black Marble nighttime lights product suite. Remote Sensing of Environment, 210, 113-143. doi:10.1016/j.rse.2018.03.017.
Name:  Hurricane_Michael_2018/black_marble_hd_post_20181012
Description:  Purpose/Summary: From NASA Black Marble product suite, the images of nighttime lights in Hurricane Florence ROI areas are based on data captured by the Suomi NPP satellite, with an equator crossing time of approximately 1:30 am local time. The data was acquired by the Day/Night Band (DNB) of the Visible Infrared Imaging Radiometer Suite (VIIRS), which detects light in a range of wavelengths from green to near-infrared, including city lights and lights from other activity. The NASA Black Marble standard product is available on a daily basis within 3-5 hours after acquisition at 500m spatial resolution from January 2012 to present. The Black Marble high definition (HD) product is being developed at 30m spatial resolution with data from other earth observing satellites (e.g., Landsat-8, Sentinel-2) and ancillary data sources (street, building, and other GIS layers). The Black Marble standard and HD products are continuously being produced and delivered for the latest day available.
Suggested Usage:In the aftermath of Hurricane Michael, widespread power outages were reported across Florida's panhandle. In preparations for this event NASA’s Disasters program employed one of its core capabilities, NASA’s Black Marble product suite, to enable immediate access to data documenting disruptions in energy infrastructure and utility services. In these images, areas in red are in high-light condition, while areas in black are in low-light condition before the arrival of Hurricane Micheal. It is recommended to use this product for mapping of power outages.
Satellite/Sensor: Suomi NPP/VIIRS; 30 m resolution
Credit/Acknowledgements: NASA Black Marble team
Learn more about NASA Black Marble Product Suite: https://viirsland.gsfc.nasa.gov/Products/NASA/BlackMarble.html
Explore the data:
NASA's Worldview:
https://worldview.earthdata.nasa.gov/?p=geographic&l=VIIRS_SNPP_CorrectedReflectance_TrueColor(hidden),MODIS_Aqua_CorrectedReflectance_TrueColor(hidden),MODIS_Terra_CorrectedReflectance_TrueColor(hidden),VIIRS_Black_Marble,Reference_Labels(hidden),Reference_Features(hidden),Coastlines(hidden),VIIRS_SNPP_DayNightBand_ENCC(hidden),VIIRS_Night_Lights(hidden)&t=2016-12-25&z=3&v=-33.8537999020307,18.157836234850183,62.19307509796927,63.20682048577659
Voyager in Google Earth:
https://earth.google.com/web/@27.44405477,-84.76930462,9.85288937a,8916363.81451868d,35y,0h,0t,0r/data=CisSKRIgMGY3ZTJkYzdlOGExMTFlNjk5MGQ2ZjgxOGQ2OWE2ZTciBWVhcnRo
References:
Román, M.O., Wang, Z., Sun, Q., Kalb, V., Miller, S.D., Molthan, A., Schultz, L., Bell, J., Stokes, E.C., Pandey, B. and Seto, K.C., et al. (2018). NASA's Black Marble nighttime lights product suite. Remote Sensing of Environment, 210, 113-143. doi:10.1016/j.rse.2018.03.017.
Single Fused Map Cache:  false
Extent: 
XMin: -85.74818420410156
YMin: 29.880226495217357
XMax: -85.34018419956556
YMax: 30.289670944213867
Spatial Reference: 4326
 (4326)
Initial Extent:
XMin: -85.74818420410156
YMin: 29.880226495217357
XMax: -85.34018419956556
YMax: 30.289670944213867
Spatial Reference: 4326
 (4326)
Full Extent:
XMin: -85.74818420410156
YMin: 29.880226495217357
XMax: -85.34018419956556
YMax: 30.289670944213867
Spatial Reference: 4326
 (4326)
Pixel Size X: 1.1111111234640703E-4
Pixel Size Y:  1.1111111234640703E-4
Band Count: 1
Pixel Type: F32
RasterFunction Infos:  {"rasterFunctionInfos": [
 {
  "name": "blackmarbleHD",
  "description": "A raster function template.",
  "help": ""
 },
 {
  "name": "None",
  "description": "",
  "help": ""
 }
]}
Mensuration Capabilities: Basic
Has Histograms:  false
Has Colormap:  false
Has Multi Dimensions :  false
Rendering Rule: 
Min Scale:  0
Max Scale:  0
Copyright Text:  NASA Black Marble Team
Service Data Type:  esriImageServiceDataTypeGeneric
Min Values:  N/A
Max Values:  N/A
Mean Values:  N/A
Standard Deviation Values:  N/A
Object ID Field:  OBJECTID
Fields: 
- 
OBJECTID
(
type: esriFieldTypeOID, alias: OBJECTID
)
- 
Shape
(
type: esriFieldTypeGeometry, alias: Shape
)
- 
Name
(
type: esriFieldTypeString, alias: Name, length: 200
)
- 
MinPS
(
type: esriFieldTypeDouble, alias: MinPS
)
- 
MaxPS
(
type: esriFieldTypeDouble, alias: MaxPS
)
- 
LowPS
(
type: esriFieldTypeDouble, alias: LowPS
)
- 
HighPS
(
type: esriFieldTypeDouble, alias: HighPS
)
- 
Category
(
type: esriFieldTypeInteger, alias: Category
, Coded Values: 
[0: Unknown]
, [1: Primary]
, [2: Overview]
, ...6 more...
)
- 
Tag
(
type: esriFieldTypeString, alias: Tag, length: 100
)
- 
GroupName
(
type: esriFieldTypeString, alias: GroupName, length: 100
)
- 
ProductName
(
type: esriFieldTypeString, alias: ProductName, length: 100
)
- 
CenterX
(
type: esriFieldTypeDouble, alias: CenterX
)
- 
CenterY
(
type: esriFieldTypeDouble, alias: CenterY
)
- 
ZOrder
(
type: esriFieldTypeInteger, alias: ZOrder
)
- 
Shape_Length
(
type: esriFieldTypeDouble, alias: Shape_Length
)
- 
Shape_Area
(
type: esriFieldTypeDouble, alias: Shape_Area
)
Default Mosaic Method: Northwest
Allowed Mosaic Methods:  NorthWest,Center,LockRaster,ByAttribute,Nadir,Viewpoint,Seamline,None
SortField:  
SortValue:  null
Mosaic Operator:  First
Default Compression Quality:  75
Default Resampling Method:  Bilinear
Max Record Count:  1000
Max Image Height:  4100
Max Image Width:  15000
Max Download Image Count:  20
Max Mosaic Image Count:  20
Allow Raster Function:  true
Allow Copy:  true
Allow Analysis:  true
Allow Compute TiePoints:  false
Supports Statistics:  true
Supports Advanced Queries:  true
Use StandardizedQueries:  true
Raster Type Infos: 
Name: Raster Dataset
Description: Supports all ArcGIS Raster Datasets
Help: 
Has Raster Attribute Table: false
Edit Fields Info:  null
Ownership Based AccessControl For Rasters:  null
Child Resources:
  
Info
  Statistics
  Key Properties
  Legend
  Raster Function Infos
Supported Operations:
  
Export Image
  Query
  Identify
  Measure
  Compute Histograms
  Compute Statistics Histograms
  Get Samples
  Compute Class Statistics
  Query Boundary
  Compute Pixel Location
  Compute Angles
  Validate
  Project