View In:
  ArcGIS JavaScript
  ArcGIS Online Map Viewer
  ArcGIS Earth
  ArcMap
View Footprint In:
  ArcGIS Online Map Viewer
Service Description:  Purpose/Summary: Inundation Estimate from Global Flood Monitoring System (GFMS) based on surface and river routing models using NASA Global Precipitation Measurement (GPM) Integrated Multi-Satellite Retrievals for GPM (IMERG) precipitation information. GFMS covers the globe from 50N-50S. This product shows the near real time flooding every 3 hours at 1 km resolution.
Suggested Usage: This product can be used to estimate flood extent (and depth) and for comparison with other estimates from satellite and ground observations.
Satellite/Sensor:
Model calculations are at 1km resolution and 3-hours; satellite precipitation (GPM IMERG) is input to models at ~12 km and 3-hrs.
Credits/Acknowledgements: Global Flood Monitoring System (GFMS), University of Maryland
Name:  Hurricane_Michael_2018/gfms_nrt_1km_innundation
Description:  Purpose/Summary: Inundation Estimate from Global Flood Monitoring System (GFMS) based on surface and river routing models using NASA Global Precipitation Measurement (GPM) Integrated Multi-Satellite Retrievals for GPM (IMERG) precipitation information. GFMS covers the globe from 50N-50S. This product shows the near real time flooding every 3 hours at 1 km resolution.
Suggested Usage: This product can be used to estimate flood extent (and depth) and for comparison with other estimates from satellite and ground observations.
Satellite/Sensor:
Model calculations are at 1km resolution and 3-hours; satellite precipitation (GPM IMERG) is input to models at ~12 km and 3-hrs.
Credits/Acknowledgements: Global Flood Monitoring System (GFMS), University of Maryland
Single Fused Map Cache:  false
Extent: 
XMin: -89.0028035
YMin: 28.991906499999995
XMax: -82.00560349999999
YMax: 32.990306499999996
Spatial Reference: 4326
 (4326)
Initial Extent:
XMin: -89.0028035
YMin: 28.991906499999995
XMax: -82.00560349999999
YMax: 32.990306499999996
Spatial Reference: 4326
 (4326)
Full Extent:
XMin: -89.0028035
YMin: 28.991906499999995
XMax: -82.00560349999999
YMax: 32.990306499999996
Spatial Reference: 4326
 (4326)
Time Info:
Start Time Field: Date
End Time Field: Date
Time Extent:
[2018/10/09 00:00:00 UTC, 2018/10/12 03:00:00 UTC]
Time Reference:
N/A
Pixel Size X: 0.008330000000000008
Pixel Size Y:  0.00833
Band Count: 1
Pixel Type: F32
RasterFunction Infos:  {"rasterFunctionInfos": [
 {
  "name": "gfms_nrt_1km",
  "description": "A raster function template.",
  "help": ""
 },
 {
  "name": "None",
  "description": "A No-Op Function.",
  "help": ""
 }
]}
Mensuration Capabilities: Basic
Has Histograms:  false
Has Colormap:  false
Has Multi Dimensions :  false
Rendering Rule: 
Min Scale:  0
Max Scale:  0
Copyright Text:  
Service Data Type:  esriImageServiceDataTypeGeneric
Min Values:  N/A
Max Values:  N/A
Mean Values:  N/A
Standard Deviation Values:  N/A
Object ID Field:  OBJECTID
Fields: 
- 
OBJECTID
(
type: esriFieldTypeOID, alias: OBJECTID
)
- 
Shape
(
type: esriFieldTypeGeometry, alias: Shape
)
- 
Name
(
type: esriFieldTypeString, alias: Name, length: 200
)
- 
MinPS
(
type: esriFieldTypeDouble, alias: MinPS
)
- 
MaxPS
(
type: esriFieldTypeDouble, alias: MaxPS
)
- 
LowPS
(
type: esriFieldTypeDouble, alias: LowPS
)
- 
HighPS
(
type: esriFieldTypeDouble, alias: HighPS
)
- 
Category
(
type: esriFieldTypeInteger, alias: Category
, Coded Values: 
[0: Unknown]
, [1: Primary]
, [2: Overview]
, ...6 more...
)
- 
Tag
(
type: esriFieldTypeString, alias: Tag, length: 100
)
- 
GroupName
(
type: esriFieldTypeString, alias: GroupName, length: 100
)
- 
ProductName
(
type: esriFieldTypeString, alias: ProductName, length: 100
)
- 
CenterX
(
type: esriFieldTypeDouble, alias: CenterX
)
- 
CenterY
(
type: esriFieldTypeDouble, alias: CenterY
)
- 
ZOrder
(
type: esriFieldTypeInteger, alias: ZOrder
)
- 
Shape_Length
(
type: esriFieldTypeDouble, alias: Shape_Length
)
- 
Shape_Area
(
type: esriFieldTypeDouble, alias: Shape_Area
)
- 
Date
(
type: esriFieldTypeDate, alias: Date, length: 8
)
Default Mosaic Method: Northwest
Allowed Mosaic Methods:  NorthWest,Center,LockRaster,ByAttribute,Nadir,Viewpoint,Seamline,None
SortField:  
SortValue:  null
Mosaic Operator:  First
Default Compression Quality:  75
Default Resampling Method:  Bilinear
Max Record Count:  1000
Max Image Height:  4100
Max Image Width:  15000
Max Download Image Count:  20
Max Mosaic Image Count:  20
Allow Raster Function:  true
Allow Copy:  true
Allow Analysis:  true
Allow Compute TiePoints:  false
Supports Statistics:  true
Supports Advanced Queries:  true
Use StandardizedQueries:  true
Raster Type Infos: 
Name: Raster Dataset
Description: Supports all ArcGIS Raster Datasets
Help: 
Has Raster Attribute Table: false
Edit Fields Info:  null
Ownership Based AccessControl For Rasters:  null
Child Resources:
  
Info
  Statistics
  Key Properties
  Legend
  Raster Function Infos
Supported Operations:
  
Export Image
  Query
  Identify
  Measure
  Compute Histograms
  Compute Statistics Histograms
  Get Samples
  Compute Class Statistics
  Query Boundary
  Compute Pixel Location
  Compute Angles
  Validate
  Project