View In:
  ArcGIS JavaScript
  ArcGIS Online Map Viewer
  ArcGIS Earth
  ArcMap
View Footprint In:
  ArcGIS Online Map Viewer
Service Description:  Purpose/Summary: The True Color RGB composite provides a product of how the surface would look to the naked eye from space. The RGB is created using the red, green, and blue channels of the respective instrument. This product contains pre-event images from September 15, 22, 24, 29 and October 6, 2018. Suggested Usage: The True Color RGB provides a product of how the surface would look to the naked eye from space. The True Color RGB is produced using the 3 visible wavelength bands (red, green, and blue) from the respective sensor. Some minor atmospheric corrections have occurred. Image produced on 9/26/2018. Satellite/Sensor: Landsat-8 Operational Land Imager (OLI); 30m resolution Credit/Acknowledgments: USGS; NASA/MSFC
Name:  Hurricane_Michael_2018/landsat8_rgb_20181017
Description:  Purpose/Summary: The True Color RGB composite provides a product of how the surface would look to the naked eye from space. The RGB is created using the red, green, and blue channels of the respective instrument. This product contains pre-event images from September 15, 22, 24, 29 and October 6, 2018. Suggested Usage: The True Color RGB provides a product of how the surface would look to the naked eye from space. The True Color RGB is produced using the 3 visible wavelength bands (red, green, and blue) from the respective sensor. Some minor atmospheric corrections have occurred. Image produced on 9/26/2018. Satellite/Sensor: Landsat-8 Operational Land Imager (OLI); 30m resolution Credit/Acknowledgments: USGS; NASA/MSFC
Single Fused Map Cache:  false
Extent: 
XMin: -85.49112290099957
YMin: 27.795858096835676
XMax: -82.31728161440604
YMax: 32.82791751329497
Spatial Reference: 4326
 (4326)
Initial Extent:
XMin: -85.49112290099957
YMin: 27.795858096835676
XMax: -82.31728161440604
YMax: 32.82791751329497
Spatial Reference: 4326
 (4326)
Full Extent:
XMin: -85.49112290099957
YMin: 27.795858096835676
XMax: -82.31728161440604
YMax: 32.82791751329497
Spatial Reference: 4326
 (4326)
Pixel Size X: 2.9504892503425944E-4
Pixel Size Y:  2.950489250342594E-4
Band Count: 3
Pixel Type: U8
RasterFunction Infos:  {"rasterFunctionInfos": [{
 "name": "None",
 "description": "",
 "help": ""
}]}
Mensuration Capabilities: Basic
Has Histograms:  false
Has Colormap:  false
Has Multi Dimensions :  false
Rendering Rule: 
Min Scale:  0
Max Scale:  0
Copyright Text:  USGS, NASA, MSFC
Service Data Type:  esriImageServiceDataTypeRGB
Min Values:  N/A
Max Values:  N/A
Mean Values:  N/A
Standard Deviation Values:  N/A
Object ID Field:  
Fields: 
None
Default Mosaic Method:  Center
Allowed Mosaic Methods:  
SortField:  
SortValue:  null
Mosaic Operator:  First
Default Compression Quality:  75
Default Resampling Method:  Bilinear
Max Record Count:  null
Max Image Height:  4100
Max Image Width:  15000
Max Download Image Count:  null
Max Mosaic Image Count:  null
Allow Raster Function:  true
Allow Copy:  true
Allow Analysis:  true
Allow Compute TiePoints:  false
Supports Statistics:  false
Supports Advanced Queries:  false
Use StandardizedQueries:  true
Raster Type Infos: 
Name: Raster Dataset
Description: Supports all ArcGIS Raster Datasets
Help: 
Has Raster Attribute Table: false
Edit Fields Info:  null
Ownership Based AccessControl For Rasters:  null
Child Resources:
  
Info
  Statistics
  Key Properties
  Legend
  Raster Function Infos
Supported Operations:
  
Export Image
  Identify
  Measure
  Compute Histograms
  Compute Statistics Histograms
  Get Samples
  Compute Class Statistics
  Query Boundary
  Compute Pixel Location
  Compute Angles
  Validate
  Project