View In:
  ArcGIS JavaScript
  ArcGIS Online Map Viewer
  ArcGIS Earth
  ArcMap
View Footprint In:
  ArcGIS Online Map Viewer
Service Description:  Purpose/Summary: The Alaska Satellite Facility has developed a false color Red, Green, Blue (RGB) composite image of the Sentinel 1B Synthetic Aperture Radar (SAR) instrument which assigns the co- and cross-polarization information to a channel in the RGB composite. When used to support a flooding event, areas in blue denotes water present at the time of the satellite overpass prior to the landfall of Hurricane Michael. The Sentinel-1 data was acquired on October 13, 2018 at 11:24:04 UTC. Suggested Usage: In this image, water appears in blue, vegetated areas in shades of green and urban areas in bright orange. It is recommended to use this product with ancillary information after the landfall of the hurricane to derive flooded areas. Satellite/Sensor: Synthetic Aperture Radar on European Space Agency's (ESA) Copernicus Sentinel-1B satellite; 30 m resolution Credit/Acknowledgements: Sentinel data used in this derived product, contains modified Copernicus Sentinel data (2018), processed by ESA, Alaska Satellite Facility, and NASA Marshall Space Flight Center.
Name:  Hurricane_Michael_2018/sentinel1B_rgb_20181013_112404
Description:  Purpose/Summary: The Alaska Satellite Facility has developed a false color Red, Green, Blue (RGB) composite image of the Sentinel 1B Synthetic Aperture Radar (SAR) instrument which assigns the co- and cross-polarization information to a channel in the RGB composite. When used to support a flooding event, areas in blue denotes water present at the time of the satellite overpass prior to the landfall of Hurricane Michael. The Sentinel-1 data was acquired on October 13, 2018 at 11:24:04 UTC. Suggested Usage: In this image, water appears in blue, vegetated areas in shades of green and urban areas in bright orange. It is recommended to use this product with ancillary information after the landfall of the hurricane to derive flooded areas. Satellite/Sensor: Synthetic Aperture Radar on European Space Agency's (ESA) Copernicus Sentinel-1B satellite; 30 m resolution Credit/Acknowledgements: Sentinel data used in this derived product, contains modified Copernicus Sentinel data (2018), processed by ESA, Alaska Satellite Facility, and NASA Marshall Space Flight Center.
Single Fused Map Cache:  false
Extent: 
XMin: -83.53753326636323
YMin: 26.641078687191417
XMax: -79.61971716582347
YMax: 33.11796736541737
Spatial Reference: 4326
 (4326)
Initial Extent:
XMin: -83.53753326636323
YMin: 26.641078687191417
XMax: -79.61971716582347
YMax: 33.11796736541737
Spatial Reference: 4326
 (4326)
Full Extent:
XMin: -83.53753326636323
YMin: 26.641078687191417
XMax: -79.61971716582347
YMax: 33.11796736541737
Spatial Reference: 4326
 (4326)
Pixel Size X: 3.01741843849334E-4
Pixel Size Y:  3.01741843849334E-4
Band Count: 3
Pixel Type: U8
RasterFunction Infos:  {"rasterFunctionInfos": [{
 "name": "None",
 "description": "",
 "help": ""
}]}
Mensuration Capabilities: Basic
Has Histograms:  false
Has Colormap:  false
Has Multi Dimensions :  false
Rendering Rule: 
Min Scale:  0
Max Scale:  0
Copyright Text:  NASA Disasters/MSFC/ASF, ESA Copernicus
Service Data Type:  esriImageServiceDataTypeRGB
Min Values:  N/A
Max Values:  N/A
Mean Values:  N/A
Standard Deviation Values:  N/A
Object ID Field:  
Fields: 
None
Default Mosaic Method:  Center
Allowed Mosaic Methods:  
SortField:  
SortValue:  null
Mosaic Operator:  First
Default Compression Quality:  75
Default Resampling Method:  Bilinear
Max Record Count:  null
Max Image Height:  4100
Max Image Width:  15000
Max Download Image Count:  null
Max Mosaic Image Count:  null
Allow Raster Function:  true
Allow Copy:  true
Allow Analysis:  true
Allow Compute TiePoints:  false
Supports Statistics:  false
Supports Advanced Queries:  false
Use StandardizedQueries:  true
Raster Type Infos: 
Name: Raster Dataset
Description: Supports all ArcGIS Raster Datasets
Help: 
Has Raster Attribute Table: false
Edit Fields Info:  null
Ownership Based AccessControl For Rasters:  null
Child Resources:
  
Info
  Statistics
  Key Properties
  Legend
  Raster Function Infos
Supported Operations:
  
Export Image
  Identify
  Measure
  Compute Histograms
  Compute Statistics Histograms
  Get Samples
  Compute Class Statistics
  Query Boundary
  Compute Pixel Location
  Compute Angles
  Validate
  Project