View In:
  ArcGIS JavaScript
  ArcGIS Online Map Viewer
  ArcGIS Earth
  ArcMap
View Footprint In:
  ArcGIS Online Map Viewer
Service Description:  Purpose/Summary:
Using data collected from the European Space Agency's (ESA) Sentinel-1B satellite, scientists at NASA's Marshall Space Flight Center (MSFC) are able to create maps of the extent of water due to the effects of Hurricane Michael. The synthetic aperture radar (SAR) aboard Sentinel-1B allows for the detection of water on the surface when clouds are present as well as during the night time hours.
Suggested Usage:
This product shows three areas: known reference water (blue), anomalous water identified outside the known reference water areas (red), and water detected in known wetlands or barren land (tan). The areas in red would be the likely flood waters due to the effects of Hurricane Michael.
Satellite/Sensor/Resolution:
Synthetic Aperture Radar (SAR) on European Space Agency's (ESA) Copernicus Sentinel-1A satellite; 30 m resolution
Credits/Acknowledgements:
This product contains modified Copernicus Sentinel data (2018), processed by ESA; USGS; NASA/MSFC
Name:  Hurricane_Michael_2018/sentinel_1B_water_extent_20181010_233559_233718
Description:  Purpose/Summary:
Using data collected from the European Space Agency's (ESA) Sentinel-1B satellite, scientists at NASA's Marshall Space Flight Center (MSFC) are able to create maps of the extent of water due to the effects of Hurricane Michael. The synthetic aperture radar (SAR) aboard Sentinel-1B allows for the detection of water on the surface when clouds are present as well as during the night time hours.
Suggested Usage:
This product shows three areas: known reference water (blue), anomalous water identified outside the known reference water areas (red), and water detected in known wetlands or barren land (tan). The areas in red would be the likely flood waters due to the effects of Hurricane Michael.
Satellite/Sensor/Resolution:
Synthetic Aperture Radar (SAR) on European Space Agency's (ESA) Copernicus Sentinel-1A satellite; 30 m resolution
Credits/Acknowledgements:
This product contains modified Copernicus Sentinel data (2018), processed by ESA; USGS; NASA/MSFC
Single Fused Map Cache:  false
Extent: 
XMin: -85.51209853328291
YMin: 26.530842811083925
XMax: -81.77088164310572
YMax: 32.47380341056669
Spatial Reference: 4326
 (4326)
Initial Extent:
XMin: -85.51209853328291
YMin: 26.530842811083925
XMax: -81.77088164310572
YMax: 32.47380341056669
Spatial Reference: 4326
 (4326)
Full Extent:
XMin: -85.51209853328291
YMin: 26.530842811083925
XMax: -81.77088164310572
YMax: 32.47380341056669
Spatial Reference: 4326
 (4326)
Pixel Size X: 2.9123594038433636E-4
Pixel Size Y:  2.9123594038433614E-4
Band Count: 1
Pixel Type: U8
RasterFunction Infos:  {"rasterFunctionInfos": [
 {
  "name": "SARWaterExtentUniqueValuesLegend_las",
  "description": "A raster function template.",
  "help": ""
 },
 {
  "name": "None",
  "description": "",
  "help": ""
 }
]}
Mensuration Capabilities: Basic
Has Histograms:  false
Has Colormap:  false
Has Multi Dimensions :  false
Rendering Rule: 
Min Scale:  0
Max Scale:  0
Copyright Text:  NASA Disasters, NASA MSFC, ESA Copernicus
Service Data Type:  esriImageServiceDataTypeGeneric
Min Values:  N/A
Max Values:  N/A
Mean Values:  N/A
Standard Deviation Values:  N/A
Object ID Field:  
Fields: 
None
Default Mosaic Method:  Center
Allowed Mosaic Methods:  
SortField:  
SortValue:  null
Mosaic Operator:  First
Default Compression Quality:  75
Default Resampling Method:  Nearest
Max Record Count:  null
Max Image Height:  4100
Max Image Width:  15000
Max Download Image Count:  null
Max Mosaic Image Count:  null
Allow Raster Function:  true
Allow Copy:  true
Allow Analysis:  true
Allow Compute TiePoints:  false
Supports Statistics:  false
Supports Advanced Queries:  false
Use StandardizedQueries:  true
Raster Type Infos: 
Name: Raster Dataset
Description: Supports all ArcGIS Raster Datasets
Help: 
Has Raster Attribute Table: false
Edit Fields Info:  null
Ownership Based AccessControl For Rasters:  null
Child Resources:
  
Info
  Statistics
  Key Properties
  Legend
  Raster Function Infos
Supported Operations:
  
Export Image
  Identify
  Measure
  Compute Histograms
  Compute Statistics Histograms
  Get Samples
  Compute Class Statistics
  Query Boundary
  Compute Pixel Location
  Compute Angles
  Validate
  Project