View In:
  ArcGIS JavaScript
  ArcGIS Online Map Viewer
  ArcGIS Earth
  ArcMap
View Footprint In:
  ArcGIS Online Map Viewer
Service Description:  Purpose/Summary: NASA’s Short-term Prediction Research and Transition (SPoRT) Center at Marshall produces false color composites of Suomi-NPP VIIRS instrument day night band (DNB) radiance and infrared cloud and land surface temperatures (M15). DNB imagery is assigned to red and green channels and brightness temperatures to blue shades, allowing a combined display of nighttime lights, fires, reflected moonlight and occasional lightning in shades of yellow (new moon) to white (full moon) along with blue tinting of cloud imagery. This color combination is based upon usage developed by the Naval Research Lab and shared with partners in NOAA’s National Weather Service. VIIRS DNB image produced October 15, 2018 at 07:30 UTC. Suggested Usage: In this image, city lights appear in bright shades of yellow to white when not obscured by clouds (shades of blue to white). Visual comparisons of pre- and post-event scenes allow for subjective identification of where lights are missing as a result of disaster impacts on local infrastructure that have caused damages to structures or utilities. Satellite/Sensor: Suomi National Polar-Orbiting Partnership (S-NPP) Visible Infrared Imaging Radiometer Suite (VIIRS) use of the day-night band and M15 thermal infrared band. S-NPP is a joint mission between NASA and NOAA. Similar capabilities are available from the NOAA-20 mission. Resolution: 750 m Credit/Acknowledgements: False color RGB products from Suomi-NPP VIIRS were generated by NASA’s Short-term Prediction Research and Transition (SPoRT) Center at Marshall Space Flight Center in Huntsville, Alabama.
Name:  Hurricane_Michael_2018/viirs_dnb_20181015_0730
Description:  Purpose/Summary: NASA’s Short-term Prediction Research and Transition (SPoRT) Center at Marshall produces false color composites of Suomi-NPP VIIRS instrument day night band (DNB) radiance and infrared cloud and land surface temperatures (M15). DNB imagery is assigned to red and green channels and brightness temperatures to blue shades, allowing a combined display of nighttime lights, fires, reflected moonlight and occasional lightning in shades of yellow (new moon) to white (full moon) along with blue tinting of cloud imagery. This color combination is based upon usage developed by the Naval Research Lab and shared with partners in NOAA’s National Weather Service. VIIRS DNB image produced October 15, 2018 at 07:30 UTC. Suggested Usage: In this image, city lights appear in bright shades of yellow to white when not obscured by clouds (shades of blue to white). Visual comparisons of pre- and post-event scenes allow for subjective identification of where lights are missing as a result of disaster impacts on local infrastructure that have caused damages to structures or utilities. Satellite/Sensor: Suomi National Polar-Orbiting Partnership (S-NPP) Visible Infrared Imaging Radiometer Suite (VIIRS) use of the day-night band and M15 thermal infrared band. S-NPP is a joint mission between NASA and NOAA. Similar capabilities are available from the NOAA-20 mission. Resolution: 750 m Credit/Acknowledgements: False color RGB products from Suomi-NPP VIIRS were generated by NASA’s Short-term Prediction Research and Transition (SPoRT) Center at Marshall Space Flight Center in Huntsville, Alabama.
Single Fused Map Cache:  false
Extent: 
XMin: -149.904052734375
YMin: 14.924054223632815
XMax: -54.08245273437501
YMax: 54.06245422363281
Spatial Reference: 4326
 (4326)
Initial Extent:
XMin: -149.904052734375
YMin: 14.924054223632815
XMax: -54.08245273437501
YMax: 54.06245422363281
Spatial Reference: 4326
 (4326)
Full Extent:
XMin: -149.904052734375
YMin: 14.924054223632815
XMax: -54.08245273437501
YMax: 54.06245422363281
Spatial Reference: 4326
 (4326)
Pixel Size X: 0.006748
Pixel Size Y:  0.006748
Band Count: 3
Pixel Type: U8
RasterFunction Infos:  {"rasterFunctionInfos": [
 {
  "name": "viirs_dnb_nogamma",
  "description": "A raster function template.",
  "help": ""
 },
 {
  "name": "None",
  "description": "",
  "help": ""
 }
]}
Mensuration Capabilities: Basic
Has Histograms:  false
Has Colormap:  false
Has Multi Dimensions :  false
Rendering Rule: 
Min Scale:  0
Max Scale:  0
Copyright Text:  NASA Disasters Program, NASA MSFC-SPoRT
Service Data Type:  esriImageServiceDataTypeRGB
Min Values:  N/A
Max Values:  N/A
Mean Values:  N/A
Standard Deviation Values:  N/A
Object ID Field:  
Fields: 
None
Default Mosaic Method:  Center
Allowed Mosaic Methods:  
SortField:  
SortValue:  null
Mosaic Operator:  First
Default Compression Quality:  75
Default Resampling Method:  Bilinear
Max Record Count:  null
Max Image Height:  4100
Max Image Width:  15000
Max Download Image Count:  null
Max Mosaic Image Count:  null
Allow Raster Function:  true
Allow Copy:  true
Allow Analysis:  true
Allow Compute TiePoints:  false
Supports Statistics:  false
Supports Advanced Queries:  false
Use StandardizedQueries:  true
Raster Type Infos: 
Name: Raster Dataset
Description: Supports all ArcGIS Raster Datasets
Help: 
Has Raster Attribute Table: false
Edit Fields Info:  null
Ownership Based AccessControl For Rasters:  null
Child Resources:
  
Info
  Statistics
  Key Properties
  Legend
  Raster Function Infos
Supported Operations:
  
Export Image
  Identify
  Measure
  Compute Histograms
  Compute Statistics Histograms
  Get Samples
  Compute Class Statistics
  Query Boundary
  Compute Pixel Location
  Compute Angles
  Validate
  Project