View In:
ArcGIS JavaScript
ArcGIS Online Map Viewer
ArcGIS Earth
ArcMap
View Footprint In:
ArcGIS Online Map Viewer
Service Description: Purpose/Summary:
OMI (Ozone Monitoring Instrument) total column sulfur dioxide (SO2). SO2 is toxic air pollutant, causes acid rain and main precursor to sulfate aerosols and volcanic smog (vog). At high altitudes SO2 is proxy for transient volcanic ash clouds, which are hazardous to aviation.
Suggested Usage:
Identifying SO2 plume locations, concentrations, and SO2 emissions.
Satellite/Sensor/Resolution:
SNPP/OMPS (Suomi National Polar-orbiting Partnership/Ozone Mapping and Profiler Suite); 50 km at nadir
Credit/Acknowledgments:
NASA SNPP/OMPS ozone processing team
Name: Kilauea_Volcano/OMPS_Density_TRL
Description: Purpose/Summary:
OMI (Ozone Monitoring Instrument) total column sulfur dioxide (SO2). SO2 is toxic air pollutant, causes acid rain and main precursor to sulfate aerosols and volcanic smog (vog). At high altitudes SO2 is proxy for transient volcanic ash clouds, which are hazardous to aviation.
Suggested Usage:
Identifying SO2 plume locations, concentrations, and SO2 emissions.
Satellite/Sensor/Resolution:
SNPP/OMPS (Suomi National Polar-orbiting Partnership/Ozone Mapping and Profiler Suite); 50 km at nadir
Credit/Acknowledgments:
NASA SNPP/OMPS ozone processing team
Single Fused Map Cache: false
Extent:
XMin: -175.48
YMin: 0.01999999999999602
XMax: -135.51999999999998
YMax: 39.98
Spatial Reference: 4326
(4326)
Initial Extent:
XMin: -175.48
YMin: 0.01999999999999602
XMax: -135.51999999999998
YMax: 39.98
Spatial Reference: 4326
(4326)
Full Extent:
XMin: -175.48
YMin: 0.01999999999999602
XMax: -135.51999999999998
YMax: 39.98
Spatial Reference: 4326
(4326)
Time Info:
Start Time Field: Date
End Time Field: Date
Time Extent:
[2018/05/08 23:32:01 UTC, 2018/06/14 23:39:59 UTC]
Time Reference:
N/A
Pixel Size X: 0.020000000000000004
Pixel Size Y: 0.02
Band Count: 1
Pixel Type: F32
RasterFunction Infos: {"rasterFunctionInfos": [
{
"name": "Density high low",
"description": "A raster function template.",
"help": ""
},
{
"name": "None",
"description": "A No-Op Function.",
"help": ""
}
]}
Mensuration Capabilities: Basic
Has Histograms: false
Has Colormap: false
Has Multi Dimensions : false
Rendering Rule:
Min Scale: 0
Max Scale: 0
Copyright Text: NASA SNPP/OMPS ozone processing team
Service Data Type: esriImageServiceDataTypeGeneric
Min Values: N/A
Max Values: N/A
Mean Values: N/A
Standard Deviation Values: N/A
Object ID Field: OBJECTID
Fields:
-
OBJECTID
(
type: esriFieldTypeOID, alias: OBJECTID
)
-
Shape
(
type: esriFieldTypeGeometry, alias: Shape
)
-
Name
(
type: esriFieldTypeString, alias: Name, length: 200
)
-
MinPS
(
type: esriFieldTypeDouble, alias: MinPS
)
-
MaxPS
(
type: esriFieldTypeDouble, alias: MaxPS
)
-
LowPS
(
type: esriFieldTypeDouble, alias: LowPS
)
-
HighPS
(
type: esriFieldTypeDouble, alias: HighPS
)
-
Category
(
type: esriFieldTypeInteger, alias: Category
, Coded Values:
[0: Unknown]
, [1: Primary]
, [2: Overview]
, ...6 more...
)
-
Tag
(
type: esriFieldTypeString, alias: Tag, length: 100
)
-
GroupName
(
type: esriFieldTypeString, alias: GroupName, length: 100
)
-
ProductName
(
type: esriFieldTypeString, alias: ProductName, length: 100
)
-
CenterX
(
type: esriFieldTypeDouble, alias: CenterX
)
-
CenterY
(
type: esriFieldTypeDouble, alias: CenterY
)
-
ZOrder
(
type: esriFieldTypeInteger, alias: ZOrder
)
-
Shape_Length
(
type: esriFieldTypeDouble, alias: Shape_Length
)
-
Shape_Area
(
type: esriFieldTypeDouble, alias: Shape_Area
)
-
Date
(
type: esriFieldTypeDate, alias: Date, length: 8
)
Default Mosaic Method: Northwest
Allowed Mosaic Methods: NorthWest,Center,LockRaster,ByAttribute,Nadir,Viewpoint,Seamline,None
SortField:
SortValue: null
Mosaic Operator: First
Default Compression Quality: 75
Default Resampling Method: Bilinear
Max Record Count: 1000
Max Image Height: 4100
Max Image Width: 15000
Max Download Image Count: 20
Max Mosaic Image Count: 20
Allow Raster Function: true
Allow Copy: true
Allow Analysis: true
Allow Compute TiePoints: false
Supports Statistics: true
Supports Advanced Queries: true
Use StandardizedQueries: true
Raster Type Infos:
Name: Raster Dataset
Description: Supports all ArcGIS Raster Datasets
Help:
Has Raster Attribute Table: false
Edit Fields Info: null
Ownership Based AccessControl For Rasters: null
Child Resources:
Info
Statistics
Key Properties
Legend
Raster Function Infos
Supported Operations:
Export Image
Query
Identify
Measure
Compute Histograms
Compute Statistics Histograms
Get Samples
Compute Class Statistics
Query Boundary
Compute Pixel Location
Compute Angles
Validate
Project