View In:
ArcGIS JavaScript
ArcGIS Online Map Viewer
ArcGIS Earth
ArcMap
View Footprint In:
ArcGIS Online Map Viewer
Service Description: Ascending Sentinel-1 interferogram unwrapped to 10cm color contours of surface deformation.The frame was processed automatically by the UAF SARVIEWS processor. Sentinel-1 data from 4/20/2018 and 05/02/2018.
Name: Kilauea_Volcano/S1A_Interferogram_20180420_20180502_unwrapped_phase_12d
Description: Ascending Sentinel-1 interferogram unwrapped to 10cm color contours of surface deformation.The frame was processed automatically by the UAF SARVIEWS processor. Sentinel-1 data from 4/20/2018 and 05/02/2018.
Single Fused Map Cache: false
Extent:
XMin: 89754.1171875
YMin: 2002144.21875
XMax: 373594.1171875
YMax: 2235397.5
Spatial Reference: 32605
(32605)
Initial Extent:
XMin: 89754.1171875
YMin: 2002144.21875
XMax: 373594.1171875
YMax: 2235397.5
Spatial Reference: 32605
(32605)
Full Extent:
XMin: 89754.1171875
YMin: 2002144.21875
XMax: 373594.1171875
YMax: 2235397.5
Spatial Reference: 32605
(32605)
Pixel Size X: 138.59375
Pixel Size Y: 138.59375
Band Count: 1
Pixel Type: U8
RasterFunction Infos: {"rasterFunctionInfos": [{
"name": "None",
"description": "",
"help": ""
}]}
Mensuration Capabilities: Basic
Has Histograms: true
Has Colormap: true
Has Multi Dimensions : false
Rendering Rule:
Min Scale: 0
Max Scale: 0
Copyright Text: Sentinel-1 data, Contains modified ESA Copernicus Sentinel data (2018). Data process on NASA/JPL/UAF SARVIEWS Hazard Portal
Service Data Type: esriImageServiceDataTypeThematic
Min Values: 16
Max Values: 255
Mean Values: 128.09191034882
Standard Deviation Values: 40.442148757335
Object ID Field:
Fields:
None
Default Mosaic Method: Center
Allowed Mosaic Methods:
SortField:
SortValue: null
Mosaic Operator: First
Default Compression Quality: 75
Default Resampling Method: Bilinear
Max Record Count: null
Max Image Height: 4100
Max Image Width: 15000
Max Download Image Count: null
Max Mosaic Image Count: null
Allow Raster Function: true
Allow Copy: true
Allow Analysis: true
Allow Compute TiePoints: false
Supports Statistics: false
Supports Advanced Queries: false
Use StandardizedQueries: true
Raster Type Infos:
Name: Raster Dataset
Description: Supports all ArcGIS Raster Datasets
Help:
Has Raster Attribute Table: false
Edit Fields Info: null
Ownership Based AccessControl For Rasters: null
Child Resources:
Info
Histograms
Statistics
Key Properties
Color Map
Legend
Raster Function Infos
Supported Operations:
Export Image
Identify
Measure
Compute Histograms
Compute Statistics Histograms
Get Samples
Compute Class Statistics
Query Boundary
Compute Pixel Location
Compute Angles
Validate
Project