View In:
  ArcGIS JavaScript
  ArcGIS Online Map Viewer
  ArcGIS Earth
  ArcMap
View Footprint In:
  ArcGIS Online Map Viewer
Service Description:  Ascending Sentinel-1 interferogram unwrapped to 10cm color contours of surface deformation.The frame was processed automatically by the UAF SARVIEWS processor. Sentinel-1 data from 4/23/2018 and 05/05/2018.
Name:  Kilauea_Volcano/S1B_Interferogram_20180423_20180505_unwrapped_phase_12d
Description:  Ascending Sentinel-1 interferogram unwrapped to 10cm color contours of surface deformation.The frame was processed automatically by the UAF SARVIEWS processor. Sentinel-1 data from 4/23/2018 and 05/05/2018.
Single Fused Map Cache:  false
Extent: 
XMin: 70772.0703125
YMin: 2041780.75
XMax: 357492.0703125
YMax: 2275300.75
Spatial Reference: 32605
 (32605)
Initial Extent:
XMin: 70772.0703125
YMin: 2041780.75
XMax: 357492.0703125
YMax: 2275300.75
Spatial Reference: 32605
 (32605)
Full Extent:
XMin: 70772.0703125
YMin: 2041780.75
XMax: 357492.0703125
YMax: 2275300.75
Spatial Reference: 32605
 (32605)
Pixel Size X: 280.0
Pixel Size Y:  280.0
Band Count: 3
Pixel Type: U8
RasterFunction Infos:  {"rasterFunctionInfos": [{
 "name": "None",
 "description": "",
 "help": ""
}]}
Mensuration Capabilities: Basic
Has Histograms:  false
Has Colormap:  false
Has Multi Dimensions :  false
Rendering Rule: 
Min Scale:  0
Max Scale:  0
Copyright Text:  Sentinel-1 data, Contains modified ESA Copernicus Sentinel data (2018). Data process on NASA/JPL/UAF SARVIEWS Hazard Portal
Service Data Type:  esriImageServiceDataTypeThematic
Min Values:  N/A
Max Values:  N/A
Mean Values:  N/A
Standard Deviation Values:  N/A
Object ID Field:  
Fields: 
None
Default Mosaic Method:  Center
Allowed Mosaic Methods:  
SortField:  
SortValue:  null
Mosaic Operator:  First
Default Compression Quality:  75
Default Resampling Method:  Nearest
Max Record Count:  null
Max Image Height:  4100
Max Image Width:  15000
Max Download Image Count:  null
Max Mosaic Image Count:  null
Allow Raster Function:  true
Allow Copy:  true
Allow Analysis:  true
Allow Compute TiePoints:  false
Supports Statistics:  false
Supports Advanced Queries:  false
Use StandardizedQueries:  true
Raster Type Infos: 
Name: Raster Dataset
Description: Supports all ArcGIS Raster Datasets
Help: 
Has Raster Attribute Table: false
Edit Fields Info:  null
Ownership Based AccessControl For Rasters:  null
Child Resources:
  
Info
  Statistics
  Key Properties
  Legend
  Raster Function Infos
Supported Operations:
  
Export Image
  Identify
  Measure
  Compute Histograms
  Compute Statistics Histograms
  Get Samples
  Compute Class Statistics
  Query Boundary
  Compute Pixel Location
  Compute Angles
  Validate
  Project