View In:
ArcGIS JavaScript
ArcGIS Online Map Viewer
ArcGIS Earth
ArcMap
View Footprint In:
ArcGIS Online Map Viewer
Service Description: Kilauea_Volcano/VIIRS_Thermal_Night_20180522
Name: Kilauea_Volcano/VIIRS_Thermal_Night_20180522
Description:
Single Fused Map Cache: false
Extent:
XMin: -156.27755176007136
YMin: 18.86515692700494
XMax: -154.63142556182547
YMax: 20.34864849418248
Spatial Reference: 4326
(4326)
Initial Extent:
XMin: -156.27755176007136
YMin: 18.86515692700494
XMax: -154.63142556182547
YMax: 20.34864849418248
Spatial Reference: 4326
(4326)
Full Extent:
XMin: -156.27755176007136
YMin: 18.86515692700494
XMax: -154.63142556182547
YMax: 20.34864849418248
Spatial Reference: 4326
(4326)
Pixel Size X: 0.00219776528470747
Pixel Size Y: 0.0021977652847074685
Band Count: 3
Pixel Type: U8
RasterFunction Infos: {"rasterFunctionInfos": [{
"name": "None",
"description": "",
"help": ""
}]}
Mensuration Capabilities: Basic
Has Histograms: false
Has Colormap: false
Has Multi Dimensions : false
Rendering Rule:
Min Scale: 0
Max Scale: 0
Copyright Text:
Service Data Type: esriImageServiceDataTypeRGB
Min Values: N/A
Max Values: N/A
Mean Values: N/A
Standard Deviation Values: N/A
Object ID Field:
Fields:
None
Default Mosaic Method: Center
Allowed Mosaic Methods:
SortField:
SortValue: null
Mosaic Operator: First
Default Compression Quality: 75
Default Resampling Method: Bilinear
Max Record Count: null
Max Image Height: 4100
Max Image Width: 15000
Max Download Image Count: null
Max Mosaic Image Count: null
Allow Raster Function: true
Allow Copy: true
Allow Analysis: true
Allow Compute TiePoints: false
Supports Statistics: false
Supports Advanced Queries: false
Use StandardizedQueries: true
Raster Type Infos:
Name: Raster Dataset
Description: Supports all ArcGIS Raster Datasets
Help:
Has Raster Attribute Table: false
Edit Fields Info: null
Ownership Based AccessControl For Rasters: null
Child Resources:
Info
Statistics
Key Properties
Legend
Raster Function Infos
Supported Operations:
Export Image
Identify
Measure
Compute Histograms
Compute Statistics Histograms
Get Samples
Compute Class Statistics
Query Boundary
Compute Pixel Location
Compute Angles
Validate
Project