View In:
  ArcGIS JavaScript
  ArcGIS Online Map Viewer
  ArcGIS Earth
  ArcMap
View Footprint In:
  ArcGIS Online Map Viewer
Service Description:  Sentinel 1 RGB (Red, Green, Blue) Composite where blue denotes water. 
Name:  MidWestFLooding_Feb2018/20180218_233902_234042_S1A_RGBmerged_MidWestFloodingFeb2018_WGS84
Description:  Sentinel 1 RGB (Red, Green, Blue) Composite where blue denotes water. 
Single Fused Map Cache:  false
Extent: 
XMin: -87.86183944624753
YMin: 35.57528183955691
XMax: -83.43660869639803
YMax: 42.07546383053576
Spatial Reference: 4326
 (4326)
Initial Extent:
XMin: -87.86183944624753
YMin: 35.57528183955691
XMax: -83.43660869639803
YMax: 42.07546383053576
Spatial Reference: 4326
 (4326)
Full Extent:
XMin: -87.86183944624753
YMin: 35.57528183955691
XMax: -83.43660869639803
YMax: 42.07546383053576
Spatial Reference: 4326
 (4326)
Pixel Size X: 3.121635686970587E-4
Pixel Size Y:  3.1216356869705864E-4
Band Count: 3
Pixel Type: U8
RasterFunction Infos:  {"rasterFunctionInfos": [
 {
  "name": "None",
  "description": "Make a Raster or Raster Dataset into a Function Raster Dataset.",
  "help": ""
 },
 {
  "name": "MSFC_SARRGBcomposite",
  "description": "A raster function template.",
  "help": ""
 }
]}
Mensuration Capabilities: Basic
Has Histograms:  false
Has Colormap:  false
Has Multi Dimensions :  false
Rendering Rule: 
Min Scale:  0
Max Scale:  0
Copyright Text:  MSFC NASA
Service Data Type:  esriImageServiceDataTypeRGB
Min Values:  N/A
Max Values:  N/A
Mean Values:  N/A
Standard Deviation Values:  N/A
Object ID Field:  
Fields: 
None
Default Mosaic Method:  Center
Allowed Mosaic Methods:  
SortField:  
SortValue:  null
Mosaic Operator:  First
Default Compression Quality:  75
Default Resampling Method:  Bilinear
Max Record Count:  null
Max Image Height:  4100
Max Image Width:  15000
Max Download Image Count:  null
Max Mosaic Image Count:  null
Allow Raster Function:  true
Allow Copy:  true
Allow Analysis:  true
Allow Compute TiePoints:  false
Supports Statistics:  false
Supports Advanced Queries:  false
Use StandardizedQueries:  true
Raster Type Infos: 
Name: Raster Dataset
Description: Supports all ArcGIS Raster Datasets
Help: 
Has Raster Attribute Table: false
Edit Fields Info:  null
Ownership Based AccessControl For Rasters:  null
Child Resources:
  
Info
  Statistics
  Key Properties
  Legend
  Raster Function Infos
Supported Operations:
  
Export Image
  Identify
  Measure
  Compute Histograms
  Compute Statistics Histograms
  Get Samples
  Compute Class Statistics
  Query Boundary
  Compute Pixel Location
  Compute Angles
  Validate
  Project