View In:
  ArcGIS JavaScript
  ArcGIS Online Map Viewer
  ArcGIS Earth
  ArcMap
View Footprint In:
  ArcGIS Online Map Viewer
Service Description:  Sentinel 1 RGB (red, Green, Blue) where blue denotes water 
Name:  MidWestFLooding_Feb2018/20180302_233927_234107_S1A_RGBmerged_MidWestFloodingFeb2018_WGS84
Description:  Sentinel 1 RGB (red, Green, Blue) where blue denotes water 
Single Fused Map Cache:  false
Extent: 
XMin: -88.2609430237738
YMin: 37.08485632306068
XMax: -83.74473537609063
YMax: 43.5696347967499
Spatial Reference: 4326
 (4326)
Initial Extent:
XMin: -88.2609430237738
YMin: 37.08485632306068
XMax: -83.74473537609063
YMax: 43.5696347967499
Spatial Reference: 4326
 (4326)
Full Extent:
XMin: -88.2609430237738
YMin: 37.08485632306068
XMax: -83.74473537609063
YMax: 43.5696347967499
Spatial Reference: 4326
 (4326)
Pixel Size X: 3.1694909451071476E-4
Pixel Size Y:  3.169490945107148E-4
Band Count: 3
Pixel Type: U8
RasterFunction Infos:  {"rasterFunctionInfos": [
 {
  "name": "None",
  "description": "Make a Raster or Raster Dataset into a Function Raster Dataset.",
  "help": ""
 },
 {
  "name": "MSFC_SARRGBcomposite",
  "description": "A raster function template.",
  "help": ""
 }
]}
Mensuration Capabilities: Basic
Has Histograms:  false
Has Colormap:  false
Has Multi Dimensions :  false
Rendering Rule: 
Min Scale:  0
Max Scale:  0
Copyright Text:  NASA MSFC 
Service Data Type:  esriImageServiceDataTypeRGB
Min Values:  N/A
Max Values:  N/A
Mean Values:  N/A
Standard Deviation Values:  N/A
Object ID Field:  
Fields: 
None
Default Mosaic Method:  Center
Allowed Mosaic Methods:  
SortField:  
SortValue:  null
Mosaic Operator:  First
Default Compression Quality:  75
Default Resampling Method:  Bilinear
Max Record Count:  null
Max Image Height:  4100
Max Image Width:  15000
Max Download Image Count:  null
Max Mosaic Image Count:  null
Allow Raster Function:  true
Allow Copy:  true
Allow Analysis:  true
Allow Compute TiePoints:  false
Supports Statistics:  false
Supports Advanced Queries:  false
Use StandardizedQueries:  true
Raster Type Infos: 
Name: Raster Dataset
Description: Supports all ArcGIS Raster Datasets
Help: 
Has Raster Attribute Table: false
Edit Fields Info:  null
Ownership Based AccessControl For Rasters:  null
Child Resources:
  
Info
  Statistics
  Key Properties
  Legend
  Raster Function Infos
Supported Operations:
  
Export Image
  Identify
  Measure
  Compute Histograms
  Compute Statistics Histograms
  Get Samples
  Compute Class Statistics
  Query Boundary
  Compute Pixel Location
  Compute Angles
  Validate
  Project