View In:
ArcGIS JavaScript
ArcGIS Online Map Viewer
ArcGIS Earth
ArcMap
View Footprint In:
ArcGIS Online Map Viewer
Service Description: Sentinel 1 RGB (Red, Green, Blue) Composite where blue denotes water.
Name: MidWestFLooding_Feb2018/2018225_233107_233157_S1A_RGB_MidWestFlooding_24_26Feb18
Description: Sentinel 1 RGB (Red, Green, Blue) Composite where blue denotes water.
Single Fused Map Cache: false
Extent:
XMin: 609325
YMin: 4067235
XMax: 973195
YMax: 4620615
Spatial Reference: 32616
(32616)
Initial Extent:
XMin: 609325
YMin: 4067235
XMax: 973195
YMax: 4620615
Spatial Reference: 32616
(32616)
Full Extent:
XMin: 609325
YMin: 4067235
XMax: 973195
YMax: 4620615
Spatial Reference: 32616
(32616)
Pixel Size X: 30.0
Pixel Size Y: 30.0
Band Count: 3
Pixel Type: U8
RasterFunction Infos: {"rasterFunctionInfos": [
{
"name": "None",
"description": "Make a Raster or Raster Dataset into a Function Raster Dataset.",
"help": ""
},
{
"name": "MSFC_SARRGBcomposite",
"description": "A raster function template.",
"help": ""
}
]}
Mensuration Capabilities: Basic
Has Histograms: false
Has Colormap: false
Has Multi Dimensions : false
Rendering Rule:
Min Scale: 0
Max Scale: 0
Copyright Text: NASA MSFC
Service Data Type: esriImageServiceDataTypeRGB
Min Values: 0, 0, 0
Max Values: 255, 255, 255
Mean Values: 46.714465485204, 86.543457557499, 18.660015069657
Standard Deviation Values: 65.606973892452, 73.465777076393, 41.323748801742
Object ID Field:
Fields:
None
Default Mosaic Method: Center
Allowed Mosaic Methods:
SortField:
SortValue: null
Mosaic Operator: First
Default Compression Quality: 75
Default Resampling Method: Bilinear
Max Record Count: null
Max Image Height: 4100
Max Image Width: 15000
Max Download Image Count: null
Max Mosaic Image Count: null
Allow Raster Function: true
Allow Copy: true
Allow Analysis: true
Allow Compute TiePoints: false
Supports Statistics: false
Supports Advanced Queries: false
Use StandardizedQueries: true
Raster Type Infos:
Name: Raster Dataset
Description: Supports all ArcGIS Raster Datasets
Help:
Has Raster Attribute Table: false
Edit Fields Info: null
Ownership Based AccessControl For Rasters: null
Child Resources:
Info
Statistics
Key Properties
Legend
Raster Function Infos
Supported Operations:
Export Image
Identify
Measure
Compute Histograms
Compute Statistics Histograms
Get Samples
Compute Class Statistics
Query Boundary
Compute Pixel Location
Compute Angles
Validate
Project