View In:
ArcGIS JavaScript
ArcGIS Online Map Viewer
ArcGIS Earth
ArcMap
View Footprint In:
ArcGIS Online Map Viewer
Service Description: NLE2018/20180505_230635_230725_s1a_SARAmplitude_WGS84
Name: NLE2018/20180505_230635_230725_s1a_SARAmplitude_WGS84
Description:
Single Fused Map Cache: false
Extent:
XMin: -79.27877884848228
YMin: 37.19948238600984
XMax: -75.61716671361457
YMax: 40.635749491914815
Spatial Reference: 4326
(4326)
Initial Extent:
XMin: -79.27877884848228
YMin: 37.19948238600984
XMax: -75.61716671361457
YMax: 40.635749491914815
Spatial Reference: 4326
(4326)
Full Extent:
XMin: -79.27877884848228
YMin: 37.19948238600984
XMax: -75.61716671361457
YMax: 40.635749491914815
Spatial Reference: 4326
(4326)
Pixel Size X: 3.261143689764615E-4
Pixel Size Y: 3.261143689764615E-4
Band Count: 1
Pixel Type: F32
RasterFunction Infos: {"rasterFunctionInfos": [{
"name": "None",
"description": "",
"help": ""
}]}
Mensuration Capabilities: Basic
Has Histograms: true
Has Colormap: false
Has Multi Dimensions : false
Rendering Rule:
Min Scale: 0
Max Scale: 0
Copyright Text:
Service Data Type: esriImageServiceDataTypeGeneric
Min Values: 0
Max Values: 23.868379592896
Mean Values: 0.12330388212041
Standard Deviation Values: 0.10131783501476
Object ID Field:
Fields:
None
Default Mosaic Method: Center
Allowed Mosaic Methods:
SortField:
SortValue: null
Mosaic Operator: First
Default Compression Quality: 75
Default Resampling Method: Bilinear
Max Record Count: null
Max Image Height: 4100
Max Image Width: 15000
Max Download Image Count: null
Max Mosaic Image Count: null
Allow Raster Function: true
Allow Copy: true
Allow Analysis: true
Allow Compute TiePoints: false
Supports Statistics: false
Supports Advanced Queries: false
Use StandardizedQueries: true
Raster Type Infos:
Name: Raster Dataset
Description: Supports all ArcGIS Raster Datasets
Help:
Has Raster Attribute Table: false
Edit Fields Info: null
Ownership Based AccessControl For Rasters: null
Child Resources:
Info
Histograms
Statistics
Key Properties
Legend
Raster Function Infos
Supported Operations:
Export Image
Identify
Measure
Compute Histograms
Compute Statistics Histograms
Get Samples
Compute Class Statistics
Query Boundary
Compute Pixel Location
Compute Angles
Validate
Project