View In:
ArcGIS JavaScript
ArcGIS Online Map Viewer
ArcGIS Earth
ArcMap
View Footprint In:
ArcGIS Online Map Viewer
Service Description: NLE2018/20180505_230635_230725_s1a_SARwaterExtents_WGS84
Name: NLE2018/20180505_230635_230725_s1a_SARwaterExtents_WGS84
Description:
Single Fused Map Cache: false
Extent:
XMin: -79.27877884848228
YMin: 37.19948238600984
XMax: -75.61716671361457
YMax: 40.635749491914815
Spatial Reference: 4326
(4326)
Initial Extent:
XMin: -79.27877884848228
YMin: 37.19948238600984
XMax: -75.61716671361457
YMax: 40.635749491914815
Spatial Reference: 4326
(4326)
Full Extent:
XMin: -79.27877884848228
YMin: 37.19948238600984
XMax: -75.61716671361457
YMax: 40.635749491914815
Spatial Reference: 4326
(4326)
Pixel Size X: 3.261143689764615E-4
Pixel Size Y: 3.261143689764615E-4
Band Count: 1
Pixel Type: U8
RasterFunction Infos: {"rasterFunctionInfos": [
{
"name": "None",
"description": "Make a Raster or Raster Dataset into a Function Raster Dataset.",
"help": ""
},
{
"name": "SARWaterExtentUniqueValuesLegend",
"description": "A raster function template.",
"help": ""
}
]}
Mensuration Capabilities: Basic
Has Histograms: false
Has Colormap: false
Has Multi Dimensions : false
Rendering Rule:
Min Scale: 0
Max Scale: 0
Copyright Text:
Service Data Type: esriImageServiceDataTypeGeneric
Min Values: N/A
Max Values: N/A
Mean Values: N/A
Standard Deviation Values: N/A
Object ID Field:
Fields:
None
Default Mosaic Method: Center
Allowed Mosaic Methods:
SortField:
SortValue: null
Mosaic Operator: First
Default Compression Quality: 75
Default Resampling Method: Nearest
Max Record Count: null
Max Image Height: 4100
Max Image Width: 15000
Max Download Image Count: null
Max Mosaic Image Count: null
Allow Raster Function: true
Allow Copy: true
Allow Analysis: true
Allow Compute TiePoints: false
Supports Statistics: false
Supports Advanced Queries: false
Use StandardizedQueries: true
Raster Type Infos:
Name: Raster Dataset
Description: Supports all ArcGIS Raster Datasets
Help:
Has Raster Attribute Table: true
Edit Fields Info: null
Ownership Based AccessControl For Rasters: null
Child Resources:
Info
Raster Attribute Table
Statistics
Key Properties
Legend
Raster Function Infos
Supported Operations:
Export Image
Identify
Measure
Compute Histograms
Compute Statistics Histograms
Get Samples
Compute Class Statistics
Query Boundary
Compute Pixel Location
Compute Angles
Validate
Project