View In:
ArcGIS JavaScript
ArcGIS Online Map Viewer
ArcGIS Earth
ArcMap
View Footprint In:
ArcGIS Online Map Viewer
Service Description: NLE2018/S1A_RTC_20180423T230545_T230700_merged_wgs84
Name: NLE2018/S1A_RTC_20180423T230545_T230700_merged_wgs84
Description:
Single Fused Map Cache: false
Extent:
XMin: -79.27913222578793
YMin: 34.19282462006392
XMax: -75.01429187765632
YMax: 40.63574657934621
Spatial Reference: 4326
(4326)
Initial Extent:
XMin: -79.27913222578793
YMin: 34.19282462006392
XMax: -75.01429187765632
YMax: 40.63574657934621
Spatial Reference: 4326
(4326)
Full Extent:
XMin: -79.27913222578793
YMin: 34.19282462006392
XMax: -75.01429187765632
YMax: 40.63574657934621
Spatial Reference: 4326
(4326)
Pixel Size X: 3.106220209855509E-4
Pixel Size Y: 3.106220209855508E-4
Band Count: 1
Pixel Type: F32
RasterFunction Infos: {"rasterFunctionInfos": [{
"name": "None",
"description": "",
"help": ""
}]}
Mensuration Capabilities: Basic
Has Histograms: true
Has Colormap: false
Has Multi Dimensions : false
Rendering Rule:
Min Scale: 0
Max Scale: 0
Copyright Text: NASA Marshall
Service Data Type: esriImageServiceDataTypeGeneric
Min Values: 0
Max Values: 32.969951629639
Mean Values: 0.096632334568426
Standard Deviation Values: 0.10310098552303
Object ID Field:
Fields:
None
Default Mosaic Method: Center
Allowed Mosaic Methods:
SortField:
SortValue: null
Mosaic Operator: First
Default Compression Quality: 75
Default Resampling Method: Nearest
Max Record Count: null
Max Image Height: 4100
Max Image Width: 15000
Max Download Image Count: null
Max Mosaic Image Count: null
Allow Raster Function: true
Allow Copy: true
Allow Analysis: true
Allow Compute TiePoints: false
Supports Statistics: false
Supports Advanced Queries: false
Use StandardizedQueries: true
Raster Type Infos:
Name: Raster Dataset
Description: Supports all ArcGIS Raster Datasets
Help:
Has Raster Attribute Table: false
Edit Fields Info: null
Ownership Based AccessControl For Rasters: null
Child Resources:
Info
Histograms
Statistics
Key Properties
Legend
Raster Function Infos
Supported Operations:
Export Image
Identify
Measure
Compute Histograms
Compute Statistics Histograms
Get Samples
Compute Class Statistics
Query Boundary
Compute Pixel Location
Compute Angles
Validate
Project