View In:
ArcGIS JavaScript
ArcGIS Online Map Viewer
ArcGIS Earth
ArcMap
View Footprint In:
ArcGIS Online Map Viewer
Service Description: NLE2018/S1A_RTC_20180430T225739_T225858_merged_wgs84
Name: NLE2018/S1A_RTC_20180430T225739_T225858_merged_wgs84
Description:
Single Fused Map Cache: false
Extent:
XMin: -77.36245173601966
YMin: 34.6600197751944
XMax: -73.01310013289451
YMax: 41.34228378265721
Spatial Reference: 4326
(4326)
Initial Extent:
XMin: -77.36245173601966
YMin: 34.6600197751944
XMax: -73.01310013289451
YMax: 41.34228378265721
Spatial Reference: 4326
(4326)
Full Extent:
XMin: -77.36245173601966
YMin: 34.6600197751944
XMax: -73.01310013289451
YMax: 41.34228378265721
Spatial Reference: 4326
(4326)
Pixel Size X: 3.078533127919845E-4
Pixel Size Y: 3.0785331279198434E-4
Band Count: 1
Pixel Type: F32
RasterFunction Infos: {"rasterFunctionInfos": [{
"name": "None",
"description": "",
"help": ""
}]}
Mensuration Capabilities: Basic
Has Histograms: true
Has Colormap: false
Has Multi Dimensions : false
Rendering Rule:
Min Scale: 0
Max Scale: 0
Copyright Text: NASA Marshall
Service Data Type: esriImageServiceDataTypeGeneric
Min Values: 0.0014065033756196
Max Values: 23.227111816406
Mean Values: 0.097393056870843
Standard Deviation Values: 0.097925581374267
Object ID Field:
Fields:
None
Default Mosaic Method: Center
Allowed Mosaic Methods:
SortField:
SortValue: null
Mosaic Operator: First
Default Compression Quality: 75
Default Resampling Method: Bilinear
Max Record Count: null
Max Image Height: 4100
Max Image Width: 15000
Max Download Image Count: null
Max Mosaic Image Count: null
Allow Raster Function: true
Allow Copy: true
Allow Analysis: true
Allow Compute TiePoints: false
Supports Statistics: false
Supports Advanced Queries: false
Use StandardizedQueries: true
Raster Type Infos:
Name: Raster Dataset
Description: Supports all ArcGIS Raster Datasets
Help:
Has Raster Attribute Table: false
Edit Fields Info: null
Ownership Based AccessControl For Rasters: null
Child Resources:
Info
Histograms
Statistics
Key Properties
Legend
Raster Function Infos
Supported Operations:
Export Image
Identify
Measure
Compute Histograms
Compute Statistics Histograms
Get Samples
Compute Class Statistics
Query Boundary
Compute Pixel Location
Compute Angles
Validate
Project