View In:
ArcGIS JavaScript
ArcGIS Online Map Viewer
ArcGIS Earth
ArcMap
View Footprint In:
ArcGIS Online Map Viewer
Service Description: Background: The global Landslide Hazard Assessment for Situational Awareness (LHASA) model is developed to provide situational awareness of landslide hazards for a wide range of users. Precipitation is a common trigger of landslides. The Integrated Multi-satellitE Retrievals for GPM (IMERG) data shows recent precipitation, updated every thirty minutes. A LHASA landslide “nowcast” is created by comparing GPM data from the last seven days to the long-term precipitation record provided by the Tropical Rainfall Measuring Mission (TRMM) Multi-satellite Precipitation Analysis (TMPA). Because IMERG data is only available starting in 2014, the record of historical rainfall was established by TMPA, comparing 2001-present. The TMPA rainfall probability distributions were then compared to that of IMERG and the rainfall thresholds were adjusted so that the IMERG data more closely mapped to those of the TMPA archive. The past 7 days of rainfall are considered, with each day is weighted according to their date before present, with the last twenty-four hours having the most impact.
Data Visualization: Landslide Nowcast is shown using a Two Color Ramp (yellow and red). Values represent Moderate (yellow) and High (red) risk of potential landslide.
Update Frequency: 3 Hour latency Suggested Usage: In places where precipitation is unusually high, the susceptibility of the terrain is evaluated, which includes quantitative information on if: roads have been built; trees have been cut down or burned; a major tectonic fault is nearby; the local bedrock is weak; the hillsides are steep.
Further Reference:
Learn more about Global Landslide Model
Learn more about GPM's science objectives.
Learn more about GPM's applications.
Name: NRT/landslide_nowcast
Description: Background: The global Landslide Hazard Assessment for Situational Awareness (LHASA) model is developed to provide situational awareness of landslide hazards for a wide range of users. Precipitation is a common trigger of landslides. The Integrated Multi-satellitE Retrievals for GPM (IMERG) data shows recent precipitation, updated every thirty minutes. A LHASA landslide “nowcast” is created by comparing GPM data from the last seven days to the long-term precipitation record provided by the Tropical Rainfall Measuring Mission (TRMM) Multi-satellite Precipitation Analysis (TMPA). Because IMERG data is only available starting in 2014, the record of historical rainfall was established by TMPA, comparing 2001-present. The TMPA rainfall probability distributions were then compared to that of IMERG and the rainfall thresholds were adjusted so that the IMERG data more closely mapped to those of the TMPA archive. The past 7 days of rainfall are considered, with each day is weighted according to their date before present, with the last twenty-four hours having the most impact.
Data Visualization: Landslide Nowcast is shown using a Two Color Ramp (yellow and red). Values represent Moderate (yellow) and High (red) risk of potential landslide.
Update Frequency: 3 Hour latency Suggested Usage: In places where precipitation is unusually high, the susceptibility of the terrain is evaluated, which includes quantitative information on if: roads have been built; trees have been cut down or burned; a major tectonic fault is nearby; the local bedrock is weak; the hillsides are steep.
Further Reference:
Learn more about Global Landslide Model
Learn more about GPM's science objectives.
Learn more about GPM's applications.
Single Fused Map Cache: false
Extent:
XMin: -2.0037507067161847E7
YMin: -3.024097145838615E7
XMax: 2.0037507842788246E7
YMax: 3.024097145838615E7
Spatial Reference: 102100
(3857)
Initial Extent:
XMin: -2.0037507067161847E7
YMin: -3.024097145838615E7
XMax: 2.0037507842788246E7
YMax: 3.024097145838615E7
Spatial Reference: 102100
(3857)
Full Extent:
XMin: -2.0037507067161847E7
YMin: -3.024097145838615E7
XMax: 2.0037507842788246E7
YMax: 3.024097145838615E7
Spatial Reference: 102100
(3857)
Time Info:
Start Time Field: Date
End Time Field: Date
Time Extent:
[2025/02/12 11:30:00 UTC, 2025/02/19 08:30:00 UTC]
Time Reference:
N/A
Pixel Size X: 927.6623821747706
Pixel Size Y: 927.6513890822298
Band Count: 1
Pixel Type: U8
RasterFunction Infos: {"rasterFunctionInfos": [
{
"name": "Landslide_Nowcast_Index",
"description": "A raster function template.",
"help": ""
},
{
"name": "None",
"description": "A No-Op Function.",
"help": ""
}
]}
Mensuration Capabilities: Basic
Has Histograms: false
Has Colormap: false
Has Multi Dimensions : false
Rendering Rule:
Min Scale: 0
Max Scale: 0
Copyright Text: NASA Precipitation Measurement Missions (PMM) Science Team, The Global Precipitation Measurement (GPM) mission, NASA, Japan Aerospace Exploration Agency (JAXA)
Service Data Type: esriImageServiceDataTypeThematic
Min Values: 0
Max Values: 2
Mean Values: 0.001526108110425454
Standard Deviation Values: 0.04416543838903286
Object ID Field: OBJECTID
Fields:
-
OBJECTID
(
type: esriFieldTypeOID, alias: OBJECTID
)
-
Shape
(
type: esriFieldTypeGeometry, alias: Shape
)
-
Name
(
type: esriFieldTypeString, alias: Name, length: 200
)
-
MinPS
(
type: esriFieldTypeDouble, alias: MinPS
)
-
MaxPS
(
type: esriFieldTypeDouble, alias: MaxPS
)
-
LowPS
(
type: esriFieldTypeDouble, alias: LowPS
)
-
HighPS
(
type: esriFieldTypeDouble, alias: HighPS
)
-
Category
(
type: esriFieldTypeInteger, alias: Category
, Coded Values:
[0: Unknown]
, [1: Primary]
, [2: Overview]
, ...6 more...
)
-
Tag
(
type: esriFieldTypeString, alias: Tag, length: 100
)
-
GroupName
(
type: esriFieldTypeString, alias: GroupName, length: 100
)
-
ProductName
(
type: esriFieldTypeString, alias: ProductName, length: 100
)
-
CenterX
(
type: esriFieldTypeDouble, alias: CenterX
)
-
CenterY
(
type: esriFieldTypeDouble, alias: CenterY
)
-
ZOrder
(
type: esriFieldTypeInteger, alias: ZOrder
)
-
Product
(
type: esriFieldTypeString, alias: Product, length: 50
)
-
Date
(
type: esriFieldTypeDate, alias: Date, length: 8
)
-
Shape_Length
(
type: esriFieldTypeDouble, alias: Shape_Length
)
-
Shape_Area
(
type: esriFieldTypeDouble, alias: Shape_Area
)
Default Mosaic Method: Northwest
Allowed Mosaic Methods: NorthWest,Center,LockRaster,ByAttribute,Nadir,Viewpoint,Seamline,None
SortField:
SortValue: null
Mosaic Operator: First
Default Compression Quality: 75
Default Resampling Method: Nearest
Max Record Count: 1000
Max Image Height: 4100
Max Image Width: 15000
Max Download Image Count: 20
Max Mosaic Image Count: 20
Allow Raster Function: true
Allow Copy: true
Allow Analysis: true
Allow Compute TiePoints: false
Supports Statistics: true
Supports Advanced Queries: true
Use StandardizedQueries: true
Raster Type Infos:
Name: Raster Dataset
Description: Supports all ArcGIS Raster Datasets
Help:
Has Raster Attribute Table: false
Edit Fields Info: null
Ownership Based AccessControl For Rasters: null
Child Resources:
Info
Statistics
Key Properties
Legend
Raster Function Infos
Supported Operations:
Export Image
Query
Identify
Download Rasters
Measure
Compute Histograms
Compute Statistics Histograms
Get Samples
Compute Class Statistics
Query Boundary
Compute Pixel Location
Compute Angles
Validate
Project