View In:
ArcGIS JavaScript
ArcGIS Online Map Viewer
ArcGIS Earth
ArcMap
View Footprint In:
ArcGIS Online Map Viewer
Service Description: NRT/lis_rsm_conus
Name: NRT/lis_rsm_conus
Description:
Single Fused Map Cache: false
Extent:
XMin: -124.94000000000003
YMin: 25.060000000000006
XMax: -67.07000000000005
YMax: 52.92999999999999
Spatial Reference: 4326
(4326)
Initial Extent:
XMin: -124.94000000000003
YMin: 25.060000000000006
XMax: -67.07000000000005
YMax: 52.92999999999999
Spatial Reference: 4326
(4326)
Full Extent:
XMin: -124.94000000000003
YMin: 25.060000000000006
XMax: -67.07000000000005
YMax: 52.92999999999999
Spatial Reference: 4326
(4326)
Time Info:
Start Time Field: Date
End Time Field: null
Time Extent:
[2025/09/22 00:00:00 UTC, 2025/10/21 00:00:00 UTC]
Time Reference:
N/A
Pixel Size X: 0.02999999999999999
Pixel Size Y: 0.029999999999999985
Band Count: 1
Pixel Type: F64
RasterFunction Infos: {"rasterFunctionInfos": [
{
"name": "lis_rsm",
"description": "A raster function template.",
"help": ""
},
{
"name": "lis_percentile_red-blue",
"description": "A raster function template.",
"help": ""
},
{
"name": "None",
"description": "",
"help": ""
}
]}
Mensuration Capabilities: Basic
Has Histograms: true
Has Colormap: false
Has Multi Dimensions : false
Rendering Rule:
Min Scale: 0
Max Scale: 0
Copyright Text: NASA, MSFC SPoRT Center, NASA Land Information System
Service Data Type: esriImageServiceDataTypeGeneric
Min Values: 20.52734375
Max Values: 9979.473501953296
Mean Values: 1478.9067433549262
Standard Deviation Values: 2339.0842201161418
Object ID Field: OBJECTID
Fields:
-
OBJECTID
(
type: esriFieldTypeOID, alias: OBJECTID
)
-
Shape
(
type: esriFieldTypeGeometry, alias: Shape
)
-
Name
(
type: esriFieldTypeString, alias: Name, length: 200
)
-
Category
(
type: esriFieldTypeInteger, alias: Category
, Coded Values:
[0: Unknown]
, [1: Primary]
, [2: Overview]
, ...6 more...
)
-
ProductName
(
type: esriFieldTypeString, alias: ProductName, length: 100
)
-
DateTXT
(
type: esriFieldTypeString, alias: DateTXT, length: 50
)
-
Date
(
type: esriFieldTypeDate, alias: Date, length: 8
)
Default Mosaic Method: ByAttribute
Allowed Mosaic Methods: ByAttribute
SortField: Date
SortValue: 0
Mosaic Operator: Last
Default Compression Quality: 75
Default Resampling Method: Nearest
Max Record Count: 1000
Max Image Height: 4100
Max Image Width: 15000
Max Download Image Count: 20
Max Mosaic Image Count: 20
Allow Raster Function: true
Allow Copy: true
Allow Analysis: true
Allow Compute TiePoints: false
Supports Statistics: true
Supports Advanced Queries: true
Use StandardizedQueries: true
Raster Type Infos:
Name: Raster Dataset
Description: Supports all ArcGIS Raster Datasets
Help:
Has Raster Attribute Table: false
Edit Fields Info: null
Ownership Based AccessControl For Rasters: null
Child Resources:
Info
Histograms
Statistics
Key Properties
Legend
Raster Function Infos
Supported Operations:
Export Image
Query
Identify
Download Rasters
Measure
Compute Histograms
Compute Statistics Histograms
Get Samples
Compute Class Statistics
Query Boundary
Compute Pixel Location
Compute Angles
Validate
Project