View In:
  ArcGIS JavaScript
  ArcGIS Online Map Viewer
  ArcGIS Earth
  ArcMap
View Footprint In:
  ArcGIS Online Map Viewer
Service Description:  Background: This Image Service is a near-real time estimate of 30 minutes of precipitation accumulation derived from the IMERG data product. The IMERG product is associated with the Global Precipitation Measurement (GPM) mission. The Global Precipitation Measurement (GPM) mission is an international network of satellites that provide the next-generation global observations of rain and snow. Precipitation Processing System (PPS) at NASA Goddard processes and creates the realtime IMERG data products. “Early Run” refers to the algorithm that is applied to the near-realtime products. IMERG algorithm can be found in the Algorithm Theoretical Basis Document (ATBD) that is available from the PPS website (http://pps.gsfc.nasa.gov/). The Image Service is published using a Raster Mosaic populated with GeoTiffs collected from the PPS download site. These GeoTiffs are translated from the original Hierarchical Data Format Version 5 (HDF5) Files produced by IMERG. Data Visualization: Precipitation accumulation is shown using a Stretched Color Ramp (Green-Red). Minimum-Maximum Stretch type was applied using 0 for minimum (Green) and 500 for Maximum (Red). Values are shown in millimeters with a scale factor of 10 applied. For example a value of 10 is equal to 1mm of precipitation. Update Frequency: 3 Hour latency Suggested Usage: Precipitation accumulation is useful in predicting flood risk, landslide hazards, and ice accumulation. Further Reference: Learn more about Global Precipitation Measurement mission. Learn more about GPM's science objectives. Learn more about GPM's applications. 
Name:  NRT_Latest/GPM_NRT_30min_Latest
Description:  Background: This Image Service is a near-real time estimate of 30 minutes of precipitation accumulation derived from the IMERG data product. The IMERG product is associated with the Global Precipitation Measurement (GPM) mission. The Global Precipitation Measurement (GPM) mission is an international network of satellites that provide the next-generation global observations of rain and snow. Precipitation Processing System (PPS) at NASA Goddard processes and creates the realtime IMERG data products. “Early Run” refers to the algorithm that is applied to the near-realtime products. IMERG algorithm can be found in the Algorithm Theoretical Basis Document (ATBD) that is available from the PPS website (http://pps.gsfc.nasa.gov/). The Image Service is published using a Raster Mosaic populated with GeoTiffs collected from the PPS download site. These GeoTiffs are translated from the original Hierarchical Data Format Version 5 (HDF5) Files produced by IMERG. Data Visualization: Precipitation accumulation is shown using a Stretched Color Ramp (Green-Red). Minimum-Maximum Stretch type was applied using 0 for minimum (Green) and 500 for Maximum (Red). Values are shown in millimeters with a scale factor of 10 applied. For example a value of 10 is equal to 1mm of precipitation. Update Frequency: 3 Hour latency Suggested Usage: Precipitation accumulation is useful in predicting flood risk, landslide hazards, and ice accumulation. Further Reference: Learn more about Global Precipitation Measurement mission. Learn more about GPM's science objectives. Learn more about GPM's applications. 
Single Fused Map Cache:  false
Extent: 
XMin: -2.00319423682E7
YMin: -3.0238907889585514E7
XMax: 2.0031942368299145E7
YMax: 3.024097145838615E7
Spatial Reference: 102100
 (3857)
Initial Extent:
XMin: -2.00319423682E7
YMin: -3.0238907889585514E7
XMax: 2.0031942368299145E7
YMax: 3.024097145838615E7
Spatial Reference: 102100
 (3857)
Full Extent:
XMin: -2.00319423682E7
YMin: -3.0238907889585514E7
XMax: 2.0031942368299145E7
YMax: 3.024097145838615E7
Spatial Reference: 102100
 (3857)
Pixel Size X: 11131.949079327354
Pixel Size Y:  11131.949079324804
Band Count: 1
Pixel Type: U16
RasterFunction Infos:  {"rasterFunctionInfos": [
 {
  "name": "NASA_GPM_Stretch",
  "description": "A raster function template.",
  "help": ""
 },
 {
  "name": "None",
  "description": "A No-Op Function.",
  "help": ""
 }
]}
Mensuration Capabilities: Basic
Has Histograms:  false
Has Colormap:  false
Has Multi Dimensions :  false
Rendering Rule: 
Min Scale:  0
Max Scale:  0
Copyright Text:  NASA Precipitation Measurement Missions (PMM) Science Team, The Global Precipitation Measurement (GPM) mission, NASA, Japan Aerospace Exploration Agency (JAXA)
Service Data Type:  esriImageServiceDataTypeGeneric
Min Values:  N/A
Max Values:  N/A
Mean Values:  N/A
Standard Deviation Values:  N/A
Object ID Field:  OBJECTID
Fields: 
- 
OBJECTID
(
type: esriFieldTypeOID, alias: OBJECTID
)
- 
Shape
(
type: esriFieldTypeGeometry, alias: Shape
)
- 
Name
(
type: esriFieldTypeString, alias: Name, length: 200
)
- 
MinPS
(
type: esriFieldTypeDouble, alias: MinPS
)
- 
MaxPS
(
type: esriFieldTypeDouble, alias: MaxPS
)
- 
LowPS
(
type: esriFieldTypeDouble, alias: LowPS
)
- 
HighPS
(
type: esriFieldTypeDouble, alias: HighPS
)
- 
Category
(
type: esriFieldTypeInteger, alias: Category
, Coded Values: 
[0: Unknown]
, [1: Primary]
, [2: Overview]
, ...6 more...
)
- 
Tag
(
type: esriFieldTypeString, alias: Tag, length: 100
)
- 
GroupName
(
type: esriFieldTypeString, alias: GroupName, length: 100
)
- 
ProductName
(
type: esriFieldTypeString, alias: ProductName, length: 100
)
- 
CenterX
(
type: esriFieldTypeDouble, alias: CenterX
)
- 
CenterY
(
type: esriFieldTypeDouble, alias: CenterY
)
- 
ZOrder
(
type: esriFieldTypeInteger, alias: ZOrder
)
- 
Date
(
type: esriFieldTypeDate, alias: Date, length: 8
)
- 
Product
(
type: esriFieldTypeString, alias: Product, length: 50
)
- 
Shape_Length
(
type: esriFieldTypeDouble, alias: Shape_Length
)
- 
Shape_Area
(
type: esriFieldTypeDouble, alias: Shape_Area
)
Default Mosaic Method: ByAttribute
Allowed Mosaic Methods:  ByAttribute
SortField:  Date
SortValue:  0
Mosaic Operator:  Last
Default Compression Quality:  75
Default Resampling Method:  Bilinear
Max Record Count:  1000
Max Image Height:  4100
Max Image Width:  15000
Max Download Image Count:  20
Max Mosaic Image Count:  20
Allow Raster Function:  true
Allow Copy:  true
Allow Analysis:  true
Allow Compute TiePoints:  false
Supports Statistics:  true
Supports Advanced Queries:  true
Use StandardizedQueries:  true
Raster Type Infos: 
Name: Raster Dataset
Description: Supports all ArcGIS Raster Datasets
Help: 
Has Raster Attribute Table: false
Edit Fields Info:  null
Ownership Based AccessControl For Rasters:  null
Child Resources:
  
Info
  Statistics
  Key Properties
  Legend
  Raster Function Infos
Supported Operations:
  
Export Image
  Query
  Identify
  Measure
  Compute Histograms
  Compute Statistics Histograms
  Get Samples
  Compute Class Statistics
  Query Boundary
  Compute Pixel Location
  Compute Angles
  Validate
  Project