View In:
  ArcGIS JavaScript
  ArcGIS Online Map Viewer
  ArcGIS Earth
  ArcMap
View Footprint In:
  ArcGIS Online Map Viewer
Service Description:  The Advanced Rapid Imaging and Analysis (ARIA) team at NASA's Jet Propulsion Laboratory in Pasadena, California, and Caltech, also in Pasadena, created this false-color map showing deformation in Central Sulawesi, Indonesia, including the city of Palu, as a result of the M7.5 September 28, 2018 earthquake. The map is derived from synthetic aperture radar (SAR) images from the ALOS-2 satellite, operated by Japan Aerospace Exploration Agency (JAXA). The images were taken before (September 27, 2018) and after (October 11, 2018) the earthquake. The map covers an area of 145 by 350 kilometers. Each pixel measures about 90 meters across. The colors on this map are portraying contours of the permanent ground deformation with a rainbow color scale. Areas with random speckle pattern changed too much during the earthquake to make a measurement, likely due to large fault slip, landslides, damage to buildings, or other processes. Each color contour is 12 cm (4.8 inches) of ground deformation in the direction from the ground to the radar satellite (up and east). This is called a wrapped interferogram.
The interferogram map was created by the NASA-JPL/Caltech ARIA team from the original ALOS-2 data. The original ALOS-2 PALSAR-2 data is copyright JAXA (2018) provided under JAXA ALOS RA6 PI project 3278. The algorithm development was carried out at JPL under a contract with NASA.
NASA/JPL-Caltech/JAXA
For more information about ARIA, visit: http://aria.jpl.nasa.gov
Name:  Sulawesi_Quake_Tsunami_2018/alos2_interferogram_20180927_1011_wrapped
Description:  The Advanced Rapid Imaging and Analysis (ARIA) team at NASA's Jet Propulsion Laboratory in Pasadena, California, and Caltech, also in Pasadena, created this false-color map showing deformation in Central Sulawesi, Indonesia, including the city of Palu, as a result of the M7.5 September 28, 2018 earthquake. The map is derived from synthetic aperture radar (SAR) images from the ALOS-2 satellite, operated by Japan Aerospace Exploration Agency (JAXA). The images were taken before (September 27, 2018) and after (October 11, 2018) the earthquake. The map covers an area of 145 by 350 kilometers. Each pixel measures about 90 meters across. The colors on this map are portraying contours of the permanent ground deformation with a rainbow color scale. Areas with random speckle pattern changed too much during the earthquake to make a measurement, likely due to large fault slip, landslides, damage to buildings, or other processes. Each color contour is 12 cm (4.8 inches) of ground deformation in the direction from the ground to the radar satellite (up and east). This is called a wrapped interferogram.
The interferogram map was created by the NASA-JPL/Caltech ARIA team from the original ALOS-2 data. The original ALOS-2 PALSAR-2 data is copyright JAXA (2018) provided under JAXA ALOS RA6 PI project 3278. The algorithm development was carried out at JPL under a contract with NASA.
NASA/JPL-Caltech/JAXA
For more information about ARIA, visit: http://aria.jpl.nasa.gov
Single Fused Map Cache:  false
Extent: 
XMin: 118.828333
YMin: -3.3075
XMax: 120.765833
YMax: 0.145833
Spatial Reference: 4326
 (4326)
Initial Extent:
XMin: 118.828333
YMin: -3.3075
XMax: 120.765833
YMax: 0.145833
Spatial Reference: 4326
 (4326)
Full Extent:
XMin: 118.828333
YMin: -3.3075
XMax: 120.765833
YMax: 0.145833
Spatial Reference: 4326
 (4326)
Pixel Size X: 8.322594501718213E-4
Pixel Size Y:  8.33333252895753E-4
Band Count: 4
Pixel Type: U8
RasterFunction Infos:  {"rasterFunctionInfos": [{
 "name": "None",
 "description": "",
 "help": ""
}]}
Mensuration Capabilities: Basic
Has Histograms:  false
Has Colormap:  false
Has Multi Dimensions :  false
Rendering Rule: 
Min Scale:  0
Max Scale:  0
Copyright Text:  NASA-JPL/Caltech ARIA Team, JAXA
Service Data Type:  esriImageServiceDataTypeGeneric
Min Values:  N/A
Max Values:  N/A
Mean Values:  N/A
Standard Deviation Values:  N/A
Object ID Field:  
Fields: 
None
Default Mosaic Method:  Center
Allowed Mosaic Methods:  
SortField:  
SortValue:  null
Mosaic Operator:  First
Default Compression Quality:  75
Default Resampling Method:  Nearest
Max Record Count:  null
Max Image Height:  4100
Max Image Width:  15000
Max Download Image Count:  null
Max Mosaic Image Count:  null
Allow Raster Function:  true
Allow Copy:  true
Allow Analysis:  true
Allow Compute TiePoints:  false
Supports Statistics:  false
Supports Advanced Queries:  false
Use StandardizedQueries:  true
Raster Type Infos: 
Name: Raster Dataset
Description: Supports all ArcGIS Raster Datasets
Help: 
Has Raster Attribute Table: false
Edit Fields Info:  null
Ownership Based AccessControl For Rasters:  null
Child Resources:
  
Info
  Statistics
  Key Properties
  Legend
  Raster Function Infos
Supported Operations:
  
Export Image
  Identify
  Measure
  Compute Histograms
  Compute Statistics Histograms
  Get Samples
  Compute Class Statistics
  Query Boundary
  Compute Pixel Location
  Compute Angles
  Validate
  Project