View In:
  ArcGIS JavaScript
  ArcGIS Online Map Viewer
  ArcGIS Earth
  ArcMap
View Footprint In:
  ArcGIS Online Map Viewer
Service Description:  Purpose/Summary:
The Advanced Rapid Imaging and Analysis (ARIA) team at NASA's Jet Propulsion Laboratory in Pasadena, California, created this Damage Proxy Map (DPM) depicting areas of Northern Mariana Islands that are likely damaged (shown by red and yellow pixels) as a result of Super Typhoon Yutu. The map is derived from synthetic aperture radar (SAR) images from the Copernicus Sentinel-1 satellites, operated by the European Space Agency (ESA). The pre-event images were taken before (October 4, 2017 and October 16, 2017) and the post-event image was acquired 4 days after the typhoon's landfall (October 28, 2018). Preliminary validation was done by comparing to optical satellite imagery by the DigitalGlobe.
Suggested Usage:
Each pixel measures about 33 yards x 33 yards (30 m x 30 m). The color variation from yellow to red indicates increasingly more significant ground surface change. This damage proxy map should be used as guidance to identify damaged areas, and may be less reliable over vegetated areas and flooded areas. For example, the scattered single colored pixels over vegetated areas may be false positives, and the lack of colored pixels over vegetated areas does not necessarily mean no damage. Satellite/Sensor:
Synthetic Aperture Radar (SAR) from Copernicus Sentinel-1 operated by the European Space Agency (ESA); 30 meter resolution
Credits/Acknowledgements:
Sentinel-1 data were accessed through the Copernicus Open Access Hub. The image contains modified Copernicus Sentinel data (2018), processed by ESA and analyzed by the NASA-JPL/Caltech ARIA team. This research was carried out at JPL funded by NASA. For more information about ARIA, visit: http://aria.jpl.nasa.gov
Name:  Super_Typhoon_Yutu_2018/aria_dpm_20181028
Description:  Purpose/Summary:
The Advanced Rapid Imaging and Analysis (ARIA) team at NASA's Jet Propulsion Laboratory in Pasadena, California, created this Damage Proxy Map (DPM) depicting areas of Northern Mariana Islands that are likely damaged (shown by red and yellow pixels) as a result of Super Typhoon Yutu. The map is derived from synthetic aperture radar (SAR) images from the Copernicus Sentinel-1 satellites, operated by the European Space Agency (ESA). The pre-event images were taken before (October 4, 2017 and October 16, 2017) and the post-event image was acquired 4 days after the typhoon's landfall (October 28, 2018). Preliminary validation was done by comparing to optical satellite imagery by the DigitalGlobe.
Suggested Usage:
Each pixel measures about 33 yards x 33 yards (30 m x 30 m). The color variation from yellow to red indicates increasingly more significant ground surface change. This damage proxy map should be used as guidance to identify damaged areas, and may be less reliable over vegetated areas and flooded areas. For example, the scattered single colored pixels over vegetated areas may be false positives, and the lack of colored pixels over vegetated areas does not necessarily mean no damage. Satellite/Sensor:
Synthetic Aperture Radar (SAR) from Copernicus Sentinel-1 operated by the European Space Agency (ESA); 30 meter resolution
Credits/Acknowledgements:
Sentinel-1 data were accessed through the Copernicus Open Access Hub. The image contains modified Copernicus Sentinel data (2018), processed by ESA and analyzed by the NASA-JPL/Caltech ARIA team. This research was carried out at JPL funded by NASA. For more information about ARIA, visit: http://aria.jpl.nasa.gov
Single Fused Map Cache:  false
Extent: 
XMin: 145.1311419
YMin: 13.899380859053275
XMax: 146.22155848379745
YMax: 15.4074363
Spatial Reference: 4326
 (4326)
Initial Extent:
XMin: 145.1311419
YMin: 13.899380859053275
XMax: 146.22155848379745
YMax: 15.4074363
Spatial Reference: 4326
 (4326)
Full Extent:
XMin: 145.1311419
YMin: 13.899380859053275
XMax: 146.22155848379745
YMax: 15.4074363
Spatial Reference: 4326
 (4326)
Pixel Size X: 1.3888887833364707E-4
Pixel Size Y:  1.388888783336457E-4
Band Count: 4
Pixel Type: U8
RasterFunction Infos:  {"rasterFunctionInfos": [
 {
  "name": "RGB Composite",
  "description": "A raster function template.",
  "help": ""
 },
 {
  "name": "None",
  "description": "",
  "help": ""
 }
]}
Mensuration Capabilities: Basic
Has Histograms:  false
Has Colormap:  false
Has Multi Dimensions :  false
Rendering Rule: 
Min Scale:  0
Max Scale:  0
Copyright Text:  NASA-JPL/Caltech ARIA Team, ESA Copernicus
Service Data Type:  esriImageServiceDataTypeGeneric
Min Values:  N/A
Max Values:  N/A
Mean Values:  N/A
Standard Deviation Values:  N/A
Object ID Field:  
Fields: 
None
Default Mosaic Method:  Center
Allowed Mosaic Methods:  
SortField:  
SortValue:  null
Mosaic Operator:  First
Default Compression Quality:  75
Default Resampling Method:  Nearest
Max Record Count:  null
Max Image Height:  4100
Max Image Width:  15000
Max Download Image Count:  null
Max Mosaic Image Count:  null
Allow Raster Function:  true
Allow Copy:  true
Allow Analysis:  true
Allow Compute TiePoints:  false
Supports Statistics:  false
Supports Advanced Queries:  false
Use StandardizedQueries:  true
Raster Type Infos: 
Name: Raster Dataset
Description: Supports all ArcGIS Raster Datasets
Help: 
Has Raster Attribute Table: false
Edit Fields Info:  null
Ownership Based AccessControl For Rasters:  null
Child Resources:
  
Info
  Statistics
  Key Properties
  Legend
  Raster Function Infos
Supported Operations:
  
Export Image
  Identify
  Measure
  Compute Histograms
  Compute Statistics Histograms
  Get Samples
  Compute Class Statistics
  Query Boundary
  Compute Pixel Location
  Compute Angles
  Validate
  Project