View In:
ArcGIS JavaScript
ArcGIS Online Map Viewer
ArcGIS Earth
ArcMap
View Footprint In:
ArcGIS Online Map Viewer
Service Description: Dates of images:7/16/2019Summary: This correlation image looks to see how images taken from two separate Sentinel-1 passes (July 4 and July 16, 2019) correlate with each other. In this case, the correlation image can be used to determine areas where the surface changed between the two images as a result of the Southern California Earthquakes.Suggested Use: The correlation image can be used to identify areas where the ground has shifted due to the earthquakes. Darker green areas represent a greater amount of shift. Note: There is some low correlation due to vegetation in Ridgecrest and some other areas. The rivers heading east from the main rupture have low correlation due to sand along the river shifting.Satellite/Sensor:Copernicus Sentinel-1 Synthetic Aperture Radar (SAR) operated by ESAResolution: 30 mCredits:Contains modified Copernicus Sentinel data, processed by ESA. Analyzed by the NASA-JPL/Caltech ARIA team. This task was carried out at JPL funded by NASA.
Name: ca_earthquake_072019/aria_sentinel1_correlationmap_20190716
Description: Dates of images:7/16/2019Summary: This correlation image looks to see how images taken from two separate Sentinel-1 passes (July 4 and July 16, 2019) correlate with each other. In this case, the correlation image can be used to determine areas where the surface changed between the two images as a result of the Southern California Earthquakes.Suggested Use: The correlation image can be used to identify areas where the ground has shifted due to the earthquakes. Darker green areas represent a greater amount of shift. Note: There is some low correlation due to vegetation in Ridgecrest and some other areas. The rivers heading east from the main rupture have low correlation due to sand along the river shifting.Satellite/Sensor:Copernicus Sentinel-1 Synthetic Aperture Radar (SAR) operated by ESAResolution: 30 mCredits:Contains modified Copernicus Sentinel data, processed by ESA. Analyzed by the NASA-JPL/Caltech ARIA team. This task was carried out at JPL funded by NASA.
Single Fused Map Cache: false
Extent:
XMin: -118.24333333333334
YMin: 34.71972222222223
XMax: -116.78333333333335
YMax: 36.39666666666667
Spatial Reference: 4326
(4326)
Initial Extent:
XMin: -118.24333333333334
YMin: 34.71972222222223
XMax: -116.78333333333335
YMax: 36.39666666666667
Spatial Reference: 4326
(4326)
Full Extent:
XMin: -118.24333333333334
YMin: 34.71972222222223
XMax: -116.78333333333335
YMax: 36.39666666666667
Spatial Reference: 4326
(4326)
Pixel Size X: 2.777777777777766E-4
Pixel Size Y: 2.7777777777777664E-4
Band Count: 4
Pixel Type: U8
RasterFunction Infos: {"rasterFunctionInfos": [{
"name": "None",
"description": "",
"help": ""
}]}
Mensuration Capabilities: Basic
Has Histograms: false
Has Colormap: false
Has Multi Dimensions : false
Rendering Rule:
Min Scale: 0
Max Scale: 0
Copyright Text: NASA-JPL/Caltech ARIA Team, ESA, Copernicus
Service Data Type: esriImageServiceDataTypeGeneric
Min Values: N/A
Max Values: N/A
Mean Values: N/A
Standard Deviation Values: N/A
Object ID Field:
Fields:
None
Default Mosaic Method: Center
Allowed Mosaic Methods:
SortField:
SortValue: null
Mosaic Operator: First
Default Compression Quality: 75
Default Resampling Method: Nearest
Max Record Count: null
Max Image Height: 4100
Max Image Width: 15000
Max Download Image Count: null
Max Mosaic Image Count: null
Allow Raster Function: true
Allow Copy: true
Allow Analysis: true
Allow Compute TiePoints: false
Supports Statistics: false
Supports Advanced Queries: false
Use StandardizedQueries: true
Raster Type Infos:
Name: Raster Dataset
Description: Supports all ArcGIS Raster Datasets
Help:
Has Raster Attribute Table: false
Edit Fields Info: null
Ownership Based AccessControl For Rasters: null
Child Resources:
Info
Statistics
Key Properties
Legend
Raster Function Infos
Supported Operations:
Export Image
Identify
Measure
Compute Histograms
Compute Statistics Histograms
Get Samples
Compute Class Statistics
Query Boundary
Compute Pixel Location
Compute Angles
Validate
Project