View In:
ArcGIS JavaScript
ArcGIS Online Map Viewer
ArcGIS Earth
ArcMap
View Footprint In:
ArcGIS Online Map Viewer
Service Description: Summary:The Advanced Rapid Imaging and Analysis (ARIA) team at NASA's Jet Propulsion Laboratory and California Institute of Technology, both in Pasadena, California, created this Damage Proxy Map (DPM) depicting areas that are likely damaged caused by the recent major earthquakes in California, including the M6.4 (July 4, 2019) and the M7.1 (July 5, 2019) events. The map was derived from synthetic aperture radar (SAR) images from the Copernicus Sentinel-1 satellites, operated by the European Space Agency (ESA). The images were taken before (July 4, 2019) and after (July 10, 2019) the sequence of earthquakes. The image covers an area of 250 by 300 kilometers (155 by 186 miles), shown by the large red polygon. Each pixel measures about 30 meters across. The color variation from yellow to red indicates increasingly more significant surface change. Preliminary validation was done by identifying liquefaction areas using the Planet's optical images taken before (July 2, 2019) and after (July 10, 2019) the earthquakes. This damage proxy map should be used as guidance to identify damaged areas, and may be less reliable over vegetated areas. For example, the scattered colored pixels over vegetated areas may be false positives, and the lack of colored pixels over vegetated areas does not necessarily mean no damage. Suggested Use:This damage proxy map shows surface change with yellow to red indiciating more significant change due to the recent earthquakes. The damage proxy map should be used as guidance to identify damaged areas and may be less reliable over vegetated areas. The lack of colored pixels over vegeated areas does not necessarily mean no damage.Satellite/Sensor:Copernicus Sentinel-1 Sythetic Aperture Radar (SAR)Resolution: 30 metersCredits:Contains modified Copernicus Sentinel data, processed by ESA. Analyzed by the NASA-JPL/Caltech ARIA team. This task was carried out at JPL funded by NASA.ESRI REST Endpoint:See URL on Right Side of the PageWMS Endpoint:
Name: ca_earthquake_072019/s1_dpm_20190710
Description: Summary:The Advanced Rapid Imaging and Analysis (ARIA) team at NASA's Jet Propulsion Laboratory and California Institute of Technology, both in Pasadena, California, created this Damage Proxy Map (DPM) depicting areas that are likely damaged caused by the recent major earthquakes in California, including the M6.4 (July 4, 2019) and the M7.1 (July 5, 2019) events. The map was derived from synthetic aperture radar (SAR) images from the Copernicus Sentinel-1 satellites, operated by the European Space Agency (ESA). The images were taken before (July 4, 2019) and after (July 10, 2019) the sequence of earthquakes. The image covers an area of 250 by 300 kilometers (155 by 186 miles), shown by the large red polygon. Each pixel measures about 30 meters across. The color variation from yellow to red indicates increasingly more significant surface change. Preliminary validation was done by identifying liquefaction areas using the Planet's optical images taken before (July 2, 2019) and after (July 10, 2019) the earthquakes. This damage proxy map should be used as guidance to identify damaged areas, and may be less reliable over vegetated areas. For example, the scattered colored pixels over vegetated areas may be false positives, and the lack of colored pixels over vegetated areas does not necessarily mean no damage. Suggested Use:This damage proxy map shows surface change with yellow to red indiciating more significant change due to the recent earthquakes. The damage proxy map should be used as guidance to identify damaged areas and may be less reliable over vegetated areas. The lack of colored pixels over vegeated areas does not necessarily mean no damage.Satellite/Sensor:Copernicus Sentinel-1 Sythetic Aperture Radar (SAR)Resolution: 30 metersCredits:Contains modified Copernicus Sentinel data, processed by ESA. Analyzed by the NASA-JPL/Caltech ARIA team. This task was carried out at JPL funded by NASA.ESRI REST Endpoint:See URL on Right Side of the PageWMS Endpoint:
Single Fused Map Cache: false
Extent:
XMin: -119.4461312
YMin: 33.84570200892718
XMax: -116.1293259223085
YMax: 36.8701462
Spatial Reference: 4326
(4326)
Initial Extent:
XMin: -119.4461312
YMin: 33.84570200892718
XMax: -116.1293259223085
YMax: 36.8701462
Spatial Reference: 4326
(4326)
Full Extent:
XMin: -119.4461312
YMin: 33.84570200892718
XMax: -116.1293259223085
YMax: 36.8701462
Spatial Reference: 4326
(4326)
Pixel Size X: 1.3888887725352792E-4
Pixel Size Y: 1.3888887725352792E-4
Band Count: 4
Pixel Type: U8
RasterFunction Infos: {"rasterFunctionInfos": [
{
"name": "RGB Composite",
"description": "A raster function template.",
"help": ""
},
{
"name": "None",
"description": "",
"help": ""
}
]}
Mensuration Capabilities: Basic
Has Histograms: false
Has Colormap: false
Has Multi Dimensions : false
Rendering Rule:
Min Scale: 0
Max Scale: 0
Copyright Text: NASA, NASA-JPL/Caltech ARIA Team, Copernicus Sentinel-1
Service Data Type: esriImageServiceDataTypeGeneric
Min Values: N/A
Max Values: N/A
Mean Values: N/A
Standard Deviation Values: N/A
Object ID Field:
Fields:
None
Default Mosaic Method: Center
Allowed Mosaic Methods:
SortField:
SortValue: null
Mosaic Operator: First
Default Compression Quality: 75
Default Resampling Method: Bilinear
Max Record Count: null
Max Image Height: 4100
Max Image Width: 15000
Max Download Image Count: null
Max Mosaic Image Count: null
Allow Raster Function: true
Allow Copy: true
Allow Analysis: true
Allow Compute TiePoints: false
Supports Statistics: false
Supports Advanced Queries: false
Use StandardizedQueries: true
Raster Type Infos:
Name: Raster Dataset
Description: Supports all ArcGIS Raster Datasets
Help:
Has Raster Attribute Table: false
Edit Fields Info: null
Ownership Based AccessControl For Rasters: null
Child Resources:
Info
Statistics
Key Properties
Legend
Raster Function Infos
Supported Operations:
Export Image
Identify
Measure
Compute Histograms
Compute Statistics Histograms
Get Samples
Compute Class Statistics
Query Boundary
Compute Pixel Location
Compute Angles
Validate
Project