View In:
ArcGIS JavaScript
ArcGIS Online Map Viewer
ArcGIS Earth
ArcMap
View Footprint In:
ArcGIS Online Map Viewer
Service Description: ca_earthquake_072019/uas_orthomosaic_20190709_tif
Name: ca_earthquake_072019/uas_orthomosaic_20190709_tif
Description:
Single Fused Map Cache: false
Extent:
XMin: 456285.36903000006
YMin: 3944654.8887800006
XMax: 456783.65127000003
YMax: 3945206.5211000005
Spatial Reference: 32611
(32611)
Initial Extent:
XMin: 456285.36903000006
YMin: 3944654.8887800006
XMax: 456783.65127000003
YMax: 3945206.5211000005
Spatial Reference: 32611
(32611)
Full Extent:
XMin: 456285.36903000006
YMin: 3944654.8887800006
XMax: 456783.65127000003
YMax: 3945206.5211000005
Spatial Reference: 32611
(32611)
Pixel Size X: 0.01631999999999906
Pixel Size Y: 0.01631999999999582
Band Count: 4
Pixel Type: U8
RasterFunction Infos: {"rasterFunctionInfos": [{
"name": "None",
"description": "",
"help": ""
}]}
Mensuration Capabilities: Basic
Has Histograms: false
Has Colormap: false
Has Multi Dimensions : false
Rendering Rule:
Min Scale: 0
Max Scale: 0
Copyright Text:
Service Data Type: esriImageServiceDataTypeGeneric
Min Values: N/A
Max Values: N/A
Mean Values: N/A
Standard Deviation Values: N/A
Object ID Field:
Fields:
None
Default Mosaic Method: Center
Allowed Mosaic Methods:
SortField:
SortValue: null
Mosaic Operator: First
Default Compression Quality: 75
Default Resampling Method: Bilinear
Max Record Count: null
Max Image Height: 4100
Max Image Width: 15000
Max Download Image Count: null
Max Mosaic Image Count: null
Allow Raster Function: true
Allow Copy: true
Allow Analysis: true
Allow Compute TiePoints: false
Supports Statistics: false
Supports Advanced Queries: false
Use StandardizedQueries: true
Raster Type Infos:
Name: Raster Dataset
Description: Supports all ArcGIS Raster Datasets
Help:
Has Raster Attribute Table: false
Edit Fields Info: null
Ownership Based AccessControl For Rasters: null
Child Resources:
Info
Statistics
Key Properties
Legend
Raster Function Infos
Supported Operations:
Export Image
Identify
Measure
Compute Histograms
Compute Statistics Histograms
Get Samples
Compute Class Statistics
Query Boundary
Compute Pixel Location
Compute Angles
Validate
Project