View In:
ArcGIS JavaScript
ArcGIS Online Map Viewer
ArcGIS Earth
ArcMap
View Footprint In:
ArcGIS Online Map Viewer
Service Description: Date of Image: 3/21/2019 Date of Next Image: Unknown Purpose/Summary: Modified Normalized Difference Water Index (MNDWI) provides a different view of the Earth's surface combining different bands to make water bodies more obvious. This index can be used to identify flooded areas as well as heavily saturated areas. Suggested Usage: Areas of existing water, such as a rivers or lakes appear in the darkest green with high values near 1, while dry land appears in the darkest brown with low values near -1. This product can be used to identify potentially flooded areas that can be seen in varying shades of green and light brown depending on the amount of moisture picked up by the satellite. Satellite/Sensor: Landsat 8 Operational Land Imager (OLI); 30m resolution Credit/Acknowledgments: NASA/MSFC, USGS
Name: cyclone_idai_2019/landsat8_mndwi_20190321_0747
Description: Date of Image: 3/21/2019 Date of Next Image: Unknown Purpose/Summary: Modified Normalized Difference Water Index (MNDWI) provides a different view of the Earth's surface combining different bands to make water bodies more obvious. This index can be used to identify flooded areas as well as heavily saturated areas. Suggested Usage: Areas of existing water, such as a rivers or lakes appear in the darkest green with high values near 1, while dry land appears in the darkest brown with low values near -1. This product can be used to identify potentially flooded areas that can be seen in varying shades of green and light brown depending on the amount of moisture picked up by the satellite. Satellite/Sensor: Landsat 8 Operational Land Imager (OLI); 30m resolution Credit/Acknowledgments: NASA/MSFC, USGS
Single Fused Map Cache: false
Extent:
XMin: 31.540270359462983
YMin: -22.725397295200878
XMax: 34.74760726012367
YMax: -16.28719914867662
Spatial Reference: 4326
(4326)
Initial Extent:
XMin: 31.540270359462983
YMin: -22.725397295200878
XMax: 34.74760726012367
YMax: -16.28719914867662
Spatial Reference: 4326
(4326)
Full Extent:
XMin: 31.540270359462983
YMin: -22.725397295200878
XMax: 34.74760726012367
YMax: -16.28719914867662
Spatial Reference: 4326
(4326)
Pixel Size X: 2.7675700238680547E-4
Pixel Size Y: 2.767570023868055E-4
Band Count: 1
Pixel Type: F32
RasterFunction Infos: {"rasterFunctionInfos": [
{
"name": "L8_mndwi_africa",
"description": "A raster function template.",
"help": ""
},
{
"name": "None",
"description": "",
"help": ""
}
]}
Mensuration Capabilities: Basic
Has Histograms: false
Has Colormap: false
Has Multi Dimensions : false
Rendering Rule:
Min Scale: 0
Max Scale: 0
Copyright Text: NASA/MSFC, USGS
Service Data Type: esriImageServiceDataTypeGeneric
Min Values: N/A
Max Values: N/A
Mean Values: N/A
Standard Deviation Values: N/A
Object ID Field:
Fields:
None
Default Mosaic Method: Center
Allowed Mosaic Methods:
SortField:
SortValue: null
Mosaic Operator: First
Default Compression Quality: 75
Default Resampling Method: Bilinear
Max Record Count: null
Max Image Height: 4100
Max Image Width: 15000
Max Download Image Count: null
Max Mosaic Image Count: null
Allow Raster Function: true
Allow Copy: true
Allow Analysis: true
Allow Compute TiePoints: false
Supports Statistics: false
Supports Advanced Queries: false
Use StandardizedQueries: true
Raster Type Infos:
Name: Raster Dataset
Description: Supports all ArcGIS Raster Datasets
Help:
Has Raster Attribute Table: false
Edit Fields Info: null
Ownership Based AccessControl For Rasters: null
Child Resources:
Info
Statistics
Key Properties
Legend
Raster Function Infos
Supported Operations:
Export Image
Identify
Measure
Compute Histograms
Compute Statistics Histograms
Get Samples
Compute Class Statistics
Query Boundary
Compute Pixel Location
Compute Angles
Validate
Project