View In:
  ArcGIS JavaScript
  ArcGIS Online Map Viewer
  ArcGIS Earth
  ArcMap
View Footprint In:
  ArcGIS Online Map Viewer
Service Description:  hurricane_dorian_2019/aria_fpm_sentinel1_20190902
Name:  hurricane_dorian_2019/aria_fpm_sentinel1_20190902
Description:  
Single Fused Map Cache:  false
Extent: 
XMin: -78.26427537743805
YMin: 25.684014108844742
XMax: -76.19899759966029
YMax: 27.55262521995584
Spatial Reference: 4326
 (4326)
Initial Extent:
XMin: -78.26427537743805
YMin: 25.684014108844742
XMax: -76.19899759966029
YMax: 27.55262521995584
Spatial Reference: 4326
 (4326)
Full Extent:
XMin: -78.26427537743805
YMin: 25.684014108844742
XMax: -76.19899759966029
YMax: 27.55262521995584
Spatial Reference: 4326
 (4326)
Pixel Size X: 2.7777777777777615E-4
Pixel Size Y:  2.7777777777777566E-4
Band Count: 1
Pixel Type: U1
RasterFunction Infos:  {"rasterFunctionInfos": [
 {
  "name": "aria_fpm_colormap",
  "description": "A raster function template.",
  "help": ""
 },
 {
  "name": "None",
  "description": "",
  "help": ""
 }
]}
Mensuration Capabilities: Basic
Has Histograms:  false
Has Colormap:  false
Has Multi Dimensions :  false
Rendering Rule: 
Min Scale:  0
Max Scale:  0
Copyright Text:  
Service Data Type:  esriImageServiceDataTypeThematic
Min Values:  N/A
Max Values:  N/A
Mean Values:  N/A
Standard Deviation Values:  N/A
Object ID Field:  
Fields: 
None
Default Mosaic Method:  Center
Allowed Mosaic Methods:  
SortField:  
SortValue:  null
Mosaic Operator:  First
Default Compression Quality:  75
Default Resampling Method:  Bilinear
Max Record Count:  null
Max Image Height:  4100
Max Image Width:  15000
Max Download Image Count:  null
Max Mosaic Image Count:  null
Allow Raster Function:  true
Allow Copy:  true
Allow Analysis:  true
Allow Compute TiePoints:  false
Supports Statistics:  false
Supports Advanced Queries:  false
Use StandardizedQueries:  true
Raster Type Infos: 
Name: Raster Dataset
Description: Supports all ArcGIS Raster Datasets
Help: 
Has Raster Attribute Table: false
Edit Fields Info:  null
Ownership Based AccessControl For Rasters:  null
Child Resources:
  
Info
  Statistics
  Key Properties
  Legend
  Raster Function Infos
Supported Operations:
  
Export Image
  Identify
  Measure
  Compute Histograms
  Compute Statistics Histograms
  Get Samples
  Compute Class Statistics
  Query Boundary
  Compute Pixel Location
  Compute Angles
  Validate
  Project