View In:
ArcGIS JavaScript
ArcGIS Online Map Viewer
ArcGIS Earth
ArcMap
View Footprint In:
ArcGIS Online Map Viewer
Service Description: laos_damnFailure/20180717T224419_20180717T224444_S1A_RGB_WGS84
Name: laos_damnFailure/20180717T224419_20180717T224444_S1A_RGB_WGS84
Description:
Single Fused Map Cache: false
Extent:
XMin: 105.28747857868049
YMin: 13.530869677915714
XMax: 107.87833916826625
YMax: 15.497509521260458
Spatial Reference: 4326
(4326)
Initial Extent:
XMin: 105.28747857868049
YMin: 13.530869677915714
XMax: 107.87833916826625
YMax: 15.497509521260458
Spatial Reference: 4326
(4326)
Full Extent:
XMin: 105.28747857868049
YMin: 13.530869677915714
XMax: 107.87833916826625
YMax: 15.497509521260458
Spatial Reference: 4326
(4326)
Pixel Size X: 2.755941484507775E-4
Pixel Size Y: 2.755941484507769E-4
Band Count: 3
Pixel Type: U8
RasterFunction Infos: {"rasterFunctionInfos": [
{
"name": "None",
"description": "Make a Raster or Raster Dataset into a Function Raster Dataset.",
"help": ""
},
{
"name": "MSFC_SARRGBcomposite",
"description": "A raster function template.",
"help": ""
}
]}
Mensuration Capabilities: Basic
Has Histograms: false
Has Colormap: false
Has Multi Dimensions : false
Rendering Rule:
Min Scale: 0
Max Scale: 0
Copyright Text:
Service Data Type: esriImageServiceDataTypeRGB
Min Values: N/A
Max Values: N/A
Mean Values: N/A
Standard Deviation Values: N/A
Object ID Field:
Fields:
None
Default Mosaic Method: Center
Allowed Mosaic Methods:
SortField:
SortValue: null
Mosaic Operator: First
Default Compression Quality: 75
Default Resampling Method: Bilinear
Max Record Count: null
Max Image Height: 4100
Max Image Width: 15000
Max Download Image Count: null
Max Mosaic Image Count: null
Allow Raster Function: true
Allow Copy: true
Allow Analysis: true
Allow Compute TiePoints: false
Supports Statistics: false
Supports Advanced Queries: false
Use StandardizedQueries: true
Raster Type Infos:
Name: Raster Dataset
Description: Supports all ArcGIS Raster Datasets
Help:
Has Raster Attribute Table: false
Edit Fields Info: null
Ownership Based AccessControl For Rasters: null
Child Resources:
Info
Statistics
Key Properties
Legend
Raster Function Infos
Supported Operations:
Export Image
Identify
Measure
Compute Histograms
Compute Statistics Histograms
Get Samples
Compute Class Statistics
Query Boundary
Compute Pixel Location
Compute Angles
Validate
Project