View In:
  ArcGIS JavaScript
  ArcGIS Online Map Viewer
  ArcGIS Earth
  ArcMap
View Footprint In:
  ArcGIS Online Map Viewer
Service Description:  Date of Images:
12/19/2023
Date of Next Image:
Unknown
Summary:
This PlanetScope imagery captured by Planet Labs Inc. on December 19, 2023 shows the post-event conditions after flooding in New England.
The color infrared image is created using the near-infrared, red, and green channels from the Planet instrument allowing for the ability to see areas impacted from the flooding. The near-infrared gives the ability to see through thin clouds. Healthy vegetation is shown as red, water is in blue.
Suggested Use:
A false color composite depicts healthy vegetation as red, water as blue. Some minor atmospheric corrections have occurred.
Satellite/Sensor:
PlanetScope
Resolution:
3 meters
Credits:
NASA Disasters Program, Includes copyrighted material of Planet Labs PBC. All rights reserved.
Esri REST Endpoint:
See URL section on right side of page
WMS Endpoint:
 newengland_flooding_202312/planet_cir_20231219
Description:  Date of Images:
12/19/2023
Date of Next Image:
Unknown
Summary:
This PlanetScope imagery captured by Planet Labs Inc. on December 19, 2023 shows the post-event conditions after flooding in New England.
The color infrared image is created using the near-infrared, red, and green channels from the Planet instrument allowing for the ability to see areas impacted from the flooding. The near-infrared gives the ability to see through thin clouds. Healthy vegetation is shown as red, water is in blue.
Suggested Use:
A false color composite depicts healthy vegetation as red, water as blue. Some minor atmospheric corrections have occurred.
Satellite/Sensor:
PlanetScope
Resolution:
3 meters
Credits:
NASA Disasters Program, Includes copyrighted material of Planet Labs PBC. All rights reserved.
Esri REST Endpoint:
See URL section on right side of page
WMS Endpoint:
 false
Extent: 
XMin: -7950887.5834
YMin: 5342316.837300003
XMax: -7737098.5834
YMax: 5700903.837300003
Spatial Reference: 102100
 (3857)
Initial Extent:
XMin: -7950887.5834
YMin: 5342316.837300003
XMax: -7737098.5834
YMax: 5700903.837300003
Spatial Reference: 102100
 (3857)
Full Extent:
XMin: -7950887.5834
YMin: 5342316.837300003
XMax: -7737098.5834
YMax: 5700903.837300003
Spatial Reference: 102100
 (3857)
Pixel Size X: 3.0
Pixel Size Y:  3.0
Band Count: 3
Pixel Type: U8
RasterFunction Infos:  {"rasterFunctionInfos": [{
 "name": "None",
 "description": "",
 "help": ""
}]}
Mensuration Capabilities: None
Has Histograms:  true
Has Colormap:  false
Has Multi Dimensions :  false
Rendering Rule: 
Min Scale:  0
Max Scale:  0
Copyright Text:  NASA Disasters Program, Includes copyrighted material of Planet Labs PBC. All rights reserved.
Service Data Type:  esriImageServiceDataTypeRGB
Min Values:  0, 0, 0
Max Values:  255, 255, 255
Mean Values:  148.89273495091518, 88.47848005024778, 85.10779189117692
Standard Deviation Values:  35.66334144967506, 40.44483399979766, 39.7693803557862
Object ID Field:  OBJECTID
Fields: 
- 
OBJECTID
(
type: esriFieldTypeOID, alias: OBJECTID
)
- 
Shape
(
type: esriFieldTypeGeometry, alias: Shape
)
- 
Name
(
type: esriFieldTypeString, alias: Name, length: 200
)
- 
MinPS
(
type: esriFieldTypeDouble, alias: MinPS
)
- 
MaxPS
(
type: esriFieldTypeDouble, alias: MaxPS
)
- 
LowPS
(
type: esriFieldTypeDouble, alias: LowPS
)
- 
HighPS
(
type: esriFieldTypeDouble, alias: HighPS
)
- 
Category
(
type: esriFieldTypeInteger, alias: Category
, Coded Values: 
[0: Unknown]
, [1: Primary]
, [2: Overview]
, ...6 more...
)
- 
Tag
(
type: esriFieldTypeString, alias: Tag, length: 100
)
- 
GroupName
(
type: esriFieldTypeString, alias: GroupName, length: 100
)
- 
ProductName
(
type: esriFieldTypeString, alias: ProductName, length: 100
)
- 
CenterX
(
type: esriFieldTypeDouble, alias: CenterX
)
- 
CenterY
(
type: esriFieldTypeDouble, alias: CenterY
)
- 
ZOrder
(
type: esriFieldTypeInteger, alias: ZOrder
)
- 
Shape_Length
(
type: esriFieldTypeDouble, alias: Shape_Length
)
- 
Shape_Area
(
type: esriFieldTypeDouble, alias: Shape_Area
)
Default Mosaic Method: Northwest
Allowed Mosaic Methods:  NorthWest,Center,LockRaster,ByAttribute,Nadir,Viewpoint,Seamline,None
SortField:  
SortValue:  null
Mosaic Operator:  First
Default Compression Quality:  75
Default Resampling Method:  Bilinear
Max Record Count:  1000
Max Image Height:  4100
Max Image Width:  15000
Max Download Image Count:  20
Max Mosaic Image Count:  20
Allow Raster Function:  true
Allow Copy:  true
Allow Analysis:  true
Allow Compute TiePoints:  false
Supports Statistics:  true
Supports Advanced Queries:  true
Use StandardizedQueries:  true
Raster Type Infos: 
Name: Raster Dataset
Description: Supports all ArcGIS Raster Datasets
Help: 
Has Raster Attribute Table: false
Edit Fields Info:  null
Ownership Based AccessControl For Rasters:  null
Child Resources:
  
Info
  Histograms
  Statistics
  Key Properties
  Legend
  Raster Function Infos
Supported Operations:
  
Export Image
  Query
  Identify
  Compute Histograms
  Compute Statistics Histograms
  Get Samples
  Compute Class Statistics
  Query Boundary
  Compute Pixel Location
  Compute Angles
  Validate
  Project