View In:
ArcGIS JavaScript
ArcGIS Online Map Viewer
ArcGIS Earth
ArcMap
View Footprint In:
ArcGIS Online Map Viewer
Service Description: GOES East Image: 9/2/2019 at 23:11:15 UTC
Credits: NOAA
Name: hurricane_dorian_2019/goes_band13_20190902_231115
Description: GOES East Image: 9/2/2019 at 23:11:15 UTC
Credits: NOAA
Single Fused Map Cache: false
Extent:
XMin: -153.11607360839844
YMin: 13.588503540039063
XMax: -52.847933608398435
YMax: 60.37550354003906
Spatial Reference: 4326
(4326)
Initial Extent:
XMin: -153.11607360839844
YMin: 13.588503540039063
XMax: -52.847933608398435
YMax: 60.37550354003906
Spatial Reference: 4326
(4326)
Full Extent:
XMin: -153.11607360839844
YMin: 13.588503540039063
XMax: -52.847933608398435
YMax: 60.37550354003906
Spatial Reference: 4326
(4326)
Pixel Size X: 0.017995
Pixel Size Y: 0.017995
Band Count: 1
Pixel Type: U8
RasterFunction Infos: {"rasterFunctionInfos": [{
"name": "None",
"description": "",
"help": ""
}]}
Mensuration Capabilities: Basic
Has Histograms: false
Has Colormap: false
Has Multi Dimensions : false
Rendering Rule:
Min Scale: 0
Max Scale: 0
Copyright Text: NOAA
Service Data Type: esriImageServiceDataTypeGeneric
Min Values: N/A
Max Values: N/A
Mean Values: N/A
Standard Deviation Values: N/A
Object ID Field:
Fields:
None
Default Mosaic Method: Center
Allowed Mosaic Methods:
SortField:
SortValue: null
Mosaic Operator: First
Default Compression Quality: 75
Default Resampling Method: Bilinear
Max Record Count: null
Max Image Height: 4100
Max Image Width: 15000
Max Download Image Count: null
Max Mosaic Image Count: null
Allow Raster Function: true
Allow Copy: true
Allow Analysis: true
Allow Compute TiePoints: false
Supports Statistics: false
Supports Advanced Queries: false
Use StandardizedQueries: true
Raster Type Infos:
Name: Raster Dataset
Description: Supports all ArcGIS Raster Datasets
Help:
Has Raster Attribute Table: false
Edit Fields Info: null
Ownership Based AccessControl For Rasters: null
Child Resources:
Info
Statistics
Key Properties
Legend
Raster Function Infos
Supported Operations:
Export Image
Identify
Measure
Compute Histograms
Compute Statistics Histograms
Get Samples
Compute Class Statistics
Query Boundary
Compute Pixel Location
Compute Angles
Validate
Project