View In:
ArcGIS JavaScript
ArcGIS Online Map Viewer
ArcGIS Earth
ArcMap
View Footprint In:
ArcGIS Online Map Viewer
Service Description: Date of Images:
4/9/2021 - 4/17/2021
Date of Next Image:
None Expected
Summary:
Using Thermal Infrared colol composites from MODIS and VIIRS allows for monitoring the volcanic plume from La Soufirere eruption thoughout the event. By using MODIS and VIIRS, imagery is captured multiple times per day both during the day and at night.
Suggested Use:
Identifying plume locations throughout the eruption.
Satellite/Sensor:
MODerate Resolution Imaging Spectroradiometer (MODIS) on NASA's Aqua and Terra Satellites
Visible Infrared Imaging Radiometer Suite (VIIRS) on Suomi-NPP and NOAA 20
Resolution:
MODIS: 1000 meters
VIIRS: 750 meters
Credits:
NASA, JPL-Caltech, NASA Disasters Program
Esri REST Endpoint:
See URL Section on Right Side of Page
WMS Endpoint:
Data Download:
https://maps.disasters.nasa.gov/download/gis_products/event_specific/2021/la_soufriere_eruption/modis_viirs/thermal_infrared/
Name: la_sourfriere_eruption_2021/thermal_infrared
Description: Date of Images:
4/9/2021 - 4/17/2021
Date of Next Image:
None Expected
Summary:
Using Thermal Infrared colol composites from MODIS and VIIRS allows for monitoring the volcanic plume from La Soufirere eruption thoughout the event. By using MODIS and VIIRS, imagery is captured multiple times per day both during the day and at night.
Suggested Use:
Identifying plume locations throughout the eruption.
Satellite/Sensor:
MODerate Resolution Imaging Spectroradiometer (MODIS) on NASA's Aqua and Terra Satellites
Visible Infrared Imaging Radiometer Suite (VIIRS) on Suomi-NPP and NOAA 20
Resolution:
MODIS: 1000 meters
VIIRS: 750 meters
Credits:
NASA, JPL-Caltech, NASA Disasters Program
Esri REST Endpoint:
See URL Section on Right Side of Page
WMS Endpoint:
Data Download:
https://maps.disasters.nasa.gov/download/gis_products/event_specific/2021/la_soufriere_eruption/modis_viirs/thermal_infrared/
Single Fused Map Cache: false
Extent:
XMin: -9650807.4982
YMin: -1167728.9777999986
XMax: -3281601.898199999
YMax: 4293432.422200002
Spatial Reference: 102100
(3857)
Initial Extent:
XMin: -9650807.4982
YMin: -1167728.9777999986
XMax: -3281601.898199999
YMax: 4293432.422200002
Spatial Reference: 102100
(3857)
Full Extent:
XMin: -9650807.4982
YMin: -1167728.9777999986
XMax: -3281601.898199999
YMax: 4293432.422200002
Spatial Reference: 102100
(3857)
Time Info:
Start Time Field: Date
End Time Field: Date
Time Extent:
[2021/04/09 16:55:00 UTC, 2021/04/17 17:45:00 UTC]
Time Reference:
N/A
Pixel Size X: 758.6
Pixel Size Y: 758.6
Band Count: 3
Pixel Type: U8
RasterFunction Infos: {"rasterFunctionInfos": [
{
"name": "la_soufriere_tir",
"description": "A raster function template.",
"help": ""
},
{
"name": "None",
"description": "A No-Op Function.",
"help": ""
}
]}
Mensuration Capabilities: Basic
Has Histograms: false
Has Colormap: false
Has Multi Dimensions : false
Rendering Rule:
Min Scale: 0
Max Scale: 0
Copyright Text: NASA, JPL-Caltech, NASA Disasters Program
Service Data Type: esriImageServiceDataTypeRGB
Min Values: N/A
Max Values: N/A
Mean Values: N/A
Standard Deviation Values: N/A
Object ID Field: OBJECTID
Fields:
-
OBJECTID
(
type: esriFieldTypeOID, alias: OBJECTID
)
-
Shape
(
type: esriFieldTypeGeometry, alias: Shape
)
-
Name
(
type: esriFieldTypeString, alias: Name, length: 200
)
-
MinPS
(
type: esriFieldTypeDouble, alias: MinPS
)
-
MaxPS
(
type: esriFieldTypeDouble, alias: MaxPS
)
-
LowPS
(
type: esriFieldTypeDouble, alias: LowPS
)
-
HighPS
(
type: esriFieldTypeDouble, alias: HighPS
)
-
Category
(
type: esriFieldTypeInteger, alias: Category
, Coded Values:
[0: Unknown]
, [1: Primary]
, [2: Overview]
, ...6 more...
)
-
Tag
(
type: esriFieldTypeString, alias: Tag, length: 100
)
-
GroupName
(
type: esriFieldTypeString, alias: GroupName, length: 100
)
-
ProductName
(
type: esriFieldTypeString, alias: ProductName, length: 100
)
-
CenterX
(
type: esriFieldTypeDouble, alias: CenterX
)
-
CenterY
(
type: esriFieldTypeDouble, alias: CenterY
)
-
ZOrder
(
type: esriFieldTypeInteger, alias: ZOrder
)
-
Shape_Length
(
type: esriFieldTypeDouble, alias: Shape_Length
)
-
Shape_Area
(
type: esriFieldTypeDouble, alias: Shape_Area
)
-
Date
(
type: esriFieldTypeDate, alias: Date, length: 8
)
Default Mosaic Method: Northwest
Allowed Mosaic Methods: NorthWest,Center,LockRaster,ByAttribute,Nadir,Viewpoint,Seamline,None
SortField:
SortValue: null
Mosaic Operator: First
Default Compression Quality: 75
Default Resampling Method: Nearest
Max Record Count: 1000
Max Image Height: 4100
Max Image Width: 15000
Max Download Image Count: 20
Max Mosaic Image Count: 20
Allow Raster Function: true
Allow Copy: true
Allow Analysis: true
Allow Compute TiePoints: false
Supports Statistics: true
Supports Advanced Queries: true
Use StandardizedQueries: true
Raster Type Infos:
Name: Raster Dataset
Description: Supports all ArcGIS Raster Datasets
Help:
Has Raster Attribute Table: false
Edit Fields Info: null
Ownership Based AccessControl For Rasters: null
Child Resources:
Info
Statistics
Key Properties
Legend
Raster Function Infos
Supported Operations:
Export Image
Query
Identify
Measure
Compute Histograms
Compute Statistics Histograms
Get Samples
Compute Class Statistics
Query Boundary
Compute Pixel Location
Compute Angles
Validate
Project