View In:
ArcGIS JavaScript
ArcGIS Online Map Viewer
ArcGIS Earth
ArcMap
View Footprint In:
ArcGIS Online Map Viewer
Service Description: malaysia_flooding_202112/eos_rs_fpm_sentinel1_20211221
Name: malaysia_flooding_202112/eos_rs_fpm_sentinel1_20211221
Description:
Single Fused Map Cache: false
Extent:
XMin: 100.88016691181905
YMin: 1.7419879287773599
XMax: 104.09461135626347
YMax: 6.941154595443983
Spatial Reference: 4326
(4326)
Initial Extent:
XMin: 100.88016691181905
YMin: 1.7419879287773599
XMax: 104.09461135626347
YMax: 6.941154595443983
Spatial Reference: 4326
(4326)
Full Extent:
XMin: 100.88016691181905
YMin: 1.7419879287773599
XMax: 104.09461135626347
YMax: 6.941154595443983
Spatial Reference: 4326
(4326)
Pixel Size X: 2.7777777777777604E-4
Pixel Size Y: 2.7777777777777545E-4
Band Count: 1
Pixel Type: U1
RasterFunction Infos: {"rasterFunctionInfos": [
{
"name": "aria_fpm",
"description": "A raster function template.",
"help": ""
},
{
"name": "None",
"description": "",
"help": ""
}
]}
Mensuration Capabilities: Basic
Has Histograms: false
Has Colormap: false
Has Multi Dimensions : false
Rendering Rule:
Min Scale: 0
Max Scale: 0
Copyright Text:
Service Data Type: esriImageServiceDataTypeThematic
Min Values: N/A
Max Values: N/A
Mean Values: N/A
Standard Deviation Values: N/A
Object ID Field:
Fields:
None
Default Mosaic Method: Center
Allowed Mosaic Methods:
SortField:
SortValue: null
Mosaic Operator: First
Default Compression Quality: 75
Default Resampling Method: Bilinear
Max Record Count: null
Max Image Height: 4100
Max Image Width: 15000
Max Download Image Count: null
Max Mosaic Image Count: null
Allow Raster Function: true
Allow Copy: true
Allow Analysis: true
Allow Compute TiePoints: false
Supports Statistics: false
Supports Advanced Queries: false
Use StandardizedQueries: true
Raster Type Infos:
Name: Raster Dataset
Description: Supports all ArcGIS Raster Datasets
Help:
Has Raster Attribute Table: true
Edit Fields Info: null
Ownership Based AccessControl For Rasters: null
Child Resources:
Info
Raster Attribute Table
Statistics
Key Properties
Legend
Raster Function Infos
Supported Operations:
Export Image
Identify
Measure
Compute Histograms
Compute Statistics Histograms
Get Samples
Compute Class Statistics
Query Boundary
Compute Pixel Location
Compute Angles
Validate
Project