View In:
ArcGIS JavaScript
ArcGIS Online Map Viewer
ArcGIS Earth
ArcMap
View Footprint In:
ArcGIS Online Map Viewer
Service Description: Dates of Images:
11/29-12/2/2020
Date of Next Image:
None Expected
Summary:
The eruption of the Lewotolok Volcano on November 29, 2020 pushed ash and aerosols into the atmosphere. Utilizing the OMPS sensor on Suomi-NPP, NASA scientists can measure the sulfur dioxide (SO2) concentration from the eruption. SO2 is often used as a proxy for the location of volcanic ash. High concentrations of SO2 can also be hazardous to human health and air travel.
Suggested Use:
Green to red colors indicate higher sulfur dioxide (SO2) concentrations
Satellite/Sensor:
Suomi-NPP Ozone Mapping Profiler Suite (OMPS)
Resolution:
50 kilometers
Credits:
NASA's Direct Readout Laboratory (DRL)
Esri REST Endpoint:
See URL Section on right side of page
WMS Endpoint:
Data Download:
https://nisds2.sci.gsfc.nasa.gov/mosaics/volcano/2020-11-29_lewotolo/omps/SNPP/
Name: volcano_research/lewotolok_202011_omps_so2
Description: Dates of Images:
11/29-12/2/2020
Date of Next Image:
None Expected
Summary:
The eruption of the Lewotolok Volcano on November 29, 2020 pushed ash and aerosols into the atmosphere. Utilizing the OMPS sensor on Suomi-NPP, NASA scientists can measure the sulfur dioxide (SO2) concentration from the eruption. SO2 is often used as a proxy for the location of volcanic ash. High concentrations of SO2 can also be hazardous to human health and air travel.
Suggested Use:
Green to red colors indicate higher sulfur dioxide (SO2) concentrations
Satellite/Sensor:
Suomi-NPP Ozone Mapping Profiler Suite (OMPS)
Resolution:
50 kilometers
Credits:
NASA's Direct Readout Laboratory (DRL)
Esri REST Endpoint:
See URL Section on right side of page
WMS Endpoint:
Data Download:
https://nisds2.sci.gsfc.nasa.gov/mosaics/volcano/2020-11-29_lewotolo/omps/SNPP/
Single Fused Map Cache: false
Extent:
XMin: 1.32947366606E7
YMin: -3120738.5761
XMax: 1.56447366606E7
YMax: -760738.5761000002
Spatial Reference: 102100
(3857)
Initial Extent:
XMin: 1.32947366606E7
YMin: -3120738.5761
XMax: 1.56447366606E7
YMax: -760738.5761000002
Spatial Reference: 102100
(3857)
Full Extent:
XMin: 1.32947366606E7
YMin: -3120738.5761
XMax: 1.56447366606E7
YMax: -760738.5761000002
Spatial Reference: 102100
(3857)
Time Info:
Start Time Field: Date
End Time Field: Date
Time Extent:
[2020/11/29 11:00:00 UTC, 2020/12/02 12:00:00 UTC]
Time Reference:
N/A
Pixel Size X: 10000.0
Pixel Size Y: 10000.0
Band Count: 4
Pixel Type: U8
RasterFunction Infos: {"rasterFunctionInfos": [{
"name": "None",
"description": "A No-Op Function.",
"help": ""
}]}
Mensuration Capabilities: Basic
Has Histograms: false
Has Colormap: false
Has Multi Dimensions : false
Rendering Rule:
Min Scale: 0
Max Scale: 0
Copyright Text: NASA DRL
Service Data Type: esriImageServiceDataTypeGeneric
Min Values: N/A
Max Values: N/A
Mean Values: N/A
Standard Deviation Values: N/A
Object ID Field: OBJECTID
Fields:
-
OBJECTID
(
type: esriFieldTypeOID, alias: OBJECTID
)
-
Shape
(
type: esriFieldTypeGeometry, alias: Shape
)
-
Name
(
type: esriFieldTypeString, alias: Name, length: 200
)
-
MinPS
(
type: esriFieldTypeDouble, alias: MinPS
)
-
MaxPS
(
type: esriFieldTypeDouble, alias: MaxPS
)
-
LowPS
(
type: esriFieldTypeDouble, alias: LowPS
)
-
HighPS
(
type: esriFieldTypeDouble, alias: HighPS
)
-
Category
(
type: esriFieldTypeInteger, alias: Category
, Coded Values:
[0: Unknown]
, [1: Primary]
, [2: Overview]
, ...6 more...
)
-
Tag
(
type: esriFieldTypeString, alias: Tag, length: 100
)
-
GroupName
(
type: esriFieldTypeString, alias: GroupName, length: 100
)
-
ProductName
(
type: esriFieldTypeString, alias: ProductName, length: 100
)
-
CenterX
(
type: esriFieldTypeDouble, alias: CenterX
)
-
CenterY
(
type: esriFieldTypeDouble, alias: CenterY
)
-
ZOrder
(
type: esriFieldTypeInteger, alias: ZOrder
)
-
Shape_Length
(
type: esriFieldTypeDouble, alias: Shape_Length
)
-
Shape_Area
(
type: esriFieldTypeDouble, alias: Shape_Area
)
-
Date
(
type: esriFieldTypeDate, alias: Date, length: 8
)
Default Mosaic Method: Northwest
Allowed Mosaic Methods: NorthWest,Center,LockRaster,ByAttribute,Nadir,Viewpoint,Seamline,None
SortField:
SortValue: null
Mosaic Operator: First
Default Compression Quality: 75
Default Resampling Method: Nearest
Max Record Count: 1000
Max Image Height: 4100
Max Image Width: 15000
Max Download Image Count: 20
Max Mosaic Image Count: 20
Allow Raster Function: true
Allow Copy: true
Allow Analysis: true
Allow Compute TiePoints: false
Supports Statistics: true
Supports Advanced Queries: true
Use StandardizedQueries: true
Raster Type Infos:
Name: Raster Dataset
Description: Supports all ArcGIS Raster Datasets
Help:
Has Raster Attribute Table: false
Edit Fields Info: null
Ownership Based AccessControl For Rasters: null
Child Resources:
Info
Statistics
Key Properties
Legend
Raster Function Infos
Supported Operations:
Export Image
Query
Identify
Measure
Compute Histograms
Compute Statistics Histograms
Get Samples
Compute Class Statistics
Query Boundary
Compute Pixel Location
Compute Angles
Validate
Project