View In:
  ArcGIS JavaScript
  ArcGIS Online Map Viewer
  ArcGIS Earth
  ArcMap
View Footprint In:
  ArcGIS Online Map Viewer
Service Description:  Summary:
Scientists with the Advanced Rapid Imaging and Analysis project (ARIA), a collaboration between NASA’s Jet Propulsion Laboratory in Pasadena, California, and Caltech, also in Pasadena, using synthetic aperture radar (SAR) data from the European Union’s Copernicus Sentinel-1A satellite, operated by the European Space Agency, generated a map of the deformation of Earth’s surface caused by the November 30, 2018 magnitude 7.0 earthquake beneath the Anchorage area of Alaska, USA. The deformation map is produced from automated interferometric processing of the SAR data using the JPL-Caltech ARIA data system in response to a signal received from the U.S. Geological Survey (USGS). The false-color map shows the amount of permanent surface movement that occurred almost entirely due to the quake, as viewed by the satellite, during a 12-day interval between two Sentinel-1 images acquired on November 22 and Dec. 4, 2018. The map shows that the earthquake fault that slipped was deep and located to the north of the city of Anchorage. Through these maps, NASA and its partners are contributing important observations and expertise that can assist with response to earthquakes and other natural or human-produced hazards. Suggested Use:
From the pattern of deformation in the map, scientists have determined that the earthquake fault slip was on a fault that likely slopes to the west within the subducting Pacific Plate beneath this part of Alaska. The earthquake caused as much as 3 inches (8 centimeters) lowering of the ground surface to the northwest of the mainshock epicenter. The map depicts motion towards the satellite (up and east) in the direction of the radar’s line-of-sight. White areas are places where the radar measurement was not possible. Measurements in the higher elevation areas in the western part and eastern edge of the map also contain errors and are not reliable, largely due to dense forests and snow on the higher elevations that disrupt the radar measurements.
Satellite/Sensor:Copernicus Sentinel-1 Synthetic Aperture Radar (SAR)
Resolution: 30 m
Credits: NASA/JPL-Caltech ARIA Team, Copernicus, ESA
Name:  AK_Earthquake_201811/aria_sentinel1_deformation_20181204
Description:  Summary:
Scientists with the Advanced Rapid Imaging and Analysis project (ARIA), a collaboration between NASA’s Jet Propulsion Laboratory in Pasadena, California, and Caltech, also in Pasadena, using synthetic aperture radar (SAR) data from the European Union’s Copernicus Sentinel-1A satellite, operated by the European Space Agency, generated a map of the deformation of Earth’s surface caused by the November 30, 2018 magnitude 7.0 earthquake beneath the Anchorage area of Alaska, USA. The deformation map is produced from automated interferometric processing of the SAR data using the JPL-Caltech ARIA data system in response to a signal received from the U.S. Geological Survey (USGS). The false-color map shows the amount of permanent surface movement that occurred almost entirely due to the quake, as viewed by the satellite, during a 12-day interval between two Sentinel-1 images acquired on November 22 and Dec. 4, 2018. The map shows that the earthquake fault that slipped was deep and located to the north of the city of Anchorage. Through these maps, NASA and its partners are contributing important observations and expertise that can assist with response to earthquakes and other natural or human-produced hazards. Suggested Use:
From the pattern of deformation in the map, scientists have determined that the earthquake fault slip was on a fault that likely slopes to the west within the subducting Pacific Plate beneath this part of Alaska. The earthquake caused as much as 3 inches (8 centimeters) lowering of the ground surface to the northwest of the mainshock epicenter. The map depicts motion towards the satellite (up and east) in the direction of the radar’s line-of-sight. White areas are places where the radar measurement was not possible. Measurements in the higher elevation areas in the western part and eastern edge of the map also contain errors and are not reliable, largely due to dense forests and snow on the higher elevations that disrupt the radar measurements.
Satellite/Sensor:Copernicus Sentinel-1 Synthetic Aperture Radar (SAR)
Resolution: 30 m
Credits: NASA/JPL-Caltech ARIA Team, Copernicus, ESA
Single Fused Map Cache:  false
Extent: 
XMin: -152.89
YMin: 60.17417
XMax: -148.81556
YMax: 62.10861
Spatial Reference: 4326
 (4326)
Initial Extent:
XMin: -152.89
YMin: 60.17417
XMax: -148.81556
YMax: 62.10861
Spatial Reference: 4326
 (4326)
Full Extent:
XMin: -152.89
YMin: 60.17417
XMax: -148.81556
YMax: 62.10861
Spatial Reference: 4326
 (4326)
Pixel Size X: 8.333892411536063E-4
Pixel Size Y:  8.334510986643698E-4
Band Count: 1
Pixel Type: F32
RasterFunction Infos:  {"rasterFunctionInfos": [
 {
  "name": "aria_ak_deformation",
  "description": "A raster function template.",
  "help": ""
 },
 {
  "name": "None",
  "description": "",
  "help": ""
 }
]}
Mensuration Capabilities: Basic
Has Histograms:  false
Has Colormap:  false
Has Multi Dimensions :  false
Rendering Rule: 
Min Scale:  0
Max Scale:  0
Copyright Text:  NASA/JPL-Caltech, Copernicus, ESA
Service Data Type:  esriImageServiceDataTypeGeneric
Min Values:  N/A
Max Values:  N/A
Mean Values:  N/A
Standard Deviation Values:  N/A
Object ID Field:  
Fields: 
None
Default Mosaic Method:  Center
Allowed Mosaic Methods:  
SortField:  
SortValue:  null
Mosaic Operator:  First
Default Compression Quality:  75
Default Resampling Method:  Bilinear
Max Record Count:  null
Max Image Height:  4100
Max Image Width:  15000
Max Download Image Count:  null
Max Mosaic Image Count:  null
Allow Raster Function:  true
Allow Copy:  true
Allow Analysis:  true
Allow Compute TiePoints:  false
Supports Statistics:  false
Supports Advanced Queries:  false
Use StandardizedQueries:  true
Raster Type Infos: 
Name: Raster Dataset
Description: Supports all ArcGIS Raster Datasets
Help: 
Has Raster Attribute Table: false
Edit Fields Info:  null
Ownership Based AccessControl For Rasters:  null
Child Resources:
  
Info
  Statistics
  Key Properties
  Legend
  Raster Function Infos
Supported Operations:
  
Export Image
  Identify
  Measure
  Compute Histograms
  Compute Statistics Histograms
  Get Samples
  Compute Class Statistics
  Query Boundary
  Compute Pixel Location
  Compute Angles
  Validate
  Project