View In:
  ArcGIS JavaScript
  ArcGIS Online Map Viewer
  ArcGIS Earth
  ArcMap
View Footprint In:
  ArcGIS Online Map Viewer
Service Description:  Purpose/Summary: The visible-wavelength true color RGB digital camera image was taken by astronauts on board the International Space Station on February 2nd, 2019 showing the flood damage that occured as a result of a dam failure on January 25th near Brumadinho, Brazil. This image was manually georeferenced by members of the Earth Science and Remote Sensing Unit at NASA Johnson Space Center.
Suggested Use:
This image provides regional context, and may be useful for visualization of the ongoing event. Higher spatial resolution images may be suitable for spatial analysis to support decision making or research applications.
Sensor: Nikon D5 Electronic Still Camera mounted on the International Space Station
Additional ISS photos of the flooding from the dam collapse can be found at: https://eol.jsc.nasa.gov/WebShare/WebShare.pl?folder=USGS/IDC_Brazil_Dam_Collapse_02FEB2019
Credits: International Space Station Program, NASA Johnson Space Center Earth Science & Remote Sensing Unit, ARES Division, Exploration Integration Science Directorate
Name:  Bruamdinho_Brazil_Dam_Failure_2019/ISS_20190202_133252
Description:  Purpose/Summary: The visible-wavelength true color RGB digital camera image was taken by astronauts on board the International Space Station on February 2nd, 2019 showing the flood damage that occured as a result of a dam failure on January 25th near Brumadinho, Brazil. This image was manually georeferenced by members of the Earth Science and Remote Sensing Unit at NASA Johnson Space Center.
Suggested Use:
This image provides regional context, and may be useful for visualization of the ongoing event. Higher spatial resolution images may be suitable for spatial analysis to support decision making or research applications.
Sensor: Nikon D5 Electronic Still Camera mounted on the International Space Station
Additional ISS photos of the flooding from the dam collapse can be found at: https://eol.jsc.nasa.gov/WebShare/WebShare.pl?folder=USGS/IDC_Brazil_Dam_Collapse_02FEB2019
Credits: International Space Station Program, NASA Johnson Space Center Earth Science & Remote Sensing Unit, ARES Division, Exploration Integration Science Directorate
Single Fused Map Cache:  false
Extent: 
XMin: -44.47570657301655
YMin: -20.328594363709
XMax: -43.535754811928186
YMax: -19.389149042147082
Spatial Reference: 4326
 (4326)
Initial Extent:
XMin: -44.47570657301655
YMin: -20.328594363709
XMax: -43.535754811928186
YMax: -19.389149042147082
Spatial Reference: 4326
 (4326)
Full Extent:
XMin: -44.47570657301655
YMin: -20.328594363709
XMax: -43.535754811928186
YMax: -19.389149042147082
Spatial Reference: 4326
 (4326)
Pixel Size X: 1.688131754828244E-4
Pixel Size Y:  1.688131754828247E-4
Band Count: 3
Pixel Type: U8
RasterFunction Infos:  {"rasterFunctionInfos": [
 {
  "name": "iss_rgb",
  "description": "A raster function template.",
  "help": ""
 },
 {
  "name": "None",
  "description": "",
  "help": ""
 }
]}
Mensuration Capabilities: Basic
Has Histograms:  false
Has Colormap:  false
Has Multi Dimensions :  false
Rendering Rule: 
Min Scale:  0
Max Scale:  0
Copyright Text:  International Space Station Program, NASA JSC Earth Science & Remote Sensing Unit, ARES Division, Exploration Integration Science Direcorate
Service Data Type:  esriImageServiceDataTypeRGB
Min Values:  0, 0, 0
Max Values:  255, 255, 255
Mean Values:  70.994559851709, 84.98200857035, 97.3352503976
Standard Deviation Values:  60.140725775522, 68.852762556812, 77.91159078994
Object ID Field:  
Fields: 
None
Default Mosaic Method:  Center
Allowed Mosaic Methods:  
SortField:  
SortValue:  null
Mosaic Operator:  First
Default Compression Quality:  75
Default Resampling Method:  Bilinear
Max Record Count:  null
Max Image Height:  4100
Max Image Width:  15000
Max Download Image Count:  null
Max Mosaic Image Count:  null
Allow Raster Function:  true
Allow Copy:  true
Allow Analysis:  true
Allow Compute TiePoints:  false
Supports Statistics:  false
Supports Advanced Queries:  false
Use StandardizedQueries:  true
Raster Type Infos: 
Name: Raster Dataset
Description: Supports all ArcGIS Raster Datasets
Help: 
Has Raster Attribute Table: false
Edit Fields Info:  null
Ownership Based AccessControl For Rasters:  null
Child Resources:
  
Info
  Statistics
  Key Properties
  Legend
  Raster Function Infos
Supported Operations:
  
Export Image
  Identify
  Measure
  Compute Histograms
  Compute Statistics Histograms
  Get Samples
  Compute Class Statistics
  Query Boundary
  Compute Pixel Location
  Compute Angles
  Validate
  Project