View In:
ArcGIS JavaScript
ArcGIS Online Map Viewer
ArcGIS Earth
ArcMap
View Footprint In:
ArcGIS Online Map Viewer
Service Description: Date of Imagery: 11/09/2018 Summary: Smoke from forest fires results in poor air quality but also low visibility due to the absorbing properties of soot in the Ultraviolet and Visible parts of the light spectrum. The Nadir payload onboard the Ozone Mapping Profiler Suite instrument (OMPS) on the Suomi NPP satellite is sensitive to the amount of ozone into the atmosphere but also particulate matters that absorb light such as soots in smoke plume. The maps of aerosol index, a relative measurement of aerosol total column in the atmosphere, provides useful information to understand the dispersion of the smoke plume in the atmosphere from the recent Camp and Woolsey fires in California. Altogether, Aerosol Index and backscatter profiles from CALIPSO are used by scientists from the NASA Disaster Program and disseminated to end users such as the US Forest Service to locate smoke plume both horizontally and vertically and improve air quality forecast
Name: CA_fires_2018/omps_aerosol_20181109
Description: Date of Imagery: 11/09/2018 Summary: Smoke from forest fires results in poor air quality but also low visibility due to the absorbing properties of soot in the Ultraviolet and Visible parts of the light spectrum. The Nadir payload onboard the Ozone Mapping Profiler Suite instrument (OMPS) on the Suomi NPP satellite is sensitive to the amount of ozone into the atmosphere but also particulate matters that absorb light such as soots in smoke plume. The maps of aerosol index, a relative measurement of aerosol total column in the atmosphere, provides useful information to understand the dispersion of the smoke plume in the atmosphere from the recent Camp and Woolsey fires in California. Altogether, Aerosol Index and backscatter profiles from CALIPSO are used by scientists from the NASA Disaster Program and disseminated to end users such as the US Forest Service to locate smoke plume both horizontally and vertically and improve air quality forecast
Single Fused Map Cache: false
Extent:
XMin: -136.2169256572222
YMin: 24.69375666550186
XMax: -103.7743813782555
YMax: 46.585880040739546
Spatial Reference: 4326
(4326)
Initial Extent:
XMin: -136.2169256572222
YMin: 24.69375666550186
XMax: -103.7743813782555
YMax: 46.585880040739546
Spatial Reference: 4326
(4326)
Full Extent:
XMin: -136.2169256572222
YMin: 24.69375666550186
XMax: -103.7743813782555
YMax: 46.585880040739546
Spatial Reference: 4326
(4326)
Pixel Size X: 0.04396008709887086
Pixel Size Y: 0.04396008709887086
Band Count: 3
Pixel Type: U8
RasterFunction Infos: {"rasterFunctionInfos": [{
"name": "None",
"description": "",
"help": ""
}]}
Mensuration Capabilities: Basic
Has Histograms: true
Has Colormap: false
Has Multi Dimensions : false
Rendering Rule:
Min Scale: 0
Max Scale: 0
Copyright Text: NASA Disasters Program
Service Data Type: esriImageServiceDataTypeRGB
Min Values: 0, 0, 0
Max Values: 255, 255, 240
Mean Values: 194.21781978863, 189.19152762813, 148.47592810265
Standard Deviation Values: 82.156254885857, 85.993584708619, 81.938961788703
Object ID Field:
Fields:
None
Default Mosaic Method: Center
Allowed Mosaic Methods:
SortField:
SortValue: null
Mosaic Operator: First
Default Compression Quality: 75
Default Resampling Method: Bilinear
Max Record Count: null
Max Image Height: 4100
Max Image Width: 15000
Max Download Image Count: null
Max Mosaic Image Count: null
Allow Raster Function: true
Allow Copy: true
Allow Analysis: true
Allow Compute TiePoints: false
Supports Statistics: false
Supports Advanced Queries: false
Use StandardizedQueries: true
Raster Type Infos:
Name: Raster Dataset
Description: Supports all ArcGIS Raster Datasets
Help:
Has Raster Attribute Table: false
Edit Fields Info: null
Ownership Based AccessControl For Rasters: null
Child Resources:
Info
Histograms
Statistics
Key Properties
Legend
Raster Function Infos
Supported Operations:
Export Image
Identify
Measure
Compute Histograms
Compute Statistics Histograms
Get Samples
Compute Class Statistics
Query Boundary
Compute Pixel Location
Compute Angles
Validate
Project