View In:
ArcGIS JavaScript
ArcGIS Online Map Viewer
ArcGIS Earth
ArcMap
View Footprint In:
ArcGIS Online Map Viewer
Service Description: Date of Imagery:
11/15/2018
Purpose/Summary:
The pre- and post-event images of NASA’s Black Marble product show the lights at night from Los Angeles County and Ventura County, Los Angeles. The images were based on data collected before the wildfires and on November 15, 2018. The NASA Black Marble product suite has been used to assess disruptions in energy infrastructure and utility services following major disasters. The night-time imageries are useful for pre-event and post-event mapping and monitoring of power outages in cloud-free conditions. The Day/Night Band (DNB) sensor of the Visible Infrared Imaging Radiometer Suite (VIIRS), on board the NASA/NOAA Suomi-National Polar-orbiting Partnership (S-NPP) and NASA/NOAA Joint Polar Satellite System (JPSS) satellite platforms, provide daily global measurements of nocturnal visible and near-infrared (NIR) light that are suitable for Earth system science and applications studies. The VIIRS Black Marble product suite detects light in a range of wavelengths from green to near-infrared, including city lights and lights from other activity.
Suggested Use:
Compare pre and post-event imagery to map power outages caused by the wildfires.
Satellite/Sensor: Suomi NPP/VIIRS; 30 m resolution
Credit/Acknowledgements: NASA Black Marble team
Learn more about NASA Black Marble Product Suite: https://viirsland.gsfc.nasa.gov/Products/NASA/BlackMarble.html
Name: CA_fires_2018/woolsey_blackmarblehd_20181115
Description: Date of Imagery:
11/15/2018
Purpose/Summary:
The pre- and post-event images of NASA’s Black Marble product show the lights at night from Los Angeles County and Ventura County, Los Angeles. The images were based on data collected before the wildfires and on November 15, 2018. The NASA Black Marble product suite has been used to assess disruptions in energy infrastructure and utility services following major disasters. The night-time imageries are useful for pre-event and post-event mapping and monitoring of power outages in cloud-free conditions. The Day/Night Band (DNB) sensor of the Visible Infrared Imaging Radiometer Suite (VIIRS), on board the NASA/NOAA Suomi-National Polar-orbiting Partnership (S-NPP) and NASA/NOAA Joint Polar Satellite System (JPSS) satellite platforms, provide daily global measurements of nocturnal visible and near-infrared (NIR) light that are suitable for Earth system science and applications studies. The VIIRS Black Marble product suite detects light in a range of wavelengths from green to near-infrared, including city lights and lights from other activity.
Suggested Use:
Compare pre and post-event imagery to map power outages caused by the wildfires.
Satellite/Sensor: Suomi NPP/VIIRS; 30 m resolution
Credit/Acknowledgements: NASA Black Marble team
Learn more about NASA Black Marble Product Suite: https://viirsland.gsfc.nasa.gov/Products/NASA/BlackMarble.html
Single Fused Map Cache: false
Extent:
XMin: -119.22430419921875
YMin: 34.00081868530833
XMax: -118.56541530300456
YMax: 34.573707580566406
Spatial Reference: 4326
(4326)
Initial Extent:
XMin: -119.22430419921875
YMin: 34.00081868530833
XMax: -118.56541530300456
YMax: 34.573707580566406
Spatial Reference: 4326
(4326)
Full Extent:
XMin: -119.22430419921875
YMin: 34.00081868530833
XMax: -118.56541530300456
YMax: 34.573707580566406
Spatial Reference: 4326
(4326)
Pixel Size X: 1.1111111234640703E-4
Pixel Size Y: 1.1111111234640703E-4
Band Count: 1
Pixel Type: F32
RasterFunction Infos: {"rasterFunctionInfos": [
{
"name": "blackmarbleHD",
"description": "A raster function template.",
"help": ""
},
{
"name": "None",
"description": "",
"help": ""
}
]}
Mensuration Capabilities: Basic
Has Histograms: true
Has Colormap: false
Has Multi Dimensions : false
Rendering Rule:
Min Scale: 0
Max Scale: 0
Copyright Text: NASA Black Marble Team
Service Data Type: esriImageServiceDataTypeGeneric
Min Values: 0
Max Values: 0.98472255468369
Mean Values: 0.09498892157952
Standard Deviation Values: 0.17953828477237
Object ID Field:
Fields:
None
Default Mosaic Method: Center
Allowed Mosaic Methods:
SortField:
SortValue: null
Mosaic Operator: First
Default Compression Quality: 75
Default Resampling Method: Bilinear
Max Record Count: null
Max Image Height: 4100
Max Image Width: 15000
Max Download Image Count: null
Max Mosaic Image Count: null
Allow Raster Function: true
Allow Copy: true
Allow Analysis: true
Allow Compute TiePoints: false
Supports Statistics: false
Supports Advanced Queries: false
Use StandardizedQueries: true
Raster Type Infos:
Name: Raster Dataset
Description: Supports all ArcGIS Raster Datasets
Help:
Has Raster Attribute Table: false
Edit Fields Info: null
Ownership Based AccessControl For Rasters: null
Child Resources:
Info
Histograms
Statistics
Key Properties
Legend
Raster Function Infos
Supported Operations:
Export Image
Identify
Measure
Compute Histograms
Compute Statistics Histograms
Get Samples
Compute Class Statistics
Query Boundary
Compute Pixel Location
Compute Angles
Validate
Project