View In:
ArcGIS JavaScript
ArcGIS Online Map Viewer
ArcGIS Earth
ArcMap
View Footprint In:
ArcGIS Online Map Viewer
Service Description: Purpose/Summary: This Band 532 RGB provides a false composite look at the surface. This product contains imagery from USGS' Landsat 8. Image produced: 09/28/2018
Suggested Usage:
This imagery can be compared to post-event imagery to determine areas where large amounts of soil, sediment, pollution and other debris have swollen rivers, bays, estuaries, and the nearshore ocean. These debris are an important measure of water quality and has important implications for drinking water, aquatic ecosystems and metal transport. Furter inland, rivers appear dark and when viewed next to post-event imagery it can help determine areas of flooding due to Hurricane Florence.
Satellite/Sensor/Resolution:
USGS Landsat-8 Operational Land Imager (OLI); 30m resolution
Credit/Acknowledgments:
NASA, USGS
Name: Hurricance_Florence_2018/L8_532_RGB_07142017
Description: Purpose/Summary: This Band 532 RGB provides a false composite look at the surface. This product contains imagery from USGS' Landsat 8. Image produced: 09/28/2018
Suggested Usage:
This imagery can be compared to post-event imagery to determine areas where large amounts of soil, sediment, pollution and other debris have swollen rivers, bays, estuaries, and the nearshore ocean. These debris are an important measure of water quality and has important implications for drinking water, aquatic ecosystems and metal transport. Furter inland, rivers appear dark and when viewed next to post-event imagery it can help determine areas of flooding due to Hurricane Florence.
Satellite/Sensor/Resolution:
USGS Landsat-8 Operational Land Imager (OLI); 30m resolution
Credit/Acknowledgments:
NASA, USGS
Single Fused Map Cache: false
Extent:
XMin: 239685
YMin: 3711885
XMax: 472515
YMax: 3948915
Spatial Reference: 32618
(32618)
Initial Extent:
XMin: 239685
YMin: 3711885
XMax: 472515
YMax: 3948915
Spatial Reference: 32618
(32618)
Full Extent:
XMin: 239685
YMin: 3711885
XMax: 472515
YMax: 3948915
Spatial Reference: 32618
(32618)
Pixel Size X: 30.0
Pixel Size Y: 30.0
Band Count: 9
Pixel Type: S16
RasterFunction Infos: {"rasterFunctionInfos": [
{
"name": "Landsat_532",
"description": "A raster function template.",
"help": ""
},
{
"name": "None",
"description": "",
"help": ""
}
]}
Mensuration Capabilities: Basic
Has Histograms: true
Has Colormap: false
Has Multi Dimensions : false
Rendering Rule:
Min Scale: 0
Max Scale: 0
Copyright Text: USGS, NASA Disasters Program
Service Data Type: esriImageServiceDataTypeGeneric
Min Values: 0, 0, 0, 0, 0, 0, 0, 0, 0
Max Values: 44579, 45782, 45340, 47763, 52764, 57117, 50924, 47284, 7087
Mean Values: 7704.494576331725, 7006.00010600189, 6105.618092816919, 5491.319369818434, 7409.231114992628, 5791.965548113516, 4817.683210365432, 5878.168849645141, 3427.557188582631
Standard Deviation Values: 5381.825255247777, 4912.23842891709, 4299.586752854134, 3918.941743283902, 7119.560346597078, 4731.307685272076, 3590.533426347011, 4155.606526667268, 2368.2647258846287
Object ID Field:
Fields:
None
Default Mosaic Method: Center
Allowed Mosaic Methods:
SortField:
SortValue: null
Mosaic Operator: First
Default Compression Quality: 75
Default Resampling Method: Bilinear
Max Record Count: null
Max Image Height: 4100
Max Image Width: 15000
Max Download Image Count: null
Max Mosaic Image Count: null
Allow Raster Function: true
Allow Copy: true
Allow Analysis: true
Allow Compute TiePoints: false
Supports Statistics: false
Supports Advanced Queries: false
Use StandardizedQueries: true
Raster Type Infos:
Name: Raster Dataset
Description: Supports all ArcGIS Raster Datasets
Help:
Has Raster Attribute Table: false
Edit Fields Info: null
Ownership Based AccessControl For Rasters: null
Child Resources:
Info
Histograms
Statistics
Key Properties
Legend
Raster Function Infos
Supported Operations:
Export Image
Identify
Measure
Compute Histograms
Compute Statistics Histograms
Get Samples
Compute Class Statistics
Query Boundary
Compute Pixel Location
Compute Angles
Validate
Project