View In:
  ArcGIS JavaScript
  ArcGIS Online Map Viewer
  ArcGIS Earth
  ArcMap
View Footprint In:
  ArcGIS Online Map Viewer
Service Description:  Hurricance_Florence_2018/L8_532_RGB_09192018
Name:  Hurricance_Florence_2018/L8_532_RGB_09192018
Description:  
Single Fused Map Cache:  false
Extent: 
XMin: 239685
YMin: 3711885
XMax: 472815
YMax: 3948915
Spatial Reference: 32618
 (32618)
Initial Extent:
XMin: 239685
YMin: 3711885
XMax: 472815
YMax: 3948915
Spatial Reference: 32618
 (32618)
Full Extent:
XMin: 239685
YMin: 3711885
XMax: 472815
YMax: 3948915
Spatial Reference: 32618
 (32618)
Pixel Size X: 30.0
Pixel Size Y:  30.0
Band Count: 9
Pixel Type: S32
RasterFunction Infos:  {"rasterFunctionInfos": [
 {
  "name": "Landsat_532",
  "description": "A raster function template.",
  "help": ""
 },
 {
  "name": "None",
  "description": "",
  "help": ""
 }
]}
Mensuration Capabilities: Basic
Has Histograms:  true
Has Colormap:  false
Has Multi Dimensions :  false
Rendering Rule: 
Min Scale:  0
Max Scale:  0
Copyright Text:  
Service Data Type:  esriImageServiceDataTypeGeneric
Min Values:  0, 0, 0, 0, 0, 0, 0, 0, 0
Max Values:  39432, 41484, 41936, 44900, 60583, 65535, 65535, 65535, 9777
Mean Values:  6740.3161597748585, 6130.75674892051, 5310.475844957621, 4624.640258483771, 5563.174076976356, 4608.036879544185, 4033.467578003439, 5046.116087822162, 3396.522947214932
Standard Deviation Values:  4698.080485564793, 4288.843087695608, 3737.6098087249497, 3291.3603224542785, 5224.620404635844, 3835.574685058127, 3013.218004510243, 3556.4088526630608, 2351.082315445269
Object ID Field:  
Fields: 
None
Default Mosaic Method:  Center
Allowed Mosaic Methods:  
SortField:  
SortValue:  null
Mosaic Operator:  First
Default Compression Quality:  75
Default Resampling Method:  Bilinear
Max Record Count:  null
Max Image Height:  4100
Max Image Width:  15000
Max Download Image Count:  null
Max Mosaic Image Count:  null
Allow Raster Function:  true
Allow Copy:  true
Allow Analysis:  true
Allow Compute TiePoints:  false
Supports Statistics:  false
Supports Advanced Queries:  false
Use StandardizedQueries:  true
Raster Type Infos: 
Name: Raster Dataset
Description: Supports all ArcGIS Raster Datasets
Help: 
Has Raster Attribute Table: false
Edit Fields Info:  null
Ownership Based AccessControl For Rasters:  null
Child Resources:
  
Info
  Histograms
  Statistics
  Key Properties
  Legend
  Raster Function Infos
Supported Operations:
  
Export Image
  Identify
  Measure
  Compute Histograms
  Compute Statistics Histograms
  Get Samples
  Compute Class Statistics
  Query Boundary
  Compute Pixel Location
  Compute Angles
  Validate
  Project