View In:
ArcGIS JavaScript
ArcGIS Online Map Viewer
ArcGIS Earth
ArcMap
View Footprint In:
ArcGIS Online Map Viewer
Service Description: Purpose/Summary:
Landsat-8 panchromatic images are a single band image (similar to a red, green, or blue band) from the panchromatic band (band 8). The panchromatic band provides a sharper image than the other Landsat bands due to its higher spatial resolution (15m). This product contains imagery from Landsat-8 produced on September 26, 2018.
Suggested Usage:
Surface features such as water, roads, and buildings can be identified. Cloudy areas are seen in bright white. Satellite/Sensor/Resolution:
Landsat-8 Operational Land Imager (OLI); 15 m resolution
Credit/Acknowledgments:
NASA/MSFC, USGS
Name: Hurricance_Florence_2018/L8_panchromatic_20180926
Description: Purpose/Summary:
Landsat-8 panchromatic images are a single band image (similar to a red, green, or blue band) from the panchromatic band (band 8). The panchromatic band provides a sharper image than the other Landsat bands due to its higher spatial resolution (15m). This product contains imagery from Landsat-8 produced on September 26, 2018.
Suggested Usage:
Surface features such as water, roads, and buildings can be identified. Cloudy areas are seen in bright white. Satellite/Sensor/Resolution:
Landsat-8 Operational Land Imager (OLI); 15 m resolution
Credit/Acknowledgments:
NASA/MSFC, USGS
Single Fused Map Cache: false
Extent:
XMin: -79.74885776481388
YMin: 32.10015766811986
XMax: -76.38587729944292
YMax: 37.138693157643864
Spatial Reference: 4326
(4326)
Initial Extent:
XMin: -79.74885776481388
YMin: 32.10015766811986
XMax: -76.38587729944292
YMax: 37.138693157643864
Spatial Reference: 4326
(4326)
Full Extent:
XMin: -79.74885776481388
YMin: 32.10015766811986
XMax: -76.38587729944292
YMax: 37.138693157643864
Spatial Reference: 4326
(4326)
Pixel Size X: 1.521848341646734E-4
Pixel Size Y: 1.5218483416467324E-4
Band Count: 1
Pixel Type: U8
RasterFunction Infos: {"rasterFunctionInfos": [{
"name": "None",
"description": "",
"help": ""
}]}
Mensuration Capabilities: Basic
Has Histograms: false
Has Colormap: false
Has Multi Dimensions : false
Rendering Rule:
Min Scale: 0
Max Scale: 0
Copyright Text:
Service Data Type: esriImageServiceDataTypeGeneric
Min Values: N/A
Max Values: N/A
Mean Values: N/A
Standard Deviation Values: N/A
Object ID Field:
Fields:
None
Default Mosaic Method: Center
Allowed Mosaic Methods:
SortField:
SortValue: null
Mosaic Operator: First
Default Compression Quality: 75
Default Resampling Method: Bilinear
Max Record Count: null
Max Image Height: 4100
Max Image Width: 15000
Max Download Image Count: null
Max Mosaic Image Count: null
Allow Raster Function: true
Allow Copy: true
Allow Analysis: true
Allow Compute TiePoints: false
Supports Statistics: false
Supports Advanced Queries: false
Use StandardizedQueries: true
Raster Type Infos:
Name: Raster Dataset
Description: Supports all ArcGIS Raster Datasets
Help:
Has Raster Attribute Table: false
Edit Fields Info: null
Ownership Based AccessControl For Rasters: null
Child Resources:
Info
Statistics
Key Properties
Legend
Raster Function Infos
Supported Operations:
Export Image
Identify
Measure
Compute Histograms
Compute Statistics Histograms
Get Samples
Compute Class Statistics
Query Boundary
Compute Pixel Location
Compute Angles
Validate
Project