View In:
ArcGIS JavaScript
ArcGIS Online Map Viewer
ArcGIS Earth
ArcMap
View Footprint In:
ArcGIS Online Map Viewer
Service Description: Purpose/Summary:
The preliminary product of Radarsat-2 amplitude based change detection map highlights areas of radar darkening mostly due to flood, as water appears darker compared to land surface. The highlighted areas show 50% lower radar brightness after the storm. These products may contain errors as radar backscatter is not solely dependent on surface water presence. Preliminary error analysis show large commission and omission errors compared to MODIS products, though that is partly due to higher resolution of the radar imagery. The imagery is radiometrically terrain corrected using SRTM 1 arcsec data, and is multilooked by 10 times (in azimuth and in range) resulting in a pixel size of about 30m.
Suggested Usage:
The areas in red show regions with a 50% lower radar backscatter energy after the storm. This identifie locations where potential damage and/or flooding may have occured as a result of Hurricane Michael
Satellite/Sensor:
RADARSAT-2
Credit/Acknowledgements:
Copyright contains modified RADARSAT-2 data, collected through Hazards Data Distribution System (HDDS)-USGS and analyzed by NASA-Goddard Space Flight Center. RADARSAT-2 Data and Products © Maxar Technologies Ltd. (2018) - All Rights Reserved. RADARSAT is an official mark of the Canadian Space Agency.
Name: Hurricane_Michael_2018/radarsat2_20181014
Description: Purpose/Summary:
The preliminary product of Radarsat-2 amplitude based change detection map highlights areas of radar darkening mostly due to flood, as water appears darker compared to land surface. The highlighted areas show 50% lower radar brightness after the storm. These products may contain errors as radar backscatter is not solely dependent on surface water presence. Preliminary error analysis show large commission and omission errors compared to MODIS products, though that is partly due to higher resolution of the radar imagery. The imagery is radiometrically terrain corrected using SRTM 1 arcsec data, and is multilooked by 10 times (in azimuth and in range) resulting in a pixel size of about 30m.
Suggested Usage:
The areas in red show regions with a 50% lower radar backscatter energy after the storm. This identifie locations where potential damage and/or flooding may have occured as a result of Hurricane Michael
Satellite/Sensor:
RADARSAT-2
Credit/Acknowledgements:
Copyright contains modified RADARSAT-2 data, collected through Hazards Data Distribution System (HDDS)-USGS and analyzed by NASA-Goddard Space Flight Center. RADARSAT-2 Data and Products © Maxar Technologies Ltd. (2018) - All Rights Reserved. RADARSAT is an official mark of the Canadian Space Agency.
Single Fused Map Cache: false
Extent:
XMin: -88.32925335152842
YMin: 27.371654621984053
XMax: -82.2090475671542
YMax: 31.09677571139084
Spatial Reference: 4326
(4326)
Initial Extent:
XMin: -88.32925335152842
YMin: 27.371654621984053
XMax: -82.2090475671542
YMax: 31.09677571139084
Spatial Reference: 4326
(4326)
Full Extent:
XMin: -88.32925335152842
YMin: 27.371654621984053
XMax: -82.2090475671542
YMax: 31.09677571139084
Spatial Reference: 4326
(4326)
Pixel Size X: 2.807176306932493E-4
Pixel Size Y: 2.8071748978197343E-4
Band Count: 4
Pixel Type: U8
RasterFunction Infos: {"rasterFunctionInfos": [
{
"name": "radarsat2",
"description": "A raster function template.",
"help": ""
},
{
"name": "None",
"description": "",
"help": ""
}
]}
Mensuration Capabilities: Basic
Has Histograms: false
Has Colormap: false
Has Multi Dimensions : false
Rendering Rule:
Min Scale: 0
Max Scale: 0
Copyright Text: NASA Disasters Program, NASA-GSFC, MDA, Canadian Space Agency
Service Data Type: esriImageServiceDataTypeGeneric
Min Values: N/A
Max Values: N/A
Mean Values: N/A
Standard Deviation Values: N/A
Object ID Field:
Fields:
None
Default Mosaic Method: Center
Allowed Mosaic Methods:
SortField:
SortValue: null
Mosaic Operator: First
Default Compression Quality: 75
Default Resampling Method: Bilinear
Max Record Count: null
Max Image Height: 4100
Max Image Width: 15000
Max Download Image Count: null
Max Mosaic Image Count: null
Allow Raster Function: true
Allow Copy: true
Allow Analysis: true
Allow Compute TiePoints: false
Supports Statistics: false
Supports Advanced Queries: false
Use StandardizedQueries: true
Raster Type Infos:
Name: Raster Dataset
Description: Supports all ArcGIS Raster Datasets
Help:
Has Raster Attribute Table: false
Edit Fields Info: null
Ownership Based AccessControl For Rasters: null
Child Resources:
Info
Statistics
Key Properties
Legend
Raster Function Infos
Supported Operations:
Export Image
Identify
Measure
Compute Histograms
Compute Statistics Histograms
Get Samples
Compute Class Statistics
Query Boundary
Compute Pixel Location
Compute Angles
Validate
Project