View In:
ArcGIS JavaScript
ArcGIS Online Map Viewer
ArcGIS Earth
ArcMap
View Footprint In:
ArcGIS Online Map Viewer
Service Description: Dates of Imagery: Pre-Event: October 6, 2018 (Note: the pre-event data is labeled as 10/9 in the map to make the time slider work properly) Post-Event: October 10-18, 2018 Purpose/Summary: NASA’s Short-term Prediction Research and Transition (SPoRT) Center at Marshall produces false color composites of Suomi-NPP VIIRS instrument day night band (DNB) radiance and infrared cloud and land surface temperatures (M15). DNB imagery is assigned to red and green channels and brightness temperatures to blue shades, allowing a combined display of nighttime lights, fires, reflected moonlight and occasional lightning in shades of yellow (new moon) to white (full moon) along with blue tinting of cloud imagery. This color combination is based upon usage developed by the Naval Research Lab and shared with partners in NOAA’s National Weather Service. Suggested Usage: In this image, city lights appear in bright shades of yellow to white when not obscured by clouds (shades of blue to white). Visual comparisons of pre- and post-event scenes allow for subjective identification of where lights are missing as a result of disaster impacts on local infrastructure that have caused damages to structures or utilities. Satellite/Sensor: Suomi National Polar-Orbiting Partnership (S-NPP) Visible Infrared Imaging Radiometer Suite (VIIRS) use of the day-night band and M15 thermal infrared band. S-NPP is a joint mission between NASA and NOAA. Similar capabilities are available from the NOAA-20 mission. Resolution: 750 m Credit/Acknowledgements: False color RGB products from Suomi-NPP VIIRS were generated by NASA’s Short-term Prediction Research and Transition (SPoRT) Center at Marshall Space Flight Center in Huntsville, Alabama.
Name: Hurricane_Michael_2018/viirs_daynightband
Description: Dates of Imagery: Pre-Event: October 6, 2018 (Note: the pre-event data is labeled as 10/9 in the map to make the time slider work properly) Post-Event: October 10-18, 2018 Purpose/Summary: NASA’s Short-term Prediction Research and Transition (SPoRT) Center at Marshall produces false color composites of Suomi-NPP VIIRS instrument day night band (DNB) radiance and infrared cloud and land surface temperatures (M15). DNB imagery is assigned to red and green channels and brightness temperatures to blue shades, allowing a combined display of nighttime lights, fires, reflected moonlight and occasional lightning in shades of yellow (new moon) to white (full moon) along with blue tinting of cloud imagery. This color combination is based upon usage developed by the Naval Research Lab and shared with partners in NOAA’s National Weather Service. Suggested Usage: In this image, city lights appear in bright shades of yellow to white when not obscured by clouds (shades of blue to white). Visual comparisons of pre- and post-event scenes allow for subjective identification of where lights are missing as a result of disaster impacts on local infrastructure that have caused damages to structures or utilities. Satellite/Sensor: Suomi National Polar-Orbiting Partnership (S-NPP) Visible Infrared Imaging Radiometer Suite (VIIRS) use of the day-night band and M15 thermal infrared band. S-NPP is a joint mission between NASA and NOAA. Similar capabilities are available from the NOAA-20 mission. Resolution: 750 m Credit/Acknowledgements: False color RGB products from Suomi-NPP VIIRS were generated by NASA’s Short-term Prediction Research and Transition (SPoRT) Center at Marshall Space Flight Center in Huntsville, Alabama.
Single Fused Map Cache: false
Extent:
XMin: -149.904052734375
YMin: 14.924054223632815
XMax: -54.08245273437501
YMax: 54.06245422363281
Spatial Reference: 4326
(4326)
Initial Extent:
XMin: -149.904052734375
YMin: 14.924054223632815
XMax: -54.08245273437501
YMax: 54.06245422363281
Spatial Reference: 4326
(4326)
Full Extent:
XMin: -149.904052734375
YMin: 14.924054223632815
XMax: -54.08245273437501
YMax: 54.06245422363281
Spatial Reference: 4326
(4326)
Time Info:
Start Time Field: Date
End Time Field: Date
Time Extent:
[2018/10/09 06:00:00 UTC, 2018/10/18 06:00:00 UTC]
Time Reference:
N/A
Pixel Size X: 0.006748
Pixel Size Y: 0.006748
Band Count: 3
Pixel Type: U8
RasterFunction Infos: {"rasterFunctionInfos": [{
"name": "None",
"description": "A No-Op Function.",
"help": ""
}]}
Mensuration Capabilities: Basic
Has Histograms: false
Has Colormap: false
Has Multi Dimensions : false
Rendering Rule:
Min Scale: 0
Max Scale: 0
Copyright Text: NASA Disasters Program, NASA MSFC-SPoRT
Service Data Type: esriImageServiceDataTypeRGB
Min Values: N/A
Max Values: N/A
Mean Values: N/A
Standard Deviation Values: N/A
Object ID Field: OBJECTID
Fields:
-
OBJECTID
(
type: esriFieldTypeOID, alias: OBJECTID
)
-
Shape
(
type: esriFieldTypeGeometry, alias: Shape
)
-
Name
(
type: esriFieldTypeString, alias: Name, length: 200
)
-
MinPS
(
type: esriFieldTypeDouble, alias: MinPS
)
-
MaxPS
(
type: esriFieldTypeDouble, alias: MaxPS
)
-
LowPS
(
type: esriFieldTypeDouble, alias: LowPS
)
-
HighPS
(
type: esriFieldTypeDouble, alias: HighPS
)
-
Category
(
type: esriFieldTypeInteger, alias: Category
, Coded Values:
[0: Unknown]
, [1: Primary]
, [2: Overview]
, ...6 more...
)
-
Tag
(
type: esriFieldTypeString, alias: Tag, length: 100
)
-
GroupName
(
type: esriFieldTypeString, alias: GroupName, length: 100
)
-
ProductName
(
type: esriFieldTypeString, alias: ProductName, length: 100
)
-
CenterX
(
type: esriFieldTypeDouble, alias: CenterX
)
-
CenterY
(
type: esriFieldTypeDouble, alias: CenterY
)
-
ZOrder
(
type: esriFieldTypeInteger, alias: ZOrder
)
-
Shape_Length
(
type: esriFieldTypeDouble, alias: Shape_Length
)
-
Shape_Area
(
type: esriFieldTypeDouble, alias: Shape_Area
)
-
Date
(
type: esriFieldTypeDate, alias: Date, length: 8
)
Default Mosaic Method: Northwest
Allowed Mosaic Methods: NorthWest,Center,LockRaster,ByAttribute,Nadir,Viewpoint,Seamline,None
SortField:
SortValue: null
Mosaic Operator: First
Default Compression Quality: 75
Default Resampling Method: Bilinear
Max Record Count: 1000
Max Image Height: 4100
Max Image Width: 15000
Max Download Image Count: 20
Max Mosaic Image Count: 20
Allow Raster Function: true
Allow Copy: true
Allow Analysis: true
Allow Compute TiePoints: false
Supports Statistics: true
Supports Advanced Queries: true
Use StandardizedQueries: true
Raster Type Infos:
Name: Raster Dataset
Description: Supports all ArcGIS Raster Datasets
Help:
Has Raster Attribute Table: false
Edit Fields Info: null
Ownership Based AccessControl For Rasters: null
Child Resources:
Info
Statistics
Key Properties
Legend
Raster Function Infos
Supported Operations:
Export Image
Query
Identify
Measure
Compute Histograms
Compute Statistics Histograms
Get Samples
Compute Class Statistics
Query Boundary
Compute Pixel Location
Compute Angles
Validate
Project