View In:
ArcGIS JavaScript
ArcGIS Online Map Viewer
ArcGIS Earth
ArcMap
View Footprint In:
ArcGIS Online Map Viewer
Service Description: Date of Imagery: 10/26/2018
Purpose/Summary: Sentinel-1 Synthetic Aperture Radar (SAR) captured the moment of landfall of the eye of Hurricane Willa on October 26, 2018 UTC. These images are composed of single band "before" (VH polarization) Sentinel 1 SAR data and "during" or immediately "after" SAR data. Suggested Usage:
Land areas that changed to smoother radar reflectivity will be in various shades of red; those that are rougher will appear as blue. Data are provided at their full (~ 10 m) spatial resolution in latitude and longitude projection. These images have no interpretation attached, but are provided immediately here after creation: for end users with processing systems and expertise sufficient to perform their own interpretation of changed areas. Satellite/Sensor: ESA Sentinel-1 Synthetic Aperture Radar (SAR)
Resolution: ~10m
Credits/Acknowledgements: Source data are from Copernicus/ESA Sentinel Synthetic Aperture Radar (SAR); image processing was performed at the Dartmouth Flood Observatory, University of Colorado, with funding support from the NASA Applied Sciences Program.
Name: Hurricane_Willa_2018/dfo_sentinel1_20181026
Description: Date of Imagery: 10/26/2018
Purpose/Summary: Sentinel-1 Synthetic Aperture Radar (SAR) captured the moment of landfall of the eye of Hurricane Willa on October 26, 2018 UTC. These images are composed of single band "before" (VH polarization) Sentinel 1 SAR data and "during" or immediately "after" SAR data. Suggested Usage:
Land areas that changed to smoother radar reflectivity will be in various shades of red; those that are rougher will appear as blue. Data are provided at their full (~ 10 m) spatial resolution in latitude and longitude projection. These images have no interpretation attached, but are provided immediately here after creation: for end users with processing systems and expertise sufficient to perform their own interpretation of changed areas. Satellite/Sensor: ESA Sentinel-1 Synthetic Aperture Radar (SAR)
Resolution: ~10m
Credits/Acknowledgements: Source data are from Copernicus/ESA Sentinel Synthetic Aperture Radar (SAR); image processing was performed at the Dartmouth Flood Observatory, University of Colorado, with funding support from the NASA Applied Sciences Program.
Single Fused Map Cache: false
Extent:
XMin: -107.15204023410335
YMin: 21.11626636147454
XMax: -104.73179428410336
YMax: 23.154323711474536
Spatial Reference: GEOGCS["",DATUM["D_unknown",SPHEROID["unretrievable_using_WGS84",6378137.0,298.257223563]],PRIMEM["Greenwich",0.0],UNIT["Degree",0.0174532925199433]]
Initial Extent:
XMin: -107.15204023410335
YMin: 21.11626636147454
XMax: -104.73179428410336
YMax: 23.154323711474536
Spatial Reference: GEOGCS["",DATUM["D_unknown",SPHEROID["unretrievable_using_WGS84",6378137.0,298.257223563]],PRIMEM["Greenwich",0.0],UNIT["Degree",0.0174532925199433]]
Full Extent:
XMin: -107.15204023410335
YMin: 21.11626636147454
XMax: -104.73179428410336
YMax: 23.154323711474536
Spatial Reference: GEOGCS["",DATUM["D_unknown",SPHEROID["unretrievable_using_WGS84",6378137.0,298.257223563]],PRIMEM["Greenwich",0.0],UNIT["Degree",0.0174532925199433]]
Pixel Size X: 9.394999999999979E-5
Pixel Size Y: 9.394999999999979E-5
Band Count: 3
Pixel Type: U8
RasterFunction Infos: {"rasterFunctionInfos": [{
"name": "None",
"description": "",
"help": ""
}]}
Mensuration Capabilities: Basic
Has Histograms: false
Has Colormap: false
Has Multi Dimensions : false
Rendering Rule:
Min Scale: 0
Max Scale: 0
Copyright Text: Brakenridge, G.R. and Kettner, A.J., October 24, 2018, "DFO Flood Event 4695", Dartmouth Flood Observatory, University of Colorado, Boulder, Colorado, USA, http://floodobservatory.colorado.edu/Events/4695/2018Mexico4695Willa.html. Use of this product should include: "Contains modified Copernicus Sentinel data (2018) processed by ESA"
Service Data Type: esriImageServiceDataTypeRGB
Min Values: N/A
Max Values: N/A
Mean Values: N/A
Standard Deviation Values: N/A
Object ID Field:
Fields:
None
Default Mosaic Method: Center
Allowed Mosaic Methods:
SortField:
SortValue: null
Mosaic Operator: First
Default Compression Quality: 75
Default Resampling Method: Bilinear
Max Record Count: null
Max Image Height: 4100
Max Image Width: 15000
Max Download Image Count: null
Max Mosaic Image Count: null
Allow Raster Function: true
Allow Copy: true
Allow Analysis: true
Allow Compute TiePoints: false
Supports Statistics: false
Supports Advanced Queries: false
Use StandardizedQueries: true
Raster Type Infos:
Name: Raster Dataset
Description: Supports all ArcGIS Raster Datasets
Help:
Has Raster Attribute Table: false
Edit Fields Info: null
Ownership Based AccessControl For Rasters: null
Child Resources:
Info
Statistics
Key Properties
Legend
Raster Function Infos
Supported Operations:
Export Image
Identify
Measure
Compute Histograms
Compute Statistics Histograms
Get Samples
Compute Class Statistics
Query Boundary
Compute Pixel Location
Compute Angles
Validate
Project