View In:
ArcGIS JavaScript
ArcGIS Online Map Viewer
ArcGIS Earth
ArcMap
View Footprint In:
ArcGIS Online Map Viewer
Service Description: Date of Imagery: 10/24/2018 at 01:06:18 UTC
Purpose/Summary: Sentinel-1 Synthetic Aperture Radar (SAR) captured the moment of landfall of the eye of Hurricane Willa on October 24, 2018 at 01:06:18 UTC. These images are composed of single band "before" (VH polarization) Sentinel 1 SAR data and "during" or immediately "after" SAR data. The eye of the hurricane can be seen in the darker cirlce just of of the coast of Mexico surrounded by brighter areas caused by the large, wind-driven waves. Suggested Usage:
Land areas that changed to smoother radar reflectivity will be in various shades of red; those that are rougher will appear as blue. Data are provided at their full (~ 10 m) spatial resolution in latitude and longitude projection. These images have no interpretation attached, but are provided immediately here after creation: for end users with processing systems and expertise sufficient to perform their own interpretation of changed areas. Satellite/Sensor: ESA Sentinel-1 Synthetic Aperture Radar (SAR)
Resolution: ~10m
Credits/Acknowledgements: Source data are from Copernicus/ESA Sentinel Synthetic Aperture Radar (SAR); image processing was performed at the Dartmouth Flood Observatory, University of Colorado, with funding support from the NASA Applied Sciences Program.
Name: Hurricane_Willa_2018/dfo_sentinel1_rgb_20181024
Description: Date of Imagery: 10/24/2018 at 01:06:18 UTC
Purpose/Summary: Sentinel-1 Synthetic Aperture Radar (SAR) captured the moment of landfall of the eye of Hurricane Willa on October 24, 2018 at 01:06:18 UTC. These images are composed of single band "before" (VH polarization) Sentinel 1 SAR data and "during" or immediately "after" SAR data. The eye of the hurricane can be seen in the darker cirlce just of of the coast of Mexico surrounded by brighter areas caused by the large, wind-driven waves. Suggested Usage:
Land areas that changed to smoother radar reflectivity will be in various shades of red; those that are rougher will appear as blue. Data are provided at their full (~ 10 m) spatial resolution in latitude and longitude projection. These images have no interpretation attached, but are provided immediately here after creation: for end users with processing systems and expertise sufficient to perform their own interpretation of changed areas. Satellite/Sensor: ESA Sentinel-1 Synthetic Aperture Radar (SAR)
Resolution: ~10m
Credits/Acknowledgements: Source data are from Copernicus/ESA Sentinel Synthetic Aperture Radar (SAR); image processing was performed at the Dartmouth Flood Observatory, University of Colorado, with funding support from the NASA Applied Sciences Program.
Single Fused Map Cache: false
Extent:
XMin: -1.1887901661899999E7
YMin: 2514595.249272339
XMax: -1.1519685662631761E7
YMax: 3082381.4118999997
Spatial Reference: 102100
(3857)
Initial Extent:
XMin: -1.1887901661899999E7
YMin: 2514595.249272339
XMax: -1.1519685662631761E7
YMax: 3082381.4118999997
Spatial Reference: 102100
(3857)
Full Extent:
XMin: -1.1887901661899999E7
YMin: 2514595.249272339
XMax: -1.1519685662631761E7
YMax: 3082381.4118999997
Spatial Reference: 102100
(3857)
Pixel Size X: 10.771273929157159
Pixel Size Y: 10.771273929157147
Band Count: 3
Pixel Type: U8
RasterFunction Infos: {"rasterFunctionInfos": [{
"name": "None",
"description": "A No-Op Function.",
"help": ""
}]}
Mensuration Capabilities:
Has Histograms: true
Has Colormap: false
Has Multi Dimensions : false
Rendering Rule:
Min Scale: 0
Max Scale: 0
Copyright Text: Brakenridge, G.R. and Kettner, A.J., October 24, 2018, "DFO Flood Event 4695", Dartmouth Flood Observatory, University of Colorado, Boulder, Colorado, USA, http://floodobservatory.colorado.edu/Events/4695/2018Mexico4695Willa.html. Use of this product should include: "Contains modified Copernicus Sentinel data (2018) processed by ESA"
Service Data Type: esriImageServiceDataTypeRGB
Min Values: 0, 0, 0
Max Values: 255, 255, 255
Mean Values: 87.04191816903196, 86.09094865859761, 86.09094865859761
Standard Deviation Values: 56.69717515961507, 55.171595386209844, 55.171595386209844
Object ID Field: OBJECTID
Fields:
-
OBJECTID
(
type: esriFieldTypeOID, alias: OBJECTID
)
-
Shape
(
type: esriFieldTypeGeometry, alias: Shape
)
-
Name
(
type: esriFieldTypeString, alias: Name, length: 200
)
-
MinPS
(
type: esriFieldTypeDouble, alias: MinPS
)
-
MaxPS
(
type: esriFieldTypeDouble, alias: MaxPS
)
-
LowPS
(
type: esriFieldTypeDouble, alias: LowPS
)
-
HighPS
(
type: esriFieldTypeDouble, alias: HighPS
)
-
Category
(
type: esriFieldTypeInteger, alias: Category
, Coded Values:
[0: Unknown]
, [1: Primary]
, [2: Overview]
, ...6 more...
)
-
Tag
(
type: esriFieldTypeString, alias: Tag, length: 100
)
-
GroupName
(
type: esriFieldTypeString, alias: GroupName, length: 100
)
-
ProductName
(
type: esriFieldTypeString, alias: ProductName, length: 100
)
-
CenterX
(
type: esriFieldTypeDouble, alias: CenterX
)
-
CenterY
(
type: esriFieldTypeDouble, alias: CenterY
)
-
ZOrder
(
type: esriFieldTypeInteger, alias: ZOrder
)
-
Shape_Length
(
type: esriFieldTypeDouble, alias: Shape_Length
)
-
Shape_Area
(
type: esriFieldTypeDouble, alias: Shape_Area
)
Default Mosaic Method: Northwest
Allowed Mosaic Methods: NorthWest,Center,LockRaster,ByAttribute,Nadir,Viewpoint,Seamline,None
SortField:
SortValue: null
Mosaic Operator: Max
Default Compression Quality: 75
Default Resampling Method: Bilinear
Max Record Count: 1000
Max Image Height: 4100
Max Image Width: 15000
Max Download Image Count: 20
Max Mosaic Image Count: 20
Allow Raster Function: true
Allow Copy: true
Allow Analysis: true
Allow Compute TiePoints: false
Supports Statistics: true
Supports Advanced Queries: true
Use StandardizedQueries: true
Raster Type Infos:
Name: Raster Dataset
Description: Supports all ArcGIS Raster Datasets
Help:
Has Raster Attribute Table: false
Edit Fields Info: null
Ownership Based AccessControl For Rasters: null
Child Resources:
Info
Histograms
Statistics
Key Properties
Legend
Raster Function Infos
Supported Operations:
Export Image
Query
Identify
Measure
Compute Histograms
Compute Statistics Histograms
Get Samples
Compute Class Statistics
Query Boundary
Compute Pixel Location
Compute Angles
Validate
Project