View In:
  ArcGIS JavaScript
  ArcGIS Online Map Viewer
  ArcGIS Earth
  ArcMap
View Footprint In:
  ArcGIS Online Map Viewer
Service Description:  Purpose/Summary: Inundation Estimate from Global Flood Monitoring System (GFMS) based on surface and river routing models using NASA Global Precipitation Measurement (GPM) Integrated Multi-Satellite Retrievals for GPM (IMERG) precipitation information. GFMS covers the globe from 50N-50S. This product shows the maximum depth and extent of the flooding between 2am and 11pm EDT (8 iterations of this product occur during that time interval).
This product shows the maximum inundation estimate that occured between 10/23/2018 at 12Z and 10/25/2018 at 03Z as a result of Hurricane Willa.
Suggested Usage: This product can be used to estimate flood extent (and depth) and for comparison with other estimates from satellite and ground observations.
Satellite/Sensor:
Model calculations are at 1km resolution and 3-hours; satellite precipitation (GPM IMERG) is input to models at ~12 km and 3-hrs.
Credits/Acknowledgements:
Global Flood Monitoring System (GFMS), University of Maryland
Name:  Hurricane_Willa_2018/gfms_max_inundation_12z20181023_03z20181025
Description:  Purpose/Summary: Inundation Estimate from Global Flood Monitoring System (GFMS) based on surface and river routing models using NASA Global Precipitation Measurement (GPM) Integrated Multi-Satellite Retrievals for GPM (IMERG) precipitation information. GFMS covers the globe from 50N-50S. This product shows the maximum depth and extent of the flooding between 2am and 11pm EDT (8 iterations of this product occur during that time interval).
This product shows the maximum inundation estimate that occured between 10/23/2018 at 12Z and 10/25/2018 at 03Z as a result of Hurricane Willa.
Suggested Usage: This product can be used to estimate flood extent (and depth) and for comparison with other estimates from satellite and ground observations.
Satellite/Sensor:
Model calculations are at 1km resolution and 3-hours; satellite precipitation (GPM IMERG) is input to models at ~12 km and 3-hrs.
Credits/Acknowledgements:
Global Flood Monitoring System (GFMS), University of Maryland
Single Fused Map Cache:  false
Extent: 
XMin: -110.0027335
YMin: 20.9951065
XMax: -97.00793350000001
YMax: 28.983576499999998
Spatial Reference: 4326
 (4326)
Initial Extent:
XMin: -110.0027335
YMin: 20.9951065
XMax: -97.00793350000001
YMax: 28.983576499999998
Spatial Reference: 4326
 (4326)
Full Extent:
XMin: -110.0027335
YMin: 20.9951065
XMax: -97.00793350000001
YMax: 28.983576499999998
Spatial Reference: 4326
 (4326)
Pixel Size X: 0.008329999999999999
Pixel Size Y:  0.008329999999999999
Band Count: 1
Pixel Type: F32
RasterFunction Infos:  {"rasterFunctionInfos": [
 {
  "name": "None",
  "description": "Make a Raster or Raster Dataset into a Function Raster Dataset.",
  "help": ""
 },
 {
  "name": "gfms_nrt_1km",
  "description": "A raster function template.",
  "help": ""
 }
]}
Mensuration Capabilities: Basic
Has Histograms:  false
Has Colormap:  false
Has Multi Dimensions :  false
Rendering Rule: 
Min Scale:  0
Max Scale:  0
Copyright Text:  GFMS, University of Maryland
Service Data Type:  esriImageServiceDataTypeGeneric
Min Values:  N/A
Max Values:  N/A
Mean Values:  N/A
Standard Deviation Values:  N/A
Object ID Field:  
Fields: 
None
Default Mosaic Method:  Center
Allowed Mosaic Methods:  
SortField:  
SortValue:  null
Mosaic Operator:  First
Default Compression Quality:  75
Default Resampling Method:  Nearest
Max Record Count:  null
Max Image Height:  4100
Max Image Width:  15000
Max Download Image Count:  null
Max Mosaic Image Count:  null
Allow Raster Function:  true
Allow Copy:  true
Allow Analysis:  true
Allow Compute TiePoints:  false
Supports Statistics:  false
Supports Advanced Queries:  false
Use StandardizedQueries:  true
Raster Type Infos: 
Name: Raster Dataset
Description: Supports all ArcGIS Raster Datasets
Help: 
Has Raster Attribute Table: false
Edit Fields Info:  null
Ownership Based AccessControl For Rasters:  null
Child Resources:
  
Info
  Statistics
  Key Properties
  Legend
  Raster Function Infos
Supported Operations:
  
Export Image
  Identify
  Measure
  Compute Histograms
  Compute Statistics Histograms
  Get Samples
  Compute Class Statistics
  Query Boundary
  Compute Pixel Location
  Compute Angles
  Validate
  Project