View In:
  ArcGIS JavaScript
  ArcGIS Online Map Viewer
  ArcGIS Earth
  ArcMap
View Footprint In:
  ArcGIS Online Map Viewer
Service Description:  Kilauea_Volcano/ALOS2_Interferogram_20180512_20180120_cropped
Name:  Kilauea_Volcano/ALOS2_Interferogram_20180512_20180120_cropped
Description:  
Single Fused Map Cache:  false
Extent: 
XMin: 171378.78626163997
YMin: 1843685.1144953545
XMax: 378785.2511903778
YMax: 2227956.9320088103
Spatial Reference: 32605
 (32605)
Initial Extent:
XMin: 171378.78626163997
YMin: 1843685.1144953545
XMax: 378785.2511903778
YMax: 2227956.9320088103
Spatial Reference: 32605
 (32605)
Full Extent:
XMin: 171378.78626163997
YMin: 1843685.1144953545
XMax: 378785.2511903778
YMax: 2227956.9320088103
Spatial Reference: 32605
 (32605)
Pixel Size X: 37.41097852249961
Pixel Size Y:  39.08776497949912
Band Count: 4
Pixel Type: U8
RasterFunction Infos:  {"rasterFunctionInfos": [
 {
  "name": "RGB Composite",
  "description": "A raster function template.",
  "help": ""
 },
 {
  "name": "None",
  "description": "",
  "help": ""
 }
]}
Mensuration Capabilities: Basic
Has Histograms:  true
Has Colormap:  false
Has Multi Dimensions :  false
Rendering Rule: 
Min Scale:  0
Max Scale:  0
Copyright Text:  
Service Data Type:  esriImageServiceDataTypeGeneric
Min Values:  0, 0, 0, 0
Max Values:  255, 255, 255, 255
Mean Values:  14.09914942337, 13.383576710703, 13.622864100416, 22.298507305029
Standard Deviation Values:  52.873940548034, 50.446163615281, 51.338416234644, 72.033992197659
Object ID Field:  
Fields: 
None
Default Mosaic Method:  Center
Allowed Mosaic Methods:  
SortField:  
SortValue:  null
Mosaic Operator:  First
Default Compression Quality:  75
Default Resampling Method:  Bilinear
Max Record Count:  null
Max Image Height:  4100
Max Image Width:  15000
Max Download Image Count:  null
Max Mosaic Image Count:  null
Allow Raster Function:  true
Allow Copy:  true
Allow Analysis:  true
Allow Compute TiePoints:  false
Supports Statistics:  false
Supports Advanced Queries:  false
Use StandardizedQueries:  true
Raster Type Infos: 
Name: Raster Dataset
Description: Supports all ArcGIS Raster Datasets
Help: 
Has Raster Attribute Table: false
Edit Fields Info:  null
Ownership Based AccessControl For Rasters:  null
Child Resources:
  
Info
  Histograms
  Statistics
  Key Properties
  Legend
  Raster Function Infos
Supported Operations:
  
Export Image
  Identify
  Measure
  Compute Histograms
  Compute Statistics Histograms
  Get Samples
  Compute Class Statistics
  Query Boundary
  Compute Pixel Location
  Compute Angles
  Validate
  Project